BEGIN:VCALENDAR
VERSION:2.0
PRODID:-//Good Shepherd Lutheran Church - ECPv6.15.20//NONSGML v1.0//EN
CALSCALE:GREGORIAN
METHOD:PUBLISH
X-WR-CALNAME:Good Shepherd Lutheran Church
X-ORIGINAL-URL:https://gslcwi.com
X-WR-CALDESC:Events for Good Shepherd Lutheran Church
REFRESH-INTERVAL;VALUE=DURATION:PT1H
X-Robots-Tag:noindex
X-PUBLISHED-TTL:PT1H
BEGIN:VTIMEZONE
TZID:America/Chicago
BEGIN:DAYLIGHT
TZOFFSETFROM:-0600
TZOFFSETTO:-0500
TZNAME:CDT
DTSTART:20210314T080000
END:DAYLIGHT
BEGIN:STANDARD
TZOFFSETFROM:-0500
TZOFFSETTO:-0600
TZNAME:CST
DTSTART:20211107T070000
END:STANDARD
BEGIN:DAYLIGHT
TZOFFSETFROM:-0600
TZOFFSETTO:-0500
TZNAME:CDT
DTSTART:20220313T080000
END:DAYLIGHT
BEGIN:STANDARD
TZOFFSETFROM:-0500
TZOFFSETTO:-0600
TZNAME:CST
DTSTART:20221106T070000
END:STANDARD
BEGIN:DAYLIGHT
TZOFFSETFROM:-0600
TZOFFSETTO:-0500
TZNAME:CDT
DTSTART:20230312T080000
END:DAYLIGHT
BEGIN:STANDARD
TZOFFSETFROM:-0500
TZOFFSETTO:-0600
TZNAME:CST
DTSTART:20231105T070000
END:STANDARD
END:VTIMEZONE
BEGIN:VEVENT
DTSTART;TZID=America/Chicago:20220205T080000
DTEND;TZID=America/Chicago:20220205T090000
DTSTAMP:20260423T040838
CREATED:20220102T024930Z
LAST-MODIFIED:20220205T090547Z
UID:10008420-1644048000-1644051600@gslcwi.com
SUMMARY:Men's Bible Study Zoom
DESCRIPTION:
URL:https://gslcwi.com/event/mens-bible-study-zoom-38/
LOCATION:Zoom Meeting
END:VEVENT
BEGIN:VEVENT
DTSTART;TZID=America/Chicago:20220205T090000
DTEND;TZID=America/Chicago:20220205T100000
DTSTAMP:20260423T040838
CREATED:20220102T024930Z
LAST-MODIFIED:20220113T202923Z
UID:10008418-1644051600-1644055200@gslcwi.com
SUMMARY:Holy Yoga
DESCRIPTION:
URL:https://gslcwi.com/event/holy-yoga-13/
LOCATION:Verona Lobby
END:VEVENT
BEGIN:VEVENT
DTSTART;TZID=America/Chicago:20220205T090000
DTEND;TZID=America/Chicago:20220205T150000
DTSTAMP:20260423T040838
CREATED:20220102T024930Z
LAST-MODIFIED:20220205T090553Z
UID:10008419-1644051600-1644073200@gslcwi.com
SUMMARY:Russian School
DESCRIPTION:
URL:https://gslcwi.com/event/russian-school-19/
LOCATION:Verona Fellowship Hall; Verona Kitchen; Verona Room 11; Verona Room 7; Verona Room 6; Verona Room 5
END:VEVENT
BEGIN:VEVENT
DTSTART;TZID=America/Chicago:20220205T100000
DTEND;TZID=America/Chicago:20220205T120000
DTSTAMP:20260423T040838
CREATED:20220102T024929Z
LAST-MODIFIED:20220205T090558Z
UID:10008417-1644055200-1644062400@gslcwi.com
SUMMARY:Bhutanese Youth Group
DESCRIPTION:
URL:https://gslcwi.com/event/bhutanese-youth-group-24/
LOCATION:Madison Music Room
END:VEVENT
END:VCALENDAR