BEGIN:VCALENDAR
VERSION:2.0
PRODID:-//Good Shepherd Lutheran Church - ECPv6.15.20//NONSGML v1.0//EN
CALSCALE:GREGORIAN
METHOD:PUBLISH
X-WR-CALNAME:Good Shepherd Lutheran Church
X-ORIGINAL-URL:https://gslcwi.com
X-WR-CALDESC:Events for Good Shepherd Lutheran Church
REFRESH-INTERVAL;VALUE=DURATION:PT1H
X-Robots-Tag:noindex
X-PUBLISHED-TTL:PT1H
BEGIN:VTIMEZONE
TZID:America/Chicago
BEGIN:DAYLIGHT
TZOFFSETFROM:-0600
TZOFFSETTO:-0500
TZNAME:CDT
DTSTART:20210314T080000
END:DAYLIGHT
BEGIN:STANDARD
TZOFFSETFROM:-0500
TZOFFSETTO:-0600
TZNAME:CST
DTSTART:20211107T070000
END:STANDARD
BEGIN:DAYLIGHT
TZOFFSETFROM:-0600
TZOFFSETTO:-0500
TZNAME:CDT
DTSTART:20220313T080000
END:DAYLIGHT
BEGIN:STANDARD
TZOFFSETFROM:-0500
TZOFFSETTO:-0600
TZNAME:CST
DTSTART:20221106T070000
END:STANDARD
BEGIN:DAYLIGHT
TZOFFSETFROM:-0600
TZOFFSETTO:-0500
TZNAME:CDT
DTSTART:20230312T080000
END:DAYLIGHT
BEGIN:STANDARD
TZOFFSETFROM:-0500
TZOFFSETTO:-0600
TZNAME:CST
DTSTART:20231105T070000
END:STANDARD
END:VTIMEZONE
BEGIN:VEVENT
DTSTART;TZID=America/Chicago:20220207T100000
DTEND;TZID=America/Chicago:20220207T120000
DTSTAMP:20260423T170359
CREATED:20220113T202925Z
LAST-MODIFIED:20220203T091456Z
UID:10008441-1644228000-1644235200@gslcwi.com
SUMMARY:Playgroup
DESCRIPTION:
URL:https://gslcwi.com/event/playgroup-16/
LOCATION:Madison Little Blessings Preschool
END:VEVENT
BEGIN:VEVENT
DTSTART;TZID=America/Chicago:20220207T170000
DTEND;TZID=America/Chicago:20220207T210000
DTSTAMP:20260423T170359
CREATED:20220113T202926Z
LAST-MODIFIED:20220128T173729Z
UID:10008442-1644253200-1644267600@gslcwi.com
SUMMARY:Pickleball
DESCRIPTION:
URL:https://gslcwi.com/event/pickleball-31/
LOCATION:Verona Gym
END:VEVENT
BEGIN:VEVENT
DTSTART;TZID=America/Chicago:20220207T180000
DTEND;TZID=America/Chicago:20220207T193000
DTSTAMP:20260423T170359
CREATED:20220128T173728Z
LAST-MODIFIED:20220203T091456Z
UID:10008579-1644256800-1644262200@gslcwi.com
SUMMARY:Generosity Committee
DESCRIPTION:
URL:https://gslcwi.com/event/generosity-committee-4/
LOCATION:Madison Good Shepherd Room
END:VEVENT
BEGIN:VEVENT
DTSTART;TZID=America/Chicago:20220207T180000
DTEND;TZID=America/Chicago:20220207T200000
DTSTAMP:20260423T170359
CREATED:20220129T035318Z
LAST-MODIFIED:20220203T091457Z
UID:10008597-1644256800-1644264000@gslcwi.com
SUMMARY:Pickleball
DESCRIPTION:
URL:https://gslcwi.com/event/pickleball-39/
LOCATION:Verona Gym
END:VEVENT
BEGIN:VEVENT
DTSTART;TZID=America/Chicago:20220207T190000
DTEND;TZID=America/Chicago:20220207T210000
DTSTAMP:20260423T170359
CREATED:20220113T202926Z
LAST-MODIFIED:20220203T091458Z
UID:10008443-1644260400-1644267600@gslcwi.com
SUMMARY:Iglesia Pentecostal
DESCRIPTION:
URL:https://gslcwi.com/event/iglesia-pentecostal-18/
LOCATION:Madison Sanctuary
END:VEVENT
END:VCALENDAR