BEGIN:VCALENDAR
VERSION:2.0
PRODID:-//Good Shepherd Lutheran Church - ECPv6.15.20//NONSGML v1.0//EN
CALSCALE:GREGORIAN
METHOD:PUBLISH
X-ORIGINAL-URL:https://gslcwi.com
X-WR-CALDESC:Events for Good Shepherd Lutheran Church
REFRESH-INTERVAL;VALUE=DURATION:PT1H
X-Robots-Tag:noindex
X-PUBLISHED-TTL:PT1H
BEGIN:VTIMEZONE
TZID:America/Chicago
BEGIN:DAYLIGHT
TZOFFSETFROM:-0600
TZOFFSETTO:-0500
TZNAME:CDT
DTSTART:20210314T080000
END:DAYLIGHT
BEGIN:STANDARD
TZOFFSETFROM:-0500
TZOFFSETTO:-0600
TZNAME:CST
DTSTART:20211107T070000
END:STANDARD
BEGIN:DAYLIGHT
TZOFFSETFROM:-0600
TZOFFSETTO:-0500
TZNAME:CDT
DTSTART:20220313T080000
END:DAYLIGHT
BEGIN:STANDARD
TZOFFSETFROM:-0500
TZOFFSETTO:-0600
TZNAME:CST
DTSTART:20221106T070000
END:STANDARD
BEGIN:DAYLIGHT
TZOFFSETFROM:-0600
TZOFFSETTO:-0500
TZNAME:CDT
DTSTART:20230312T080000
END:DAYLIGHT
BEGIN:STANDARD
TZOFFSETFROM:-0500
TZOFFSETTO:-0600
TZNAME:CST
DTSTART:20231105T070000
END:STANDARD
END:VTIMEZONE
BEGIN:VEVENT
DTSTART;TZID=America/Chicago:20220212T000000
DTEND;TZID=America/Chicago:20220213T130000
DTSTAMP:20260422T072000
CREATED:20220113T234811Z
LAST-MODIFIED:20220213T171825Z
UID:10008478-1644624000-1644757200@gslcwi.com
SUMMARY:Souper Bowl
DESCRIPTION:
URL:https://gslcwi.com/event/souper-bowl-2/
LOCATION:Madison Peterson Hall
END:VEVENT
BEGIN:VEVENT
DTSTART;TZID=America/Chicago:20220213T103000
DTEND;TZID=America/Chicago:20220213T113000
DTSTAMP:20260422T072000
CREATED:20220113T234809Z
LAST-MODIFIED:20220213T171831Z
UID:10008472-1644748200-1644751800@gslcwi.com
SUMMARY:Verona 10:30 Worship
DESCRIPTION:
URL:https://gslcwi.com/event/verona-1030-worship-23/
LOCATION:Verona Sanctuary
END:VEVENT
BEGIN:VEVENT
DTSTART;TZID=America/Chicago:20220213T103000
DTEND;TZID=America/Chicago:20220213T133000
DTSTAMP:20260422T072000
CREATED:20220113T234810Z
LAST-MODIFIED:20220203T091507Z
UID:10008477-1644748200-1644759000@gslcwi.com
SUMMARY:Bhutanese Worship
DESCRIPTION:
URL:https://gslcwi.com/event/bhutanese-worship-24/
LOCATION:Madison Music Room
END:VEVENT
BEGIN:VEVENT
DTSTART;TZID=America/Chicago:20220213T120000
DTEND;TZID=America/Chicago:20220213T140000
DTSTAMP:20260422T072000
CREATED:20220201T102448Z
LAST-MODIFIED:20220213T171836Z
UID:10008600-1644753600-1644760800@gslcwi.com
SUMMARY:Annual Meeting
DESCRIPTION:
URL:https://gslcwi.com/event/annual-meeting/
LOCATION:Verona Sanctuary
END:VEVENT
BEGIN:VEVENT
DTSTART;TZID=America/Chicago:20220213T123000
DTEND;TZID=America/Chicago:20220213T140000
DTSTAMP:20260422T072000
CREATED:20220131T125635Z
LAST-MODIFIED:20220213T171842Z
UID:10008598-1644755400-1644760800@gslcwi.com
SUMMARY:Jubileum Lodge
DESCRIPTION:
URL:https://gslcwi.com/event/jubileum-lodge/
LOCATION:Madison Good Shepherd Room
END:VEVENT
BEGIN:VEVENT
DTSTART;TZID=America/Chicago:20220213T130000
DTEND;TZID=America/Chicago:20220213T150000
DTSTAMP:20260422T072000
CREATED:20220113T234809Z
LAST-MODIFIED:20220201T102450Z
UID:10008473-1644757200-1644764400@gslcwi.com
SUMMARY:Iglesia evangelica el remanente
DESCRIPTION:
URL:https://gslcwi.com/event/iglesia-evangelica-el-remanente-25/
LOCATION:Madison Peterson Hall
END:VEVENT
BEGIN:VEVENT
DTSTART;TZID=America/Chicago:20220213T130000
DTEND;TZID=America/Chicago:20220213T170000
DTSTAMP:20260422T072000
CREATED:20220113T234810Z
LAST-MODIFIED:20220201T102449Z
UID:10008476-1644757200-1644771600@gslcwi.com
SUMMARY:Pickleball
DESCRIPTION:
URL:https://gslcwi.com/event/pickleball-32/
LOCATION:Verona Gym
END:VEVENT
BEGIN:VEVENT
DTSTART;TZID=America/Chicago:20220213T160000
DTEND;TZID=America/Chicago:20220213T173000
DTSTAMP:20260422T072000
CREATED:20220113T234810Z
LAST-MODIFIED:20220201T102449Z
UID:10008475-1644768000-1644773400@gslcwi.com
SUMMARY:4-H Meeting
DESCRIPTION:
URL:https://gslcwi.com/event/4-h-meeting-6/
LOCATION:Verona Fellowship Hall; Verona Room 11
END:VEVENT
BEGIN:VEVENT
DTSTART;TZID=America/Chicago:20220213T170000
DTEND;TZID=America/Chicago:20220213T210000
DTSTAMP:20260422T072000
CREATED:20220113T234810Z
LAST-MODIFIED:20220203T091509Z
UID:10008474-1644771600-1644786000@gslcwi.com
SUMMARY:Iglesia Pentecostal
DESCRIPTION:
URL:https://gslcwi.com/event/iglesia-pentecostal-20/
LOCATION:Madison Sanctuary
END:VEVENT
BEGIN:VEVENT
DTSTART;TZID=America/Chicago:20220213T180000
DTEND;TZID=America/Chicago:20220213T190000
DTSTAMP:20260422T072000
CREATED:20220113T234811Z
LAST-MODIFIED:20220201T102450Z
UID:10008479-1644775200-1644778800@gslcwi.com
SUMMARY:Verona 6:00 Worship
DESCRIPTION:
URL:https://gslcwi.com/event/verona-600-worship-23/
LOCATION:Verona Sanctuary
END:VEVENT
BEGIN:VEVENT
DTSTART;TZID=America/Chicago:20220213T190000
DTEND;TZID=America/Chicago:20220213T203000
DTSTAMP:20260422T072000
CREATED:20220128T204337Z
LAST-MODIFIED:20220201T102450Z
UID:10008581-1644778800-1644784200@gslcwi.com
SUMMARY:Barth Volleyballl
DESCRIPTION:
URL:https://gslcwi.com/event/barth-volleyballl/
LOCATION:Verona Gym
END:VEVENT
END:VCALENDAR