BEGIN:VCALENDAR
VERSION:2.0
PRODID:-//Good Shepherd Lutheran Church - ECPv6.15.20//NONSGML v1.0//EN
CALSCALE:GREGORIAN
METHOD:PUBLISH
X-ORIGINAL-URL:https://gslcwi.com
X-WR-CALDESC:Events for Good Shepherd Lutheran Church
REFRESH-INTERVAL;VALUE=DURATION:PT1H
X-Robots-Tag:noindex
X-PUBLISHED-TTL:PT1H
BEGIN:VTIMEZONE
TZID:America/Chicago
BEGIN:DAYLIGHT
TZOFFSETFROM:-0600
TZOFFSETTO:-0500
TZNAME:CDT
DTSTART:20210314T080000
END:DAYLIGHT
BEGIN:STANDARD
TZOFFSETFROM:-0500
TZOFFSETTO:-0600
TZNAME:CST
DTSTART:20211107T070000
END:STANDARD
BEGIN:DAYLIGHT
TZOFFSETFROM:-0600
TZOFFSETTO:-0500
TZNAME:CDT
DTSTART:20220313T080000
END:DAYLIGHT
BEGIN:STANDARD
TZOFFSETFROM:-0500
TZOFFSETTO:-0600
TZNAME:CST
DTSTART:20221106T070000
END:STANDARD
BEGIN:DAYLIGHT
TZOFFSETFROM:-0600
TZOFFSETTO:-0500
TZNAME:CDT
DTSTART:20230312T080000
END:DAYLIGHT
BEGIN:STANDARD
TZOFFSETFROM:-0500
TZOFFSETTO:-0600
TZNAME:CST
DTSTART:20231105T070000
END:STANDARD
END:VTIMEZONE
BEGIN:VEVENT
DTSTART;TZID=America/Chicago:20220219T080000
DTEND;TZID=America/Chicago:20220219T090000
DTSTAMP:20260425T205111
CREATED:20220118T041258Z
LAST-MODIFIED:20220219T004133Z
UID:10008518-1645257600-1645261200@gslcwi.com
SUMMARY:Men's Bible Study Zoom
DESCRIPTION:
URL:https://gslcwi.com/event/mens-bible-study-zoom-40/
LOCATION:Zoom Meeting
END:VEVENT
BEGIN:VEVENT
DTSTART;TZID=America/Chicago:20220219T090000
DTEND;TZID=America/Chicago:20220219T150000
DTSTAMP:20260425T205111
CREATED:20220118T041259Z
LAST-MODIFIED:20220128T204346Z
UID:10008520-1645261200-1645282800@gslcwi.com
SUMMARY:Russian School
DESCRIPTION:
URL:https://gslcwi.com/event/russian-school-21/
LOCATION:Verona Fellowship Hall; Verona Kitchen; Verona Room 11; Verona Room 7; Verona Room 6; Verona Room 5
END:VEVENT
BEGIN:VEVENT
DTSTART;TZID=America/Chicago:20220219T100000
DTEND;TZID=America/Chicago:20220219T120000
DTSTAMP:20260425T205111
CREATED:20220118T041259Z
LAST-MODIFIED:20220219T004138Z
UID:10008519-1645264800-1645272000@gslcwi.com
SUMMARY:Bhutanese Youth Group
DESCRIPTION:
URL:https://gslcwi.com/event/bhutanese-youth-group-26/
LOCATION:Madison Music Room
END:VEVENT
BEGIN:VEVENT
DTSTART;TZID=America/Chicago:20220219T140000
DTEND;TZID=America/Chicago:20220219T160000
DTSTAMP:20260425T205111
CREATED:20220118T041259Z
LAST-MODIFIED:20220128T204346Z
UID:10008521-1645279200-1645286400@gslcwi.com
SUMMARY:Eagle Scout Ceremony
DESCRIPTION:
URL:https://gslcwi.com/event/eagle-scout-ceremony/
LOCATION:Verona Sanctuary
END:VEVENT
END:VCALENDAR