BEGIN:VCALENDAR
VERSION:2.0
PRODID:-//Good Shepherd Lutheran Church - ECPv6.15.20//NONSGML v1.0//EN
CALSCALE:GREGORIAN
METHOD:PUBLISH
X-ORIGINAL-URL:https://gslcwi.com
X-WR-CALDESC:Events for Good Shepherd Lutheran Church
REFRESH-INTERVAL;VALUE=DURATION:PT1H
X-Robots-Tag:noindex
X-PUBLISHED-TTL:PT1H
BEGIN:VTIMEZONE
TZID:America/Chicago
BEGIN:DAYLIGHT
TZOFFSETFROM:-0600
TZOFFSETTO:-0500
TZNAME:CDT
DTSTART:20210314T080000
END:DAYLIGHT
BEGIN:STANDARD
TZOFFSETFROM:-0500
TZOFFSETTO:-0600
TZNAME:CST
DTSTART:20211107T070000
END:STANDARD
BEGIN:DAYLIGHT
TZOFFSETFROM:-0600
TZOFFSETTO:-0500
TZNAME:CDT
DTSTART:20220313T080000
END:DAYLIGHT
BEGIN:STANDARD
TZOFFSETFROM:-0500
TZOFFSETTO:-0600
TZNAME:CST
DTSTART:20221106T070000
END:STANDARD
BEGIN:DAYLIGHT
TZOFFSETFROM:-0600
TZOFFSETTO:-0500
TZNAME:CDT
DTSTART:20230312T080000
END:DAYLIGHT
BEGIN:STANDARD
TZOFFSETFROM:-0500
TZOFFSETTO:-0600
TZNAME:CST
DTSTART:20231105T070000
END:STANDARD
END:VTIMEZONE
BEGIN:VEVENT
DTSTART;TZID=America/Chicago:20220220T103000
DTEND;TZID=America/Chicago:20220220T113000
DTSTAMP:20260421T091849
CREATED:20220118T041300Z
LAST-MODIFIED:20220128T204346Z
UID:10008525-1645353000-1645356600@gslcwi.com
SUMMARY:Verona 10:30 Worship
DESCRIPTION:
URL:https://gslcwi.com/event/verona-1030-worship-24/
LOCATION:Verona Sanctuary
END:VEVENT
BEGIN:VEVENT
DTSTART;TZID=America/Chicago:20220220T103000
DTEND;TZID=America/Chicago:20220220T133000
DTSTAMP:20260421T091849
CREATED:20220118T041300Z
LAST-MODIFIED:20220128T204347Z
UID:10008524-1645353000-1645363800@gslcwi.com
SUMMARY:Bhutanese Worship
DESCRIPTION:
URL:https://gslcwi.com/event/bhutanese-worship-25/
LOCATION:Madison Music Room
END:VEVENT
BEGIN:VEVENT
DTSTART;TZID=America/Chicago:20220220T130000
DTEND;TZID=America/Chicago:20220220T150000
DTSTAMP:20260421T091849
CREATED:20220118T041300Z
LAST-MODIFIED:20220128T204347Z
UID:10008523-1645362000-1645369200@gslcwi.com
SUMMARY:Iglesia evangelica el remanente
DESCRIPTION:
URL:https://gslcwi.com/event/iglesia-evangelica-el-remanente-27/
LOCATION:Madison Peterson Hall
END:VEVENT
BEGIN:VEVENT
DTSTART;TZID=America/Chicago:20220220T130000
DTEND;TZID=America/Chicago:20220220T170000
DTSTAMP:20260421T091849
CREATED:20220118T041259Z
LAST-MODIFIED:20220128T204347Z
UID:10008522-1645362000-1645376400@gslcwi.com
SUMMARY:Pickleball
DESCRIPTION:
URL:https://gslcwi.com/event/pickleball-34/
LOCATION:Verona Gym
END:VEVENT
BEGIN:VEVENT
DTSTART;TZID=America/Chicago:20220220T170000
DTEND;TZID=America/Chicago:20220220T210000
DTSTAMP:20260421T091849
CREATED:20220118T041301Z
LAST-MODIFIED:20220128T204348Z
UID:10008527-1645376400-1645390800@gslcwi.com
SUMMARY:Iglesia Pentecostal
DESCRIPTION:
URL:https://gslcwi.com/event/iglesia-pentecostal-23/
LOCATION:Madison Sanctuary
END:VEVENT
BEGIN:VEVENT
DTSTART;TZID=America/Chicago:20220220T180000
DTEND;TZID=America/Chicago:20220220T190000
DTSTAMP:20260421T091849
CREATED:20220118T041301Z
LAST-MODIFIED:20220128T204348Z
UID:10008526-1645380000-1645383600@gslcwi.com
SUMMARY:Verona 6:00 Worship
DESCRIPTION:
URL:https://gslcwi.com/event/verona-600-worship-24/
LOCATION:Verona Sanctuary
END:VEVENT
END:VCALENDAR