BEGIN:VCALENDAR
VERSION:2.0
PRODID:-//Good Shepherd Lutheran Church - ECPv6.15.20//NONSGML v1.0//EN
CALSCALE:GREGORIAN
METHOD:PUBLISH
X-WR-CALNAME:Good Shepherd Lutheran Church
X-ORIGINAL-URL:https://gslcwi.com
X-WR-CALDESC:Events for Good Shepherd Lutheran Church
REFRESH-INTERVAL;VALUE=DURATION:PT1H
X-Robots-Tag:noindex
X-PUBLISHED-TTL:PT1H
BEGIN:VTIMEZONE
TZID:America/Chicago
BEGIN:DAYLIGHT
TZOFFSETFROM:-0600
TZOFFSETTO:-0500
TZNAME:CDT
DTSTART:20210314T080000
END:DAYLIGHT
BEGIN:STANDARD
TZOFFSETFROM:-0500
TZOFFSETTO:-0600
TZNAME:CST
DTSTART:20211107T070000
END:STANDARD
BEGIN:DAYLIGHT
TZOFFSETFROM:-0600
TZOFFSETTO:-0500
TZNAME:CDT
DTSTART:20220313T080000
END:DAYLIGHT
BEGIN:STANDARD
TZOFFSETFROM:-0500
TZOFFSETTO:-0600
TZNAME:CST
DTSTART:20221106T070000
END:STANDARD
BEGIN:DAYLIGHT
TZOFFSETFROM:-0600
TZOFFSETTO:-0500
TZNAME:CDT
DTSTART:20230312T080000
END:DAYLIGHT
BEGIN:STANDARD
TZOFFSETFROM:-0500
TZOFFSETTO:-0600
TZNAME:CST
DTSTART:20231105T070000
END:STANDARD
END:VTIMEZONE
BEGIN:VEVENT
DTSTART;TZID=America/Chicago:20220313T103000
DTEND;TZID=America/Chicago:20220313T133000
DTSTAMP:20260419T082144
CREATED:20220223T223624Z
LAST-MODIFIED:20220302T102512Z
UID:10008680-1647167400-1647178200@gslcwi.com
SUMMARY:Bhutanese Worship
DESCRIPTION:
URL:https://gslcwi.com/event/bhutanese-worship-28/
LOCATION:Madison Music Room
END:VEVENT
BEGIN:VEVENT
DTSTART;TZID=America/Chicago:20220313T113000
DTEND;TZID=America/Chicago:20220313T133000
DTSTAMP:20260419T082144
CREATED:20220223T223639Z
LAST-MODIFIED:20220302T102511Z
UID:10008681-1647171000-1647178200@gslcwi.com
SUMMARY:Panzer Baptism Gathering
DESCRIPTION:
URL:https://gslcwi.com/event/panzer-baptism-gathering/
LOCATION:Verona Lobby; Verona Fellowship Hall
END:VEVENT
BEGIN:VEVENT
DTSTART;TZID=America/Chicago:20220313T123000
DTEND;TZID=America/Chicago:20220313T140000
DTSTAMP:20260419T082144
CREATED:20220302T102511Z
LAST-MODIFIED:20220302T102511Z
UID:10008763-1647174600-1647180000@gslcwi.com
SUMMARY:Jubileum Lodge
DESCRIPTION:
URL:https://gslcwi.com/event/jubileum-lodge-2/
LOCATION:Madison Good Shepherd Room
END:VEVENT
BEGIN:VEVENT
DTSTART;TZID=America/Chicago:20220313T130000
DTEND;TZID=America/Chicago:20220313T150000
DTSTAMP:20260419T082144
CREATED:20220223T223639Z
LAST-MODIFIED:20220302T102511Z
UID:10008682-1647176400-1647183600@gslcwi.com
SUMMARY:Iglesia evangelica el remanente
DESCRIPTION:
URL:https://gslcwi.com/event/iglesia-evangelica-el-remanente-33/
LOCATION:Madison Peterson Hall
END:VEVENT
BEGIN:VEVENT
DTSTART;TZID=America/Chicago:20220313T130000
DTEND;TZID=America/Chicago:20220313T170000
DTSTAMP:20260419T082144
CREATED:20220223T223641Z
LAST-MODIFIED:20220302T102511Z
UID:10008685-1647176400-1647190800@gslcwi.com
SUMMARY:Pickleball
DESCRIPTION:
URL:https://gslcwi.com/event/pickleball-43/
LOCATION:Verona Gym
END:VEVENT
BEGIN:VEVENT
DTSTART;TZID=America/Chicago:20220313T160000
DTEND;TZID=America/Chicago:20220313T173000
DTSTAMP:20260419T082144
CREATED:20220223T223640Z
LAST-MODIFIED:20220302T102512Z
UID:10008683-1647187200-1647192600@gslcwi.com
SUMMARY:4-H Meeting
DESCRIPTION:
URL:https://gslcwi.com/event/4-h-meeting-7/
LOCATION:Verona Fellowship Hall; Verona Room 11
END:VEVENT
BEGIN:VEVENT
DTSTART;TZID=America/Chicago:20220313T170000
DTEND;TZID=America/Chicago:20220313T210000
DTSTAMP:20260419T082144
CREATED:20220223T223641Z
LAST-MODIFIED:20220223T223641Z
UID:10008684-1647190800-1647205200@gslcwi.com
SUMMARY:Iglesia Pentecostal
DESCRIPTION:
URL:https://gslcwi.com/event/iglesia-pentecostal-32/
LOCATION:Madison Sanctuary
END:VEVENT
BEGIN:VEVENT
DTSTART;TZID=America/Chicago:20220313T190000
DTEND;TZID=America/Chicago:20220313T203000
DTSTAMP:20260419T082144
CREATED:20220223T223642Z
LAST-MODIFIED:20220302T102512Z
UID:10008686-1647198000-1647203400@gslcwi.com
SUMMARY:Barth Volleyball
DESCRIPTION:
URL:https://gslcwi.com/event/barth-volleyball-7/
LOCATION:Verona Gym
END:VEVENT
END:VCALENDAR