BEGIN:VCALENDAR
VERSION:2.0
PRODID:-//Good Shepherd Lutheran Church - ECPv6.15.20//NONSGML v1.0//EN
CALSCALE:GREGORIAN
METHOD:PUBLISH
X-ORIGINAL-URL:https://gslcwi.com
X-WR-CALDESC:Events for Good Shepherd Lutheran Church
REFRESH-INTERVAL;VALUE=DURATION:PT1H
X-Robots-Tag:noindex
X-PUBLISHED-TTL:PT1H
BEGIN:VTIMEZONE
TZID:America/Chicago
BEGIN:DAYLIGHT
TZOFFSETFROM:-0600
TZOFFSETTO:-0500
TZNAME:CDT
DTSTART:20210314T080000
END:DAYLIGHT
BEGIN:STANDARD
TZOFFSETFROM:-0500
TZOFFSETTO:-0600
TZNAME:CST
DTSTART:20211107T070000
END:STANDARD
BEGIN:DAYLIGHT
TZOFFSETFROM:-0600
TZOFFSETTO:-0500
TZNAME:CDT
DTSTART:20220313T080000
END:DAYLIGHT
BEGIN:STANDARD
TZOFFSETFROM:-0500
TZOFFSETTO:-0600
TZNAME:CST
DTSTART:20221106T070000
END:STANDARD
BEGIN:DAYLIGHT
TZOFFSETFROM:-0600
TZOFFSETTO:-0500
TZNAME:CDT
DTSTART:20230312T080000
END:DAYLIGHT
BEGIN:STANDARD
TZOFFSETFROM:-0500
TZOFFSETTO:-0600
TZNAME:CST
DTSTART:20231105T070000
END:STANDARD
END:VTIMEZONE
BEGIN:VEVENT
DTSTART;TZID=America/Chicago:20220323T100000
DTEND;TZID=America/Chicago:20220323T113000
DTSTAMP:20260421T171303
CREATED:20220223T223848Z
LAST-MODIFIED:20220325T020553Z
UID:10008751-1648029600-1648035000@gslcwi.com
SUMMARY:Holy Yoga
DESCRIPTION:
URL:https://gslcwi.com/event/holy-yoga-24/
LOCATION:Verona Sanctuary
END:VEVENT
BEGIN:VEVENT
DTSTART;TZID=America/Chicago:20220323T100000
DTEND;TZID=America/Chicago:20220323T113000
DTSTAMP:20260421T171303
CREATED:20220325T020559Z
LAST-MODIFIED:20220325T020559Z
UID:10008801-1648029600-1648035000@gslcwi.com
SUMMARY:Staff Meeting
DESCRIPTION:
URL:https://gslcwi.com/event/staff-meeting-10/
LOCATION:Madison Good Shepherd Room
END:VEVENT
BEGIN:VEVENT
DTSTART;TZID=America/Chicago:20220323T120000
DTEND;TZID=America/Chicago:20220323T130000
DTSTAMP:20260421T171303
CREATED:20220303T220941Z
LAST-MODIFIED:20220303T220942Z
UID:10008771-1648036800-1648040400@gslcwi.com
SUMMARY:Mid Week Lenten Prayer Service
DESCRIPTION:Praying Together. In-Person and Online.\nDuring Lent\, we will once again offer a midweek worship service. This contemplative service will feature Marty Haugen’s “Holden Evening Prayer” while we continue to explore our theme: “Things are (not) as they should be” through music\, scripture\, reflections and prayer. Join us Wednesdays at noon at the Madison Campus for in-person worship or join us online at 6:30 p.m.
URL:https://gslcwi.com/event/mid-week-lenten-prayer-service/2022-03-23/
LOCATION:Good Shepherd Verona Campus\, 7291 County Road PD\, Verona\, WI\, 53593\, United States
CATEGORIES:Worship
ATTACH;FMTTYPE=image/jpeg:https://gslcwi.com/wp-content/uploads/2022/03/midweek-worship.jpg
ORGANIZER;CN="Jared Stellmacher":MAILTO:jstellmacher@gslcwi.com
END:VEVENT
BEGIN:VEVENT
DTSTART;TZID=America/Chicago:20220323T120000
DTEND;TZID=America/Chicago:20220323T130000
DTSTAMP:20260421T171303
CREATED:20220325T020610Z
LAST-MODIFIED:20220325T020610Z
UID:10008800-1648036800-1648040400@gslcwi.com
SUMMARY:Mid-week Worship
DESCRIPTION:
URL:https://gslcwi.com/event/mid-week-worship/
LOCATION:Madison Sanctuary
END:VEVENT
BEGIN:VEVENT
DTSTART;TZID=America/Chicago:20220323T123000
DTEND;TZID=America/Chicago:20220323T143000
DTSTAMP:20260421T171303
CREATED:20220223T223849Z
LAST-MODIFIED:20220325T020605Z
UID:10008750-1648038600-1648045800@gslcwi.com
SUMMARY:Grief Group
DESCRIPTION:
URL:https://gslcwi.com/event/grief-group-2/
LOCATION:Madison Good Shepherd Room
END:VEVENT
BEGIN:VEVENT
DTSTART;TZID=America/Chicago:20220323T130000
DTEND;TZID=America/Chicago:20220323T150000
DTSTAMP:20260421T171303
CREATED:20211213T140443Z
LAST-MODIFIED:20211213T140443Z
UID:10008247-1648040400-1648047600@gslcwi.com
SUMMARY:Knitters
DESCRIPTION:This group meets the third Thursday of every month from 1-3 p.m.\, and rotates campuses. This December\, they will meet at Verona Campus. Bring your projects to share or your desire to learn.
URL:https://gslcwi.com/event/knitters/2022-03-23/
LOCATION:Verona Campus\, 7291 County Rd PD\, Verona\, WI\, 53593\, United States
CATEGORIES:Adult Education,Fellowship
ATTACH;FMTTYPE=image/png:https://gslcwi.com/wp-content/uploads/2021/12/knitting.png
END:VEVENT
BEGIN:VEVENT
DTSTART;TZID=America/Chicago:20220323T170000
DTEND;TZID=America/Chicago:20220323T180000
DTSTAMP:20260421T171303
CREATED:20220223T223850Z
LAST-MODIFIED:20220326T051113Z
UID:10008748-1648054800-1648058400@gslcwi.com
SUMMARY:Spirit Jam
DESCRIPTION:
URL:https://gslcwi.com/event/spirit-jam-20/
LOCATION:Verona Music Room
END:VEVENT
BEGIN:VEVENT
DTSTART;TZID=America/Chicago:20220323T170000
DTEND;TZID=America/Chicago:20220323T190000
DTSTAMP:20260421T171303
CREATED:20220223T223849Z
LAST-MODIFIED:20220326T051107Z
UID:10008749-1648054800-1648062000@gslcwi.com
SUMMARY:STOC
DESCRIPTION:
URL:https://gslcwi.com/event/stoc/
LOCATION:Madison Peterson Hall
END:VEVENT
BEGIN:VEVENT
DTSTART;TZID=America/Chicago:20220323T180000
DTEND;TZID=America/Chicago:20220323T200000
DTSTAMP:20260421T171303
CREATED:20211213T140942Z
LAST-MODIFIED:20211213T140942Z
UID:10008268-1648058400-1648065600@gslcwi.com
SUMMARY:Bell and Vocal Choir
DESCRIPTION:Making music is a great way to connect with others\, and there’s plenty of fellowship before and after! Bell choir rehearses at 6 p.m. at Madison and vocal Choir at 7 p.m. All are welcome anytime. Contact Jared Stellmacher for more info!
URL:https://gslcwi.com/event/bell-and-vocal-choir/2022-03-23/
LOCATION:Madison Campus\, 5701 Raymond Rd\, Madison\, WI\, 53711\, United States
CATEGORIES:Adult Education,Community Event,Music
ATTACH;FMTTYPE=image/jpeg:https://gslcwi.com/wp-content/uploads/2021/12/IMG_0101.jpg
ORGANIZER;CN="Jared Stellmacher":MAILTO:jstellmacher@gslcwi.com
END:VEVENT
BEGIN:VEVENT
DTSTART;TZID=America/Chicago:20220323T190000
DTEND;TZID=America/Chicago:20220323T203000
DTSTAMP:20260421T171303
CREATED:20220223T223850Z
LAST-MODIFIED:20220326T051118Z
UID:10008747-1648062000-1648067400@gslcwi.com
SUMMARY:Flute Choir
DESCRIPTION:
URL:https://gslcwi.com/event/flute-choir-26/
LOCATION:Madison Music Room
END:VEVENT
BEGIN:VEVENT
DTSTART;TZID=America/Chicago:20220323T201500
DTEND;TZID=America/Chicago:20220323T213000
DTSTAMP:20260421T171303
CREATED:20220317T144101Z
LAST-MODIFIED:20220317T144101Z
UID:10008812-1648066500-1648071000@gslcwi.com
SUMMARY:(Extra) Youth Group
DESCRIPTION:
URL:https://gslcwi.com/event/extra-youth-group/
LOCATION:Verona Youth Room
CATEGORIES:High School
ORGANIZER;CN="Becca Feldhacker":MAILTO:bmortensen@gslcwi.com
END:VEVENT
END:VCALENDAR