BEGIN:VCALENDAR
VERSION:2.0
PRODID:-//Good Shepherd Lutheran Church - ECPv6.15.20//NONSGML v1.0//EN
CALSCALE:GREGORIAN
METHOD:PUBLISH
X-ORIGINAL-URL:https://gslcwi.com
X-WR-CALDESC:Events for Good Shepherd Lutheran Church
REFRESH-INTERVAL;VALUE=DURATION:PT1H
X-Robots-Tag:noindex
X-PUBLISHED-TTL:PT1H
BEGIN:VTIMEZONE
TZID:America/Chicago
BEGIN:DAYLIGHT
TZOFFSETFROM:-0600
TZOFFSETTO:-0500
TZNAME:CDT
DTSTART:20210314T080000
END:DAYLIGHT
BEGIN:STANDARD
TZOFFSETFROM:-0500
TZOFFSETTO:-0600
TZNAME:CST
DTSTART:20211107T070000
END:STANDARD
BEGIN:DAYLIGHT
TZOFFSETFROM:-0600
TZOFFSETTO:-0500
TZNAME:CDT
DTSTART:20220313T080000
END:DAYLIGHT
BEGIN:STANDARD
TZOFFSETFROM:-0500
TZOFFSETTO:-0600
TZNAME:CST
DTSTART:20221106T070000
END:STANDARD
BEGIN:DAYLIGHT
TZOFFSETFROM:-0600
TZOFFSETTO:-0500
TZNAME:CDT
DTSTART:20230312T080000
END:DAYLIGHT
BEGIN:STANDARD
TZOFFSETFROM:-0500
TZOFFSETTO:-0600
TZNAME:CST
DTSTART:20231105T070000
END:STANDARD
END:VTIMEZONE
BEGIN:VEVENT
DTSTART;TZID=America/Chicago:20220425T170000
DTEND;TZID=America/Chicago:20220425T180000
DTSTAMP:20260419T085757
CREATED:20220419T140315Z
LAST-MODIFIED:20220419T141646Z
UID:10008871-1650906000-1650909600@gslcwi.com
SUMMARY:Christianson Gym
DESCRIPTION:
URL:https://gslcwi.com/event/christianson-gym-6/
LOCATION:Verona Gym
END:VEVENT
BEGIN:VEVENT
DTSTART;TZID=America/Chicago:20220425T180000
DTEND;TZID=America/Chicago:20220425T193000
DTSTAMP:20260419T085757
CREATED:20220419T140347Z
LAST-MODIFIED:20220419T141645Z
UID:10008914-1650909600-1650915000@gslcwi.com
SUMMARY:Finance Committee
DESCRIPTION:
URL:https://gslcwi.com/event/finance-committee-3/
LOCATION:Madison Good Shepherd Room
END:VEVENT
BEGIN:VEVENT
DTSTART;TZID=America/Chicago:20220425T190000
DTEND;TZID=America/Chicago:20220425T203000
DTSTAMP:20260419T085757
CREATED:20220419T140315Z
LAST-MODIFIED:20220419T141644Z
UID:10008872-1650913200-1650918600@gslcwi.com
SUMMARY:Adams Volleyball
DESCRIPTION:
URL:https://gslcwi.com/event/adams-volleyball-6/
LOCATION:Verona Gym
END:VEVENT
END:VCALENDAR