BEGIN:VCALENDAR
VERSION:2.0
PRODID:-//Good Shepherd Lutheran Church - ECPv6.15.20//NONSGML v1.0//EN
CALSCALE:GREGORIAN
METHOD:PUBLISH
X-WR-CALNAME:Good Shepherd Lutheran Church
X-ORIGINAL-URL:https://gslcwi.com
X-WR-CALDESC:Events for Good Shepherd Lutheran Church
REFRESH-INTERVAL;VALUE=DURATION:PT1H
X-Robots-Tag:noindex
X-PUBLISHED-TTL:PT1H
BEGIN:VTIMEZONE
TZID:America/Chicago
BEGIN:DAYLIGHT
TZOFFSETFROM:-0600
TZOFFSETTO:-0500
TZNAME:CDT
DTSTART:20210314T080000
END:DAYLIGHT
BEGIN:STANDARD
TZOFFSETFROM:-0500
TZOFFSETTO:-0600
TZNAME:CST
DTSTART:20211107T070000
END:STANDARD
BEGIN:DAYLIGHT
TZOFFSETFROM:-0600
TZOFFSETTO:-0500
TZNAME:CDT
DTSTART:20220313T080000
END:DAYLIGHT
BEGIN:STANDARD
TZOFFSETFROM:-0500
TZOFFSETTO:-0600
TZNAME:CST
DTSTART:20221106T070000
END:STANDARD
BEGIN:DAYLIGHT
TZOFFSETFROM:-0600
TZOFFSETTO:-0500
TZNAME:CDT
DTSTART:20230312T080000
END:DAYLIGHT
BEGIN:STANDARD
TZOFFSETFROM:-0500
TZOFFSETTO:-0600
TZNAME:CST
DTSTART:20231105T070000
END:STANDARD
END:VTIMEZONE
BEGIN:VEVENT
DTSTART;TZID=America/Chicago:20220515T103000
DTEND;TZID=America/Chicago:20220515T113000
DTSTAMP:20260419T150907
CREATED:20220419T140429Z
LAST-MODIFIED:20220518T144643Z
UID:10008965-1652610600-1652614200@gslcwi.com
SUMMARY:10:30 Worship Service
DESCRIPTION:
URL:https://gslcwi.com/event/1030-worship-service-7/
LOCATION:Verona Sanctuary
END:VEVENT
BEGIN:VEVENT
DTSTART;TZID=America/Chicago:20220515T130000
DTEND;TZID=America/Chicago:20220515T170000
DTSTAMP:20260419T150907
CREATED:20220518T144647Z
LAST-MODIFIED:20220518T144647Z
UID:10009362-1652619600-1652634000@gslcwi.com
SUMMARY:Pickleball
DESCRIPTION:
URL:https://gslcwi.com/event/pickleball-51/
LOCATION:Verona Gym
END:VEVENT
BEGIN:VEVENT
DTSTART;TZID=America/Chicago:20220515T180000
DTEND;TZID=America/Chicago:20220515T190000
DTSTAMP:20260419T150907
CREATED:20220419T140430Z
LAST-MODIFIED:20220419T141930Z
UID:10008966-1652637600-1652641200@gslcwi.com
SUMMARY:Verona 6:00 Worship
DESCRIPTION:
URL:https://gslcwi.com/event/verona-600-worship-30/
LOCATION:Verona Sanctuary
END:VEVENT
END:VCALENDAR