BEGIN:VCALENDAR
VERSION:2.0
PRODID:-//Good Shepherd Lutheran Church - ECPv6.15.20//NONSGML v1.0//EN
CALSCALE:GREGORIAN
METHOD:PUBLISH
X-ORIGINAL-URL:https://gslcwi.com
X-WR-CALDESC:Events for Good Shepherd Lutheran Church
REFRESH-INTERVAL;VALUE=DURATION:PT1H
X-Robots-Tag:noindex
X-PUBLISHED-TTL:PT1H
BEGIN:VTIMEZONE
TZID:America/Chicago
BEGIN:DAYLIGHT
TZOFFSETFROM:-0600
TZOFFSETTO:-0500
TZNAME:CDT
DTSTART:20210314T080000
END:DAYLIGHT
BEGIN:STANDARD
TZOFFSETFROM:-0500
TZOFFSETTO:-0600
TZNAME:CST
DTSTART:20211107T070000
END:STANDARD
BEGIN:DAYLIGHT
TZOFFSETFROM:-0600
TZOFFSETTO:-0500
TZNAME:CDT
DTSTART:20220313T080000
END:DAYLIGHT
BEGIN:STANDARD
TZOFFSETFROM:-0500
TZOFFSETTO:-0600
TZNAME:CST
DTSTART:20221106T070000
END:STANDARD
BEGIN:DAYLIGHT
TZOFFSETFROM:-0600
TZOFFSETTO:-0500
TZNAME:CDT
DTSTART:20230312T080000
END:DAYLIGHT
BEGIN:STANDARD
TZOFFSETFROM:-0500
TZOFFSETTO:-0600
TZNAME:CST
DTSTART:20231105T070000
END:STANDARD
END:VTIMEZONE
BEGIN:VEVENT
DTSTART;TZID=America/Chicago:20220624T063000
DTEND;TZID=America/Chicago:20220624T073000
DTSTAMP:20260423T155608
CREATED:20220419T141325Z
LAST-MODIFIED:20220624T050700Z
UID:10009115-1656052200-1656055800@gslcwi.com
SUMMARY:Friday Morning Men's Group
DESCRIPTION:
URL:https://gslcwi.com/event/friday-morning-mens-group-55/
LOCATION:Verona Coffee Bar
END:VEVENT
BEGIN:VEVENT
DTSTART;TZID=America/Chicago:20220624T070000
DTEND;TZID=America/Chicago:20220624T220000
DTSTAMP:20260423T155608
CREATED:20220419T141324Z
LAST-MODIFIED:20220624T050706Z
UID:10009114-1656054000-1656108000@gslcwi.com
SUMMARY:Intern Room
DESCRIPTION:
URL:https://gslcwi.com/event/intern-room-18/
LOCATION:Verona Room 7
END:VEVENT
BEGIN:VEVENT
DTSTART;TZID=America/Chicago:20220624T074500
DTEND;TZID=America/Chicago:20220624T090000
DTSTAMP:20260423T155608
CREATED:20211205T215943Z
LAST-MODIFIED:20211212T222717Z
UID:10026018-1656056700-1656061200@gslcwi.com
SUMMARY:Live at 7:45
DESCRIPTION:Join us every other Friday morning at 7:45 a.m. via Zoom! This way\, your kitchen table and favorite mug are nearby! This group reads an array of books on scripture\, spirituality and religious culture. Email Sarah McCormack for information and the Zoom link.
URL:https://gslcwi.com/event/live-at-745/2022-06-24/
CATEGORIES:Adult Education,Fellowship
ATTACH;FMTTYPE=image/jpeg:https://gslcwi.com/wp-content/uploads/2021/12/360_F_281619240_RQEKhn42utSujfr3pZPxGVk9gtEaGtUX.jpg
END:VEVENT
BEGIN:VEVENT
DTSTART;TZID=America/Chicago:20220624T093000
DTEND;TZID=America/Chicago:20220624T130000
DTSTAMP:20260423T155608
CREATED:20220624T050712Z
LAST-MODIFIED:20220624T050712Z
UID:10009420-1656063000-1656075600@gslcwi.com
SUMMARY:New Bridge Meals
DESCRIPTION:
URL:https://gslcwi.com/event/new-bridge-meals-57/
LOCATION:Madison Kitchen; Madison Peterson Hall
END:VEVENT
BEGIN:VEVENT
DTSTART;TZID=America/Chicago:20220624T183000
DTEND;TZID=America/Chicago:20220624T210000
DTSTAMP:20260423T155608
CREATED:20220624T050719Z
LAST-MODIFIED:20220624T050719Z
UID:10009421-1656095400-1656104400@gslcwi.com
SUMMARY:Boy Scouts
DESCRIPTION:
URL:https://gslcwi.com/event/boy-scouts-60/
LOCATION:Verona Fellowship Hall
END:VEVENT
END:VCALENDAR