BEGIN:VCALENDAR
VERSION:2.0
PRODID:-//Good Shepherd Lutheran Church - ECPv6.15.20//NONSGML v1.0//EN
CALSCALE:GREGORIAN
METHOD:PUBLISH
X-ORIGINAL-URL:https://gslcwi.com
X-WR-CALDESC:Events for Good Shepherd Lutheran Church
REFRESH-INTERVAL;VALUE=DURATION:PT1H
X-Robots-Tag:noindex
X-PUBLISHED-TTL:PT1H
BEGIN:VTIMEZONE
TZID:America/Chicago
BEGIN:DAYLIGHT
TZOFFSETFROM:-0600
TZOFFSETTO:-0500
TZNAME:CDT
DTSTART:20210314T080000
END:DAYLIGHT
BEGIN:STANDARD
TZOFFSETFROM:-0500
TZOFFSETTO:-0600
TZNAME:CST
DTSTART:20211107T070000
END:STANDARD
BEGIN:DAYLIGHT
TZOFFSETFROM:-0600
TZOFFSETTO:-0500
TZNAME:CDT
DTSTART:20220313T080000
END:DAYLIGHT
BEGIN:STANDARD
TZOFFSETFROM:-0500
TZOFFSETTO:-0600
TZNAME:CST
DTSTART:20221106T070000
END:STANDARD
BEGIN:DAYLIGHT
TZOFFSETFROM:-0600
TZOFFSETTO:-0500
TZNAME:CDT
DTSTART:20230312T080000
END:DAYLIGHT
BEGIN:STANDARD
TZOFFSETFROM:-0500
TZOFFSETTO:-0600
TZNAME:CST
DTSTART:20231105T070000
END:STANDARD
END:VTIMEZONE
BEGIN:VEVENT
DTSTART;TZID=America/Chicago:20220719T180000
DTEND;TZID=America/Chicago:20220719T193000
DTSTAMP:20260425T191920
CREATED:20220419T141618Z
LAST-MODIFIED:20220719T134342Z
UID:10009190-1658253600-1658259000@gslcwi.com
SUMMARY:Rise Up Night
DESCRIPTION:Celebrate both the sacred and the silly together with friends in completed Kindergarten through 4th grade. We’ll connect with each other and Christ through food\, games\, goofiness and prayer. Outdoors at Verona Campus July 19\, 6:00-7:30pm. Verona Campus $10/per child. Click here to register: https://goodshep.breezechms.com/form/summercamp20205479
URL:https://gslcwi.com/event/rise-up-night-2/
LOCATION:Verona Tent; Verona Lobby
ATTACH;FMTTYPE=image/jpeg:https://gslcwi.com/wp-content/uploads/2022/04/20210629_190015-2048x1536-1.jpg
END:VEVENT
END:VCALENDAR