BEGIN:VCALENDAR
VERSION:2.0
PRODID:-//Good Shepherd Lutheran Church - ECPv6.15.20//NONSGML v1.0//EN
CALSCALE:GREGORIAN
METHOD:PUBLISH
X-WR-CALNAME:Good Shepherd Lutheran Church
X-ORIGINAL-URL:https://gslcwi.com
X-WR-CALDESC:Events for Good Shepherd Lutheran Church
REFRESH-INTERVAL;VALUE=DURATION:PT1H
X-Robots-Tag:noindex
X-PUBLISHED-TTL:PT1H
BEGIN:VTIMEZONE
TZID:America/Chicago
BEGIN:DAYLIGHT
TZOFFSETFROM:-0600
TZOFFSETTO:-0500
TZNAME:CDT
DTSTART:20210314T080000
END:DAYLIGHT
BEGIN:STANDARD
TZOFFSETFROM:-0500
TZOFFSETTO:-0600
TZNAME:CST
DTSTART:20211107T070000
END:STANDARD
BEGIN:DAYLIGHT
TZOFFSETFROM:-0600
TZOFFSETTO:-0500
TZNAME:CDT
DTSTART:20220313T080000
END:DAYLIGHT
BEGIN:STANDARD
TZOFFSETFROM:-0500
TZOFFSETTO:-0600
TZNAME:CST
DTSTART:20221106T070000
END:STANDARD
BEGIN:DAYLIGHT
TZOFFSETFROM:-0600
TZOFFSETTO:-0500
TZNAME:CDT
DTSTART:20230312T080000
END:DAYLIGHT
BEGIN:STANDARD
TZOFFSETFROM:-0500
TZOFFSETTO:-0600
TZNAME:CST
DTSTART:20231105T070000
END:STANDARD
END:VTIMEZONE
BEGIN:VEVENT
DTSTART;TZID=America/Chicago:20220801T170000
DTEND;TZID=America/Chicago:20220801T190000
DTSTAMP:20260422T234356
CREATED:20220720T183721Z
LAST-MODIFIED:20220721T205640Z
UID:10009507-1659373200-1659380400@gslcwi.com
SUMMARY:Music Monday | University of Wisconsin Marching Band
DESCRIPTION:Enjoy an evening of timeless classics played by members of the University of Wisconsin Marching Band at our Madison Campus. The Holy COW will be curbside serving a fresh pay-what-you can meal from 5:300-6:30 p.m. Invite a friend to this special “Fifth Quarter” event! Accessible for all ages.
URL:https://gslcwi.com/event/music-monday-university-of-wisconsin-marching-band/
CATEGORIES:Holy COW
ATTACH;FMTTYPE=image/jpeg:https://gslcwi.com/wp-content/uploads/2022/07/MusicMonday2022.jpg
END:VEVENT
BEGIN:VEVENT
DTSTART;TZID=America/Chicago:20220804T173000
DTEND;TZID=America/Chicago:20220804T183000
DTSTAMP:20260422T234356
CREATED:20220727T162207Z
LAST-MODIFIED:20220727T162208Z
UID:10009623-1659634200-1659637800@gslcwi.com
SUMMARY:Worship with the COW at Meister Park
DESCRIPTION:Follow the COW this summer as we spend Thursday evenings in local parks\, eating and worshipping.  We’ll be at Meister Park in Verona\, sharing a delicious meal followed by a short worship experience. Worship will include Faith Footprints as well as prayer\, reflection and conversation. Accessible for all ages! Bring a chair\, a blanket and a friend.
URL:https://gslcwi.com/event/worship-with-the-cow-at-meister-park/2022-08-04/
CATEGORIES:Holy COW
END:VEVENT
BEGIN:VEVENT
DTSTART;TZID=America/Chicago:20220808T090000
DTEND;TZID=America/Chicago:20220811T120000
DTSTAMP:20260422T234356
CREATED:20220802T153353Z
LAST-MODIFIED:20220802T153623Z
UID:10009659-1659949200-1660219200@gslcwi.com
SUMMARY:Camp Create-It
DESCRIPTION:Explore your God given creative gifts. If you love to craft\, cook\, be in nature\, try messy experiments or just plain CREATE\, this is the space to experiment with some hands-on creations. August 1-4\, 9:00-12:00pm\, Verona Campus $60/per child \nClick here to register.
URL:https://gslcwi.com/event/camp-create-it-2/
CATEGORIES:Children's Ministry
ATTACH;FMTTYPE=image/jpeg:https://gslcwi.com/wp-content/uploads/2022/08/CampCreate-It_gslc_ak_20190808-251.jpg
END:VEVENT
BEGIN:VEVENT
DTSTART;TZID=America/Chicago:20220811T173000
DTEND;TZID=America/Chicago:20220811T183000
DTSTAMP:20260422T234356
CREATED:20220727T162207Z
LAST-MODIFIED:20220727T162208Z
UID:10009624-1660239000-1660242600@gslcwi.com
SUMMARY:Worship with the COW at Meister Park
DESCRIPTION:Follow the COW this summer as we spend Thursday evenings in local parks\, eating and worshipping.  We’ll be at Meister Park in Verona\, sharing a delicious meal followed by a short worship experience. Worship will include Faith Footprints as well as prayer\, reflection and conversation. Accessible for all ages! Bring a chair\, a blanket and a friend.
URL:https://gslcwi.com/event/worship-with-the-cow-at-meister-park/2022-08-11/
CATEGORIES:Holy COW
END:VEVENT
BEGIN:VEVENT
DTSTART;TZID=America/Chicago:20220818T173000
DTEND;TZID=America/Chicago:20220818T183000
DTSTAMP:20260422T234356
CREATED:20220727T162207Z
LAST-MODIFIED:20220727T162208Z
UID:10009625-1660843800-1660847400@gslcwi.com
SUMMARY:Worship with the COW at Meister Park
DESCRIPTION:Follow the COW this summer as we spend Thursday evenings in local parks\, eating and worshipping.  We’ll be at Meister Park in Verona\, sharing a delicious meal followed by a short worship experience. Worship will include Faith Footprints as well as prayer\, reflection and conversation. Accessible for all ages! Bring a chair\, a blanket and a friend.
URL:https://gslcwi.com/event/worship-with-the-cow-at-meister-park/2022-08-18/
CATEGORIES:Holy COW
END:VEVENT
BEGIN:VEVENT
DTSTART;TZID=America/Chicago:20220825T173000
DTEND;TZID=America/Chicago:20220825T183000
DTSTAMP:20260422T234356
CREATED:20220727T162207Z
LAST-MODIFIED:20220727T162208Z
UID:10009626-1661448600-1661452200@gslcwi.com
SUMMARY:Worship with the COW at Meister Park
DESCRIPTION:Follow the COW this summer as we spend Thursday evenings in local parks\, eating and worshipping.  We’ll be at Meister Park in Verona\, sharing a delicious meal followed by a short worship experience. Worship will include Faith Footprints as well as prayer\, reflection and conversation. Accessible for all ages! Bring a chair\, a blanket and a friend.
URL:https://gslcwi.com/event/worship-with-the-cow-at-meister-park/2022-08-25/
CATEGORIES:Holy COW
END:VEVENT
END:VCALENDAR