BEGIN:VCALENDAR
VERSION:2.0
PRODID:-//Good Shepherd Lutheran Church - ECPv6.15.20//NONSGML v1.0//EN
CALSCALE:GREGORIAN
METHOD:PUBLISH
X-ORIGINAL-URL:https://gslcwi.com
X-WR-CALDESC:Events for Good Shepherd Lutheran Church
REFRESH-INTERVAL;VALUE=DURATION:PT1H
X-Robots-Tag:noindex
X-PUBLISHED-TTL:PT1H
BEGIN:VTIMEZONE
TZID:America/Chicago
BEGIN:DAYLIGHT
TZOFFSETFROM:-0600
TZOFFSETTO:-0500
TZNAME:CDT
DTSTART:20210314T080000
END:DAYLIGHT
BEGIN:STANDARD
TZOFFSETFROM:-0500
TZOFFSETTO:-0600
TZNAME:CST
DTSTART:20211107T070000
END:STANDARD
BEGIN:DAYLIGHT
TZOFFSETFROM:-0600
TZOFFSETTO:-0500
TZNAME:CDT
DTSTART:20220313T080000
END:DAYLIGHT
BEGIN:STANDARD
TZOFFSETFROM:-0500
TZOFFSETTO:-0600
TZNAME:CST
DTSTART:20221106T070000
END:STANDARD
BEGIN:DAYLIGHT
TZOFFSETFROM:-0600
TZOFFSETTO:-0500
TZNAME:CDT
DTSTART:20230312T080000
END:DAYLIGHT
BEGIN:STANDARD
TZOFFSETFROM:-0500
TZOFFSETTO:-0600
TZNAME:CST
DTSTART:20231105T070000
END:STANDARD
END:VTIMEZONE
BEGIN:VEVENT
DTSTART;TZID=America/Chicago:20220911T090000
DTEND;TZID=America/Chicago:20220911T100000
DTSTAMP:20260421T230304
CREATED:20220730T011657Z
LAST-MODIFIED:20220910T214454Z
UID:10009643-1662886800-1662890400@gslcwi.com
SUMMARY:9:00 Worship Service
DESCRIPTION:
URL:https://gslcwi.com/event/900-worship-service-14/
LOCATION:Madison Sanctuary
END:VEVENT
BEGIN:VEVENT
DTSTART;TZID=America/Chicago:20220911T103000
DTEND;TZID=America/Chicago:20220911T113000
DTSTAMP:20260421T230304
CREATED:20220730T011658Z
LAST-MODIFIED:20220910T214454Z
UID:10009644-1662892200-1662895800@gslcwi.com
SUMMARY:10:30 Worship Service
DESCRIPTION:
URL:https://gslcwi.com/event/1030-worship-service-24/
LOCATION:Verona Sanctuary
END:VEVENT
BEGIN:VEVENT
DTSTART;TZID=America/Chicago:20220911T103000
DTEND;TZID=America/Chicago:20220911T120000
DTSTAMP:20260421T230304
CREATED:20220902T012302Z
LAST-MODIFIED:20220910T214454Z
UID:10009830-1662892200-1662897600@gslcwi.com
SUMMARY:God's Hands and Feet
DESCRIPTION:
URL:https://gslcwi.com/event/gods-hands-and-feet-3/
LOCATION:Madison Kitchen; Madison Peterson Hall
END:VEVENT
BEGIN:VEVENT
DTSTART;TZID=America/Chicago:20220911T130000
DTEND;TZID=America/Chicago:20220911T143000
DTSTAMP:20260421T230304
CREATED:20220909T140513Z
LAST-MODIFIED:20220910T214455Z
UID:10009858-1662901200-1662906600@gslcwi.com
SUMMARY:Pickleball
DESCRIPTION:
URL:https://gslcwi.com/event/pickleball-68/
LOCATION:Verona Gym
END:VEVENT
BEGIN:VEVENT
DTSTART;TZID=America/Chicago:20220911T130000
DTEND;TZID=America/Chicago:20220911T150000
DTSTAMP:20260421T230304
CREATED:20220730T011658Z
LAST-MODIFIED:20220910T214455Z
UID:10009645-1662901200-1662908400@gslcwi.com
SUMMARY:Iglesia evangelica el remanente
DESCRIPTION:
URL:https://gslcwi.com/event/iglesia-evangelica-el-remanente-56/
LOCATION:Madison Peterson Hall
END:VEVENT
BEGIN:VEVENT
DTSTART;TZID=America/Chicago:20220911T133000
DTEND;TZID=America/Chicago:20220911T153000
DTSTAMP:20260421T230304
CREATED:20220830T174844Z
LAST-MODIFIED:20220925T214127Z
UID:10009805-1662903000-1662910200@gslcwi.com
SUMMARY:Jubileum Lodge
DESCRIPTION:
URL:https://gslcwi.com/event/jubileum-lodge-3/
LOCATION:Madison Good Shepherd Room
END:VEVENT
BEGIN:VEVENT
DTSTART;TZID=America/Chicago:20220911T133000
DTEND;TZID=America/Chicago:20220911T153000
DTSTAMP:20260421T230304
CREATED:20220830T174845Z
LAST-MODIFIED:20220905T185342Z
UID:10009806-1662903000-1662910200@gslcwi.com
SUMMARY:Jubileum Lodge
DESCRIPTION:
URL:https://gslcwi.com/event/jubileum-lodge-4/
LOCATION:Madison Good Shepherd Room
END:VEVENT
BEGIN:VEVENT
DTSTART;TZID=America/Chicago:20220911T143000
DTEND;TZID=America/Chicago:20220911T173000
DTSTAMP:20260421T230304
CREATED:20220730T011659Z
LAST-MODIFIED:20220910T214455Z
UID:10009646-1662906600-1662917400@gslcwi.com
SUMMARY:Ignite Volleyball
DESCRIPTION:
URL:https://gslcwi.com/event/ignite-volleyball-17/
LOCATION:Verona Gym
END:VEVENT
BEGIN:VEVENT
DTSTART;TZID=America/Chicago:20220911T160000
DTEND;TZID=America/Chicago:20220911T170000
DTSTAMP:20260421T230304
CREATED:20220907T083055Z
LAST-MODIFIED:20220910T214456Z
UID:10009848-1662912000-1662915600@gslcwi.com
SUMMARY:4-H Meeting
DESCRIPTION:
URL:https://gslcwi.com/event/4-h-meeting-9/
LOCATION:Verona Coffee Bar
END:VEVENT
BEGIN:VEVENT
DTSTART;TZID=America/Chicago:20220911T163000
DTEND;TZID=America/Chicago:20220911T180000
DTSTAMP:20260421T230304
CREATED:20220817T104009Z
LAST-MODIFIED:20220910T214456Z
UID:10009734-1662913800-1662919200@gslcwi.com
SUMMARY:Team World Vision Dinner
DESCRIPTION:
URL:https://gslcwi.com/event/team-world-vision-dinner/
LOCATION:Verona Fellowship Hall
END:VEVENT
END:VCALENDAR