BEGIN:VCALENDAR
VERSION:2.0
PRODID:-//Good Shepherd Lutheran Church - ECPv6.15.20//NONSGML v1.0//EN
CALSCALE:GREGORIAN
METHOD:PUBLISH
X-ORIGINAL-URL:https://gslcwi.com
X-WR-CALDESC:Events for Good Shepherd Lutheran Church
REFRESH-INTERVAL;VALUE=DURATION:PT1H
X-Robots-Tag:noindex
X-PUBLISHED-TTL:PT1H
BEGIN:VTIMEZONE
TZID:America/Chicago
BEGIN:DAYLIGHT
TZOFFSETFROM:-0600
TZOFFSETTO:-0500
TZNAME:CDT
DTSTART:20210314T080000
END:DAYLIGHT
BEGIN:STANDARD
TZOFFSETFROM:-0500
TZOFFSETTO:-0600
TZNAME:CST
DTSTART:20211107T070000
END:STANDARD
BEGIN:DAYLIGHT
TZOFFSETFROM:-0600
TZOFFSETTO:-0500
TZNAME:CDT
DTSTART:20220313T080000
END:DAYLIGHT
BEGIN:STANDARD
TZOFFSETFROM:-0500
TZOFFSETTO:-0600
TZNAME:CST
DTSTART:20221106T070000
END:STANDARD
BEGIN:DAYLIGHT
TZOFFSETFROM:-0600
TZOFFSETTO:-0500
TZNAME:CDT
DTSTART:20230312T080000
END:DAYLIGHT
BEGIN:STANDARD
TZOFFSETFROM:-0500
TZOFFSETTO:-0600
TZNAME:CST
DTSTART:20231105T070000
END:STANDARD
END:VTIMEZONE
BEGIN:VEVENT
DTSTART;TZID=America/Chicago:20220928T083000
DTEND;TZID=America/Chicago:20220928T100000
DTSTAMP:20260422T072232
CREATED:20220913T035932Z
LAST-MODIFIED:20220925T214057Z
UID:10009882-1664353800-1664359200@gslcwi.com
SUMMARY:Pickleball
DESCRIPTION:
URL:https://gslcwi.com/event/pickleball-73/
LOCATION:Verona Gym
END:VEVENT
BEGIN:VEVENT
DTSTART;TZID=America/Chicago:20220928T083000
DTEND;TZID=America/Chicago:20220928T100000
DTSTAMP:20260422T072232
CREATED:20220927T002023Z
LAST-MODIFIED:20220927T002023Z
UID:10009958-1664353800-1664359200@gslcwi.com
SUMMARY:Pickleball
DESCRIPTION:
URL:https://gslcwi.com/event/pickleball-82/
LOCATION:Verona Gym
END:VEVENT
BEGIN:VEVENT
DTSTART;TZID=America/Chicago:20220928T083000
DTEND;TZID=America/Chicago:20220928T100000
DTSTAMP:20260422T072232
CREATED:20220928T023343Z
LAST-MODIFIED:20220928T023343Z
UID:10010157-1664353800-1664359200@gslcwi.com
SUMMARY:Pickleball
DESCRIPTION:
URL:https://gslcwi.com/event/pickleball-96/
LOCATION:Verona Gym
END:VEVENT
BEGIN:VEVENT
DTSTART;TZID=America/Chicago:20220928T083000
DTEND;TZID=America/Chicago:20220928T100000
DTSTAMP:20260422T072232
CREATED:20220928T105735Z
LAST-MODIFIED:20220928T105735Z
UID:10010167-1664353800-1664359200@gslcwi.com
SUMMARY:Pickleball
DESCRIPTION:
URL:https://gslcwi.com/event/pickleball-97/
LOCATION:Verona Gym
END:VEVENT
BEGIN:VEVENT
DTSTART;TZID=America/Chicago:20220928T100000
DTEND;TZID=America/Chicago:20220928T110000
DTSTAMP:20260422T072232
CREATED:20220928T105741Z
LAST-MODIFIED:20220928T105741Z
UID:10010168-1664359200-1664362800@gslcwi.com
SUMMARY:Holy Yoga
DESCRIPTION:
URL:https://gslcwi.com/event/holy-yoga-46/
LOCATION:Verona Sanctuary
END:VEVENT
BEGIN:VEVENT
DTSTART;TZID=America/Chicago:20220928T120000
DTEND;TZID=America/Chicago:20220928T133000
DTSTAMP:20260422T072232
CREATED:20220928T105747Z
LAST-MODIFIED:20220928T105747Z
UID:10010169-1664366400-1664371800@gslcwi.com
SUMMARY:Bible Study
DESCRIPTION:
URL:https://gslcwi.com/event/bible-study-32/
LOCATION:Madison Good Shepherd Room
END:VEVENT
BEGIN:VEVENT
DTSTART;TZID=America/Chicago:20220928T120000
DTEND;TZID=America/Chicago:20220928T133000
DTSTAMP:20260422T072232
CREATED:20221027T205844Z
LAST-MODIFIED:20221027T205844Z
UID:10010500-1664366400-1664371800@gslcwi.com
SUMMARY:Bible Study
DESCRIPTION:
URL:https://gslcwi.com/event/bible-study-42/
LOCATION:Madison Good Shepherd Room
END:VEVENT
BEGIN:VEVENT
DTSTART;TZID=America/Chicago:20220928T120000
DTEND;TZID=America/Chicago:20220928T133000
DTSTAMP:20260422T072232
CREATED:20221027T210017Z
LAST-MODIFIED:20221027T210017Z
UID:10010501-1664366400-1664371800@gslcwi.com
SUMMARY:Bible Study
DESCRIPTION:
URL:https://gslcwi.com/event/bible-study-43/
LOCATION:Madison Good Shepherd Room
END:VEVENT
BEGIN:VEVENT
DTSTART;TZID=America/Chicago:20220928T160000
DTEND;TZID=America/Chicago:20220928T173000
DTSTAMP:20260422T072232
CREATED:20221027T205837Z
LAST-MODIFIED:20221027T205837Z
UID:10010499-1664380800-1664386200@gslcwi.com
SUMMARY:Literacy Network
DESCRIPTION:
URL:https://gslcwi.com/event/literacy-network-73/
LOCATION:Madison Good Shepherd Room
END:VEVENT
BEGIN:VEVENT
DTSTART;TZID=America/Chicago:20220928T160000
DTEND;TZID=America/Chicago:20220928T173000
DTSTAMP:20260422T072232
CREATED:20221027T210038Z
LAST-MODIFIED:20221027T210038Z
UID:10010502-1664380800-1664386200@gslcwi.com
SUMMARY:Literacy Network
DESCRIPTION:
URL:https://gslcwi.com/event/literacy-network-74/
LOCATION:Madison Good Shepherd Room
END:VEVENT
BEGIN:VEVENT
DTSTART;TZID=America/Chicago:20220928T180000
DTEND;TZID=America/Chicago:20220928T190000
DTSTAMP:20260422T072232
CREATED:20220928T105806Z
LAST-MODIFIED:20220928T105806Z
UID:10010172-1664388000-1664391600@gslcwi.com
SUMMARY:Bells Rehearsal
DESCRIPTION:
URL:https://gslcwi.com/event/bells-rehearsal-16/
LOCATION:Madison Sanctuary
END:VEVENT
BEGIN:VEVENT
DTSTART;TZID=America/Chicago:20220928T180000
DTEND;TZID=America/Chicago:20220928T190000
DTSTAMP:20260422T072232
CREATED:20221027T205829Z
LAST-MODIFIED:20221027T205829Z
UID:10010498-1664388000-1664391600@gslcwi.com
SUMMARY:Bells Rehearsal
DESCRIPTION:
URL:https://gslcwi.com/event/bells-rehearsal-29/
LOCATION:Madison Sanctuary
END:VEVENT
BEGIN:VEVENT
DTSTART;TZID=America/Chicago:20220928T180000
DTEND;TZID=America/Chicago:20220928T200000
DTSTAMP:20260422T072232
CREATED:20211213T140942Z
LAST-MODIFIED:20211213T140942Z
UID:10008295-1664388000-1664395200@gslcwi.com
SUMMARY:Bell and Vocal Choir
DESCRIPTION:Making music is a great way to connect with others\, and there’s plenty of fellowship before and after! Bell choir rehearses at 6 p.m. at Madison and vocal Choir at 7 p.m. All are welcome anytime. Contact Jared Stellmacher for more info!
URL:https://gslcwi.com/event/bell-and-vocal-choir/2022-09-28/
LOCATION:Madison Campus\, 5701 Raymond Rd\, Madison\, WI\, 53711\, United States
CATEGORIES:Adult Education,Community Event,Music
ATTACH;FMTTYPE=image/jpeg:https://gslcwi.com/wp-content/uploads/2021/12/IMG_0101.jpg
ORGANIZER;CN="Jared Stellmacher":MAILTO:jstellmacher@gslcwi.com
END:VEVENT
BEGIN:VEVENT
DTSTART;TZID=America/Chicago:20220928T180000
DTEND;TZID=America/Chicago:20220928T200000
DTSTAMP:20260422T072232
CREATED:20221027T205810Z
LAST-MODIFIED:20221027T205810Z
UID:10010497-1664388000-1664395200@gslcwi.com
SUMMARY:Amped
DESCRIPTION:
URL:https://gslcwi.com/event/amped-87/
LOCATION:Verona Coffee Bar; Verona Fellowship Hall; Verona Gym; Verona Kitchen; Verona Sanctuary; Verona Youth Room
END:VEVENT
BEGIN:VEVENT
DTSTART;TZID=America/Chicago:20220928T181500
DTEND;TZID=America/Chicago:20220928T200000
DTSTAMP:20260422T072232
CREATED:20220809T005112Z
LAST-MODIFIED:20220925T214059Z
UID:10009689-1664388900-1664395200@gslcwi.com
SUMMARY:Amped
DESCRIPTION:
URL:https://gslcwi.com/event/amped-62/
LOCATION:Verona Coffee Bar; Verona Fellowship Hall; Verona Gym; Verona Kitchen; Verona Sanctuary; Verona Youth Room
CATEGORIES:AMPED Confirmation
END:VEVENT
BEGIN:VEVENT
DTSTART;TZID=America/Chicago:20220928T190000
DTEND;TZID=America/Chicago:20220928T203000
DTSTAMP:20260422T072232
CREATED:20220928T023421Z
LAST-MODIFIED:20220928T023421Z
UID:10010163-1664391600-1664397000@gslcwi.com
SUMMARY:Choir Rehearsal
DESCRIPTION:
URL:https://gslcwi.com/event/choir-rehearsal-47/
LOCATION:Madison Sanctuary
END:VEVENT
BEGIN:VEVENT
DTSTART;TZID=America/Chicago:20220928T190000
DTEND;TZID=America/Chicago:20220928T203000
DTSTAMP:20260422T072232
CREATED:20220928T105800Z
LAST-MODIFIED:20220928T105800Z
UID:10010171-1664391600-1664397000@gslcwi.com
SUMMARY:Choir Rehearsal
DESCRIPTION:
URL:https://gslcwi.com/event/choir-rehearsal-48/
LOCATION:Madison Sanctuary
END:VEVENT
END:VCALENDAR