BEGIN:VCALENDAR
VERSION:2.0
PRODID:-//Good Shepherd Lutheran Church - ECPv6.15.20//NONSGML v1.0//EN
CALSCALE:GREGORIAN
METHOD:PUBLISH
X-ORIGINAL-URL:https://gslcwi.com
X-WR-CALDESC:Events for Good Shepherd Lutheran Church
REFRESH-INTERVAL;VALUE=DURATION:PT1H
X-Robots-Tag:noindex
X-PUBLISHED-TTL:PT1H
BEGIN:VTIMEZONE
TZID:America/Chicago
BEGIN:DAYLIGHT
TZOFFSETFROM:-0600
TZOFFSETTO:-0500
TZNAME:CDT
DTSTART:20210314T080000
END:DAYLIGHT
BEGIN:STANDARD
TZOFFSETFROM:-0500
TZOFFSETTO:-0600
TZNAME:CST
DTSTART:20211107T070000
END:STANDARD
BEGIN:DAYLIGHT
TZOFFSETFROM:-0600
TZOFFSETTO:-0500
TZNAME:CDT
DTSTART:20220313T080000
END:DAYLIGHT
BEGIN:STANDARD
TZOFFSETFROM:-0500
TZOFFSETTO:-0600
TZNAME:CST
DTSTART:20221106T070000
END:STANDARD
BEGIN:DAYLIGHT
TZOFFSETFROM:-0600
TZOFFSETTO:-0500
TZNAME:CDT
DTSTART:20230312T080000
END:DAYLIGHT
BEGIN:STANDARD
TZOFFSETFROM:-0500
TZOFFSETTO:-0600
TZNAME:CST
DTSTART:20231105T070000
END:STANDARD
END:VTIMEZONE
BEGIN:VEVENT
DTSTART;TZID=America/Chicago:20220930T063000
DTEND;TZID=America/Chicago:20220930T073000
DTSTAMP:20260419T122421
CREATED:20220419T142136Z
LAST-MODIFIED:20220925T214103Z
UID:10009334-1664519400-1664523000@gslcwi.com
SUMMARY:Friday Morning Men's Group
DESCRIPTION:
URL:https://gslcwi.com/event/friday-morning-mens-group-69/
LOCATION:Verona Coffee Bar
END:VEVENT
BEGIN:VEVENT
DTSTART;TZID=America/Chicago:20220930T074500
DTEND;TZID=America/Chicago:20220930T090000
DTSTAMP:20260419T122421
CREATED:20211205T215943Z
LAST-MODIFIED:20211212T222717Z
UID:10025961-1664523900-1664528400@gslcwi.com
SUMMARY:Live at 7:45
DESCRIPTION:Join us every other Friday morning at 7:45 a.m. via Zoom! This way\, your kitchen table and favorite mug are nearby! This group reads an array of books on scripture\, spirituality and religious culture. Email Sarah McCormack for information and the Zoom link.
URL:https://gslcwi.com/event/live-at-745/2022-09-30/
CATEGORIES:Adult Education,Fellowship
ATTACH;FMTTYPE=image/jpeg:https://gslcwi.com/wp-content/uploads/2021/12/360_F_281619240_RQEKhn42utSujfr3pZPxGVk9gtEaGtUX.jpg
END:VEVENT
BEGIN:VEVENT
DTSTART;TZID=America/Chicago:20220930T093000
DTEND;TZID=America/Chicago:20220930T130000
DTSTAMP:20260419T122421
CREATED:20220810T005830Z
LAST-MODIFIED:20220925T214103Z
UID:10009691-1664530200-1664542800@gslcwi.com
SUMMARY:New Bridge Meals
DESCRIPTION:
URL:https://gslcwi.com/event/new-bridge-meals-70/
LOCATION:Madison Kitchen; Madison Peterson Hall
END:VEVENT
BEGIN:VEVENT
DTSTART;TZID=America/Chicago:20220930T093000
DTEND;TZID=America/Chicago:20220930T130000
DTSTAMP:20260419T122421
CREATED:20220928T105909Z
LAST-MODIFIED:20220928T105909Z
UID:10010182-1664530200-1664542800@gslcwi.com
SUMMARY:New Bridge Meals
DESCRIPTION:
URL:https://gslcwi.com/event/new-bridge-meals-80/
LOCATION:Madison Kitchen; Madison Peterson Hall
END:VEVENT
BEGIN:VEVENT
DTSTART;TZID=America/Chicago:20220930T153000
DTEND;TZID=America/Chicago:20220930T170000
DTSTAMP:20260419T122421
CREATED:20220830T175105Z
LAST-MODIFIED:20220925T214104Z
UID:10009814-1664551800-1664557200@gslcwi.com
SUMMARY:Adams Volleyball
DESCRIPTION:
URL:https://gslcwi.com/event/adams-volleyball-32/
LOCATION:Verona Gym
END:VEVENT
BEGIN:VEVENT
DTSTART;TZID=America/Chicago:20220930T153000
DTEND;TZID=America/Chicago:20220930T170000
DTSTAMP:20260419T122421
CREATED:20221028T142643Z
LAST-MODIFIED:20221028T142643Z
UID:10010505-1664551800-1664557200@gslcwi.com
SUMMARY:Adams Volleyball
DESCRIPTION:
URL:https://gslcwi.com/event/adams-volleyball-56/
LOCATION:Verona Gym
END:VEVENT
END:VCALENDAR