BEGIN:VCALENDAR
VERSION:2.0
PRODID:-//Good Shepherd Lutheran Church - ECPv6.15.20//NONSGML v1.0//EN
CALSCALE:GREGORIAN
METHOD:PUBLISH
X-WR-CALNAME:Good Shepherd Lutheran Church
X-ORIGINAL-URL:https://gslcwi.com
X-WR-CALDESC:Events for Good Shepherd Lutheran Church
REFRESH-INTERVAL;VALUE=DURATION:PT1H
X-Robots-Tag:noindex
X-PUBLISHED-TTL:PT1H
BEGIN:VTIMEZONE
TZID:America/Chicago
BEGIN:DAYLIGHT
TZOFFSETFROM:-0600
TZOFFSETTO:-0500
TZNAME:CDT
DTSTART:20210314T080000
END:DAYLIGHT
BEGIN:STANDARD
TZOFFSETFROM:-0500
TZOFFSETTO:-0600
TZNAME:CST
DTSTART:20211107T070000
END:STANDARD
BEGIN:DAYLIGHT
TZOFFSETFROM:-0600
TZOFFSETTO:-0500
TZNAME:CDT
DTSTART:20220313T080000
END:DAYLIGHT
BEGIN:STANDARD
TZOFFSETFROM:-0500
TZOFFSETTO:-0600
TZNAME:CST
DTSTART:20221106T070000
END:STANDARD
BEGIN:DAYLIGHT
TZOFFSETFROM:-0600
TZOFFSETTO:-0500
TZNAME:CDT
DTSTART:20230312T080000
END:DAYLIGHT
BEGIN:STANDARD
TZOFFSETFROM:-0500
TZOFFSETTO:-0600
TZNAME:CST
DTSTART:20231105T070000
END:STANDARD
END:VTIMEZONE
BEGIN:VEVENT
DTSTART;TZID=America/Chicago:20221011T090000
DTEND;TZID=America/Chicago:20221011T120000
DTSTAMP:20260425T190723
CREATED:20220819T140825Z
LAST-MODIFIED:20220925T214131Z
UID:10009747-1665478800-1665489600@gslcwi.com
SUMMARY:Quilters
DESCRIPTION:
URL:https://gslcwi.com/event/quilters-38/
LOCATION:Verona Fellowship Hall
END:VEVENT
BEGIN:VEVENT
DTSTART;TZID=America/Chicago:20221011T090000
DTEND;TZID=America/Chicago:20221011T120000
DTSTAMP:20260425T190723
CREATED:20220927T002901Z
LAST-MODIFIED:20220927T002901Z
UID:10010041-1665478800-1665489600@gslcwi.com
SUMMARY:Quilters
DESCRIPTION:
URL:https://gslcwi.com/event/quilters-42/
LOCATION:Verona Fellowship Hall
END:VEVENT
BEGIN:VEVENT
DTSTART;TZID=America/Chicago:20221011T090000
DTEND;TZID=America/Chicago:20221011T120000
DTSTAMP:20260425T190723
CREATED:20220928T110612Z
LAST-MODIFIED:20220928T110612Z
UID:10010250-1665478800-1665489600@gslcwi.com
SUMMARY:Quilters
DESCRIPTION:
URL:https://gslcwi.com/event/quilters-46/
LOCATION:Verona Fellowship Hall
END:VEVENT
BEGIN:VEVENT
DTSTART;TZID=America/Chicago:20221011T160000
DTEND;TZID=America/Chicago:20221011T173000
DTSTAMP:20260425T190723
CREATED:20220830T175220Z
LAST-MODIFIED:20220830T175220Z
UID:10009821-1665504000-1665509400@gslcwi.com
SUMMARY:Pickleball
DESCRIPTION:
URL:https://gslcwi.com/event/pickleball-65/
LOCATION:Verona Gym
END:VEVENT
BEGIN:VEVENT
DTSTART;TZID=America/Chicago:20221011T160000
DTEND;TZID=America/Chicago:20221011T190000
DTSTAMP:20260425T190723
CREATED:20220831T210604Z
LAST-MODIFIED:20220925T214132Z
UID:10009826-1665504000-1665514800@gslcwi.com
SUMMARY:Preschool Gym
DESCRIPTION:
URL:https://gslcwi.com/event/preschool-gym-6/
LOCATION:Verona Gym
END:VEVENT
BEGIN:VEVENT
DTSTART;TZID=America/Chicago:20221011T160000
DTEND;TZID=America/Chicago:20221011T190000
DTSTAMP:20260425T190723
CREATED:20220927T002920Z
LAST-MODIFIED:20220927T002920Z
UID:10010044-1665504000-1665514800@gslcwi.com
SUMMARY:Preschool Gym
DESCRIPTION:
URL:https://gslcwi.com/event/preschool-gym-9/
LOCATION:Verona Gym
END:VEVENT
BEGIN:VEVENT
DTSTART;TZID=America/Chicago:20221011T160000
DTEND;TZID=America/Chicago:20221011T190000
DTSTAMP:20260425T190723
CREATED:20220928T110618Z
LAST-MODIFIED:20220928T110618Z
UID:10010251-1665504000-1665514800@gslcwi.com
SUMMARY:Preschool Gym
DESCRIPTION:
URL:https://gslcwi.com/event/preschool-gym-11/
LOCATION:Verona Gym
END:VEVENT
BEGIN:VEVENT
DTSTART;TZID=America/Chicago:20221011T180000
DTEND;TZID=America/Chicago:20221011T193000
DTSTAMP:20260425T190723
CREATED:20220825T203431Z
LAST-MODIFIED:20220829T134538Z
UID:10009784-1665511200-1665516600@gslcwi.com
SUMMARY:Adams Volleyball
DESCRIPTION:
URL:https://gslcwi.com/event/adams-volleyball-28/
LOCATION:Verona Gym
END:VEVENT
BEGIN:VEVENT
DTSTART;TZID=America/Chicago:20221011T183000
DTEND;TZID=America/Chicago:20221011T200000
DTSTAMP:20260425T190723
CREATED:20220914T063242Z
LAST-MODIFIED:20220925T214132Z
UID:10009892-1665513000-1665518400@gslcwi.com
SUMMARY:Cub Scouts
DESCRIPTION:
URL:https://gslcwi.com/event/cub-scouts-18/
LOCATION:Verona Room 7
END:VEVENT
BEGIN:VEVENT
DTSTART;TZID=America/Chicago:20221011T183000
DTEND;TZID=America/Chicago:20221011T200000
DTSTAMP:20260425T190723
CREATED:20220923T135820Z
LAST-MODIFIED:20220925T214132Z
UID:10009921-1665513000-1665518400@gslcwi.com
SUMMARY:Worship and Music Arts CMTE
DESCRIPTION:
URL:https://gslcwi.com/event/worship-and-music-arts-cmte-6/
LOCATION:Verona Coffee Bar
END:VEVENT
BEGIN:VEVENT
DTSTART;TZID=America/Chicago:20221011T183000
DTEND;TZID=America/Chicago:20221011T200000
DTSTAMP:20260425T190723
CREATED:20220927T002907Z
LAST-MODIFIED:20220927T002907Z
UID:10010042-1665513000-1665518400@gslcwi.com
SUMMARY:Cub Scouts
DESCRIPTION:
URL:https://gslcwi.com/event/cub-scouts-31/
LOCATION:Verona Room 7
END:VEVENT
BEGIN:VEVENT
DTSTART;TZID=America/Chicago:20221011T183000
DTEND;TZID=America/Chicago:20221011T200000
DTSTAMP:20260425T190723
CREATED:20220927T002914Z
LAST-MODIFIED:20220927T002914Z
UID:10010043-1665513000-1665518400@gslcwi.com
SUMMARY:Worship and Music Arts CMTE
DESCRIPTION:
URL:https://gslcwi.com/event/worship-and-music-arts-cmte-7/
LOCATION:Verona Coffee Bar
END:VEVENT
BEGIN:VEVENT
DTSTART;TZID=America/Chicago:20221011T183000
DTEND;TZID=America/Chicago:20221011T200000
DTSTAMP:20260425T190723
CREATED:20220928T110630Z
LAST-MODIFIED:20220928T110630Z
UID:10010253-1665513000-1665518400@gslcwi.com
SUMMARY:Worship and Music Arts CMTE
DESCRIPTION:
URL:https://gslcwi.com/event/worship-and-music-arts-cmte-8/
LOCATION:Verona Coffee Bar
END:VEVENT
BEGIN:VEVENT
DTSTART;TZID=America/Chicago:20221011T183000
DTEND;TZID=America/Chicago:20221011T200000
DTSTAMP:20260425T190723
CREATED:20220928T110636Z
LAST-MODIFIED:20220928T110636Z
UID:10010254-1665513000-1665518400@gslcwi.com
SUMMARY:Cub Scouts
DESCRIPTION:
URL:https://gslcwi.com/event/cub-scouts-40/
LOCATION:Verona Room 7
END:VEVENT
BEGIN:VEVENT
DTSTART;TZID=America/Chicago:20221011T190000
DTEND;TZID=America/Chicago:20221011T203000
DTSTAMP:20260425T190723
CREATED:20220819T140826Z
LAST-MODIFIED:20220925T214133Z
UID:10009748-1665514800-1665520200@gslcwi.com
SUMMARY:Boy Scouts
DESCRIPTION:
URL:https://gslcwi.com/event/boy-scouts-76/
LOCATION:Verona Room 11; Verona Fellowship Hall
END:VEVENT
BEGIN:VEVENT
DTSTART;TZID=America/Chicago:20221011T190000
DTEND;TZID=America/Chicago:20221011T203000
DTSTAMP:20260425T190723
CREATED:20220927T002926Z
LAST-MODIFIED:20220927T002926Z
UID:10010045-1665514800-1665520200@gslcwi.com
SUMMARY:Boy Scouts
DESCRIPTION:
URL:https://gslcwi.com/event/boy-scouts-82/
LOCATION:Verona Room 11; Verona Fellowship Hall
END:VEVENT
BEGIN:VEVENT
DTSTART;TZID=America/Chicago:20221011T190000
DTEND;TZID=America/Chicago:20221011T203000
DTSTAMP:20260425T190723
CREATED:20220928T110624Z
LAST-MODIFIED:20220928T110624Z
UID:10010252-1665514800-1665520200@gslcwi.com
SUMMARY:Boy Scouts
DESCRIPTION:
URL:https://gslcwi.com/event/boy-scouts-87/
LOCATION:Verona Room 11; Verona Fellowship Hall
END:VEVENT
END:VCALENDAR