BEGIN:VCALENDAR
VERSION:2.0
PRODID:-//Good Shepherd Lutheran Church - ECPv6.15.20//NONSGML v1.0//EN
CALSCALE:GREGORIAN
METHOD:PUBLISH
X-WR-CALNAME:Good Shepherd Lutheran Church
X-ORIGINAL-URL:https://gslcwi.com
X-WR-CALDESC:Events for Good Shepherd Lutheran Church
REFRESH-INTERVAL;VALUE=DURATION:PT1H
X-Robots-Tag:noindex
X-PUBLISHED-TTL:PT1H
BEGIN:VTIMEZONE
TZID:America/Chicago
BEGIN:DAYLIGHT
TZOFFSETFROM:-0600
TZOFFSETTO:-0500
TZNAME:CDT
DTSTART:20210314T080000
END:DAYLIGHT
BEGIN:STANDARD
TZOFFSETFROM:-0500
TZOFFSETTO:-0600
TZNAME:CST
DTSTART:20211107T070000
END:STANDARD
BEGIN:DAYLIGHT
TZOFFSETFROM:-0600
TZOFFSETTO:-0500
TZNAME:CDT
DTSTART:20220313T080000
END:DAYLIGHT
BEGIN:STANDARD
TZOFFSETFROM:-0500
TZOFFSETTO:-0600
TZNAME:CST
DTSTART:20221106T070000
END:STANDARD
BEGIN:DAYLIGHT
TZOFFSETFROM:-0600
TZOFFSETTO:-0500
TZNAME:CDT
DTSTART:20230312T080000
END:DAYLIGHT
BEGIN:STANDARD
TZOFFSETFROM:-0500
TZOFFSETTO:-0600
TZNAME:CST
DTSTART:20231105T070000
END:STANDARD
END:VTIMEZONE
BEGIN:VEVENT
DTSTART;TZID=America/Chicago:20221213T090000
DTEND;TZID=America/Chicago:20221213T120000
DTSTAMP:20260419T143757
CREATED:20221201T162658Z
LAST-MODIFIED:20221201T162658Z
UID:10011735-1670922000-1670932800@gslcwi.com
SUMMARY:LBPS Christmas Program
DESCRIPTION:
URL:https://gslcwi.com/event/lbps-christmas-program/
LOCATION:Verona Fellowship Hall
END:VEVENT
BEGIN:VEVENT
DTSTART;TZID=America/Chicago:20221213T130000
DTEND;TZID=America/Chicago:20221213T220000
DTSTAMP:20260419T143757
CREATED:20221201T162700Z
LAST-MODIFIED:20221201T162700Z
UID:10011741-1670936400-1670968800@gslcwi.com
SUMMARY:ECI Holiday Event
DESCRIPTION:
URL:https://gslcwi.com/event/eci-holiday-event/
LOCATION:Madison Peterson Hall
END:VEVENT
BEGIN:VEVENT
DTSTART;TZID=America/Chicago:20221213T160000
DTEND;TZID=America/Chicago:20221213T173000
DTSTAMP:20260419T143757
CREATED:20221201T162658Z
LAST-MODIFIED:20221201T162658Z
UID:10011736-1670947200-1670952600@gslcwi.com
SUMMARY:Pickleball
DESCRIPTION:
URL:https://gslcwi.com/event/pickleball-118/
LOCATION:Verona Gym
END:VEVENT
BEGIN:VEVENT
DTSTART;TZID=America/Chicago:20221213T173000
DTEND;TZID=America/Chicago:20221213T210000
DTSTAMP:20260419T143757
CREATED:20221201T162700Z
LAST-MODIFIED:20221201T162700Z
UID:10011740-1670952600-1670965200@gslcwi.com
SUMMARY:Ignite Volleyball
DESCRIPTION:
URL:https://gslcwi.com/event/ignite-volleyball-27/
LOCATION:Verona Gym
END:VEVENT
BEGIN:VEVENT
DTSTART;TZID=America/Chicago:20221213T180000
DTEND;TZID=America/Chicago:20221213T193000
DTSTAMP:20260419T143757
CREATED:20221201T162659Z
LAST-MODIFIED:20221201T162659Z
UID:10011738-1670954400-1670959800@gslcwi.com
SUMMARY:Den Meeting
DESCRIPTION:
URL:https://gslcwi.com/event/den-meeting-12/
LOCATION:Verona Family Lounge
END:VEVENT
BEGIN:VEVENT
DTSTART;TZID=America/Chicago:20221213T183000
DTEND;TZID=America/Chicago:20221213T200000
DTSTAMP:20260419T143757
CREATED:20221201T162659Z
LAST-MODIFIED:20221201T162659Z
UID:10011737-1670956200-1670961600@gslcwi.com
SUMMARY:Cub Scouts
DESCRIPTION:
URL:https://gslcwi.com/event/cub-scouts-55/
LOCATION:Verona Room 7
END:VEVENT
BEGIN:VEVENT
DTSTART;TZID=America/Chicago:20221213T190000
DTEND;TZID=America/Chicago:20221213T203000
DTSTAMP:20260419T143757
CREATED:20221201T162701Z
LAST-MODIFIED:20221201T162701Z
UID:10011742-1670958000-1670963400@gslcwi.com
SUMMARY:Boy Scouts
DESCRIPTION:
URL:https://gslcwi.com/event/boy-scouts-102/
LOCATION:Verona Room 11; Verona Fellowship Hall
END:VEVENT
BEGIN:VEVENT
DTSTART;TZID=America/Chicago:20221213T190000
DTEND;TZID=America/Chicago:20221213T210000
DTSTAMP:20260419T143757
CREATED:20221201T162659Z
LAST-MODIFIED:20221201T162659Z
UID:10011739-1670958000-1670965200@gslcwi.com
SUMMARY:Advent Devotional
DESCRIPTION:
URL:https://gslcwi.com/event/advent-devotional-2/
LOCATION:Verona Chapel
END:VEVENT
END:VCALENDAR