BEGIN:VCALENDAR
VERSION:2.0
PRODID:-//Good Shepherd Lutheran Church - ECPv6.15.20//NONSGML v1.0//EN
CALSCALE:GREGORIAN
METHOD:PUBLISH
X-ORIGINAL-URL:https://gslcwi.com
X-WR-CALDESC:Events for Good Shepherd Lutheran Church
REFRESH-INTERVAL;VALUE=DURATION:PT1H
X-Robots-Tag:noindex
X-PUBLISHED-TTL:PT1H
BEGIN:VTIMEZONE
TZID:America/Chicago
BEGIN:DAYLIGHT
TZOFFSETFROM:-0600
TZOFFSETTO:-0500
TZNAME:CDT
DTSTART:20220313T080000
END:DAYLIGHT
BEGIN:STANDARD
TZOFFSETFROM:-0500
TZOFFSETTO:-0600
TZNAME:CST
DTSTART:20221106T070000
END:STANDARD
BEGIN:DAYLIGHT
TZOFFSETFROM:-0600
TZOFFSETTO:-0500
TZNAME:CDT
DTSTART:20230312T080000
END:DAYLIGHT
BEGIN:STANDARD
TZOFFSETFROM:-0500
TZOFFSETTO:-0600
TZNAME:CST
DTSTART:20231105T070000
END:STANDARD
BEGIN:DAYLIGHT
TZOFFSETFROM:-0600
TZOFFSETTO:-0500
TZNAME:CDT
DTSTART:20240310T080000
END:DAYLIGHT
BEGIN:STANDARD
TZOFFSETFROM:-0500
TZOFFSETTO:-0600
TZNAME:CST
DTSTART:20241103T070000
END:STANDARD
END:VTIMEZONE
BEGIN:VEVENT
DTSTART;TZID=America/Chicago:20230125T070000
DTEND;TZID=America/Chicago:20230125T083000
DTSTAMP:20260423T042238
CREATED:20230124T180447Z
LAST-MODIFIED:20230124T180640Z
UID:10011893-1674630000-1674635400@gslcwi.com
SUMMARY:Men's Book Study
DESCRIPTION:
URL:https://gslcwi.com/event/mens-book-study/
LOCATION:Zoom Meeting
END:VEVENT
BEGIN:VEVENT
DTSTART;TZID=America/Chicago:20230125T070000
DTEND;TZID=America/Chicago:20230125T090000
DTSTAMP:20260423T042238
CREATED:20230124T194644Z
LAST-MODIFIED:20230124T194644Z
UID:10011899-1674630000-1674637200@gslcwi.com
SUMMARY:Messenger
DESCRIPTION:
URL:https://gslcwi.com/event/messenger/
LOCATION:Madison Peterson Hall
END:VEVENT
BEGIN:VEVENT
DTSTART;TZID=America/Chicago:20230125T083000
DTEND;TZID=America/Chicago:20230125T100000
DTSTAMP:20260423T042238
CREATED:20230124T194644Z
LAST-MODIFIED:20230124T194644Z
UID:10011898-1674635400-1674640800@gslcwi.com
SUMMARY:Pickleball
DESCRIPTION:
URL:https://gslcwi.com/event/pickleball-130/
LOCATION:Verona Gym
END:VEVENT
BEGIN:VEVENT
DTSTART;TZID=America/Chicago:20230125T100000
DTEND;TZID=America/Chicago:20230125T110000
DTSTAMP:20260423T042238
CREATED:20230124T194645Z
LAST-MODIFIED:20230124T194645Z
UID:10011900-1674640800-1674644400@gslcwi.com
SUMMARY:Holy Yoga
DESCRIPTION:
URL:https://gslcwi.com/event/holy-yoga-54/
LOCATION:Verona Sanctuary
END:VEVENT
BEGIN:VEVENT
DTSTART;TZID=America/Chicago:20230125T120000
DTEND;TZID=America/Chicago:20230125T133000
DTSTAMP:20260423T042238
CREATED:20230124T194645Z
LAST-MODIFIED:20230124T194645Z
UID:10011901-1674648000-1674653400@gslcwi.com
SUMMARY:Bible Study
DESCRIPTION:
URL:https://gslcwi.com/event/bible-study-49/
LOCATION:Madison Good Shepherd Room
END:VEVENT
BEGIN:VEVENT
DTSTART;TZID=America/Chicago:20230125T160000
DTEND;TZID=America/Chicago:20230125T173000
DTSTAMP:20260423T042238
CREATED:20230124T194646Z
LAST-MODIFIED:20230124T194646Z
UID:10011902-1674662400-1674667800@gslcwi.com
SUMMARY:Literacy Network
DESCRIPTION:
URL:https://gslcwi.com/event/literacy-network-87/
LOCATION:Madison Good Shepherd Room
END:VEVENT
BEGIN:VEVENT
DTSTART;TZID=America/Chicago:20230125T180000
DTEND;TZID=America/Chicago:20230125T190000
DTSTAMP:20260423T042238
CREATED:20230124T194647Z
LAST-MODIFIED:20230124T194647Z
UID:10011905-1674669600-1674673200@gslcwi.com
SUMMARY:Bells Rehearsal
DESCRIPTION:
URL:https://gslcwi.com/event/bells-rehearsal-35/
LOCATION:Madison Sanctuary
END:VEVENT
BEGIN:VEVENT
DTSTART;TZID=America/Chicago:20230125T180000
DTEND;TZID=America/Chicago:20230125T190000
DTSTAMP:20260423T042238
CREATED:20230124T194648Z
LAST-MODIFIED:20230124T194648Z
UID:10011906-1674669600-1674673200@gslcwi.com
SUMMARY:Girl Scouts
DESCRIPTION:
URL:https://gslcwi.com/event/girl-scouts-15/
LOCATION:Madison Room 6
END:VEVENT
BEGIN:VEVENT
DTSTART;TZID=America/Chicago:20230125T180000
DTEND;TZID=America/Chicago:20230125T200000
DTSTAMP:20260423T042238
CREATED:20230124T194647Z
LAST-MODIFIED:20230124T194647Z
UID:10011904-1674669600-1674676800@gslcwi.com
SUMMARY:Amped
DESCRIPTION:
URL:https://gslcwi.com/event/amped-89/
LOCATION:Verona Kitchen; Verona Gym; Verona Sanctuary; Verona Fellowship Hall
END:VEVENT
BEGIN:VEVENT
DTSTART;TZID=America/Chicago:20230125T190000
DTEND;TZID=America/Chicago:20230125T203000
DTSTAMP:20260423T042238
CREATED:20230124T194646Z
LAST-MODIFIED:20230124T194646Z
UID:10011903-1674673200-1674678600@gslcwi.com
SUMMARY:Choir Rehearsal
DESCRIPTION:
URL:https://gslcwi.com/event/choir-rehearsal-59/
LOCATION:Madison Sanctuary
END:VEVENT
END:VCALENDAR