BEGIN:VCALENDAR
VERSION:2.0
PRODID:-//Good Shepherd Lutheran Church - ECPv6.15.20//NONSGML v1.0//EN
CALSCALE:GREGORIAN
METHOD:PUBLISH
X-WR-CALNAME:Good Shepherd Lutheran Church
X-ORIGINAL-URL:https://gslcwi.com
X-WR-CALDESC:Events for Good Shepherd Lutheran Church
REFRESH-INTERVAL;VALUE=DURATION:PT1H
X-Robots-Tag:noindex
X-PUBLISHED-TTL:PT1H
BEGIN:VTIMEZONE
TZID:America/Chicago
BEGIN:DAYLIGHT
TZOFFSETFROM:-0600
TZOFFSETTO:-0500
TZNAME:CDT
DTSTART:20220313T080000
END:DAYLIGHT
BEGIN:STANDARD
TZOFFSETFROM:-0500
TZOFFSETTO:-0600
TZNAME:CST
DTSTART:20221106T070000
END:STANDARD
BEGIN:DAYLIGHT
TZOFFSETFROM:-0600
TZOFFSETTO:-0500
TZNAME:CDT
DTSTART:20230312T080000
END:DAYLIGHT
BEGIN:STANDARD
TZOFFSETFROM:-0500
TZOFFSETTO:-0600
TZNAME:CST
DTSTART:20231105T070000
END:STANDARD
BEGIN:DAYLIGHT
TZOFFSETFROM:-0600
TZOFFSETTO:-0500
TZNAME:CDT
DTSTART:20240310T080000
END:DAYLIGHT
BEGIN:STANDARD
TZOFFSETFROM:-0500
TZOFFSETTO:-0600
TZNAME:CST
DTSTART:20241103T070000
END:STANDARD
END:VTIMEZONE
BEGIN:VEVENT
DTSTART;TZID=America/Chicago:20230223T090000
DTEND;TZID=America/Chicago:20230223T100000
DTSTAMP:20260420T045128
CREATED:20230124T194805Z
LAST-MODIFIED:20230213T142346Z
UID:10012077-1677142800-1677146400@gslcwi.com
SUMMARY:Loaves & Fishes
DESCRIPTION:
URL:https://gslcwi.com/event/loaves-fishes-2/
LOCATION:Madison Kitchen
END:VEVENT
BEGIN:VEVENT
DTSTART;TZID=America/Chicago:20230223T100000
DTEND;TZID=America/Chicago:20230223T120000
DTSTAMP:20260420T045128
CREATED:20220923T135902Z
LAST-MODIFIED:20230228T181021Z
UID:10010634-1677146400-1677153600@gslcwi.com
SUMMARY:GSLC Food Pantry
DESCRIPTION:Weekly community food distribution – because Jesus said so! \nMore information on the Good Shepherd Food Pantry can be found here.
URL:https://gslcwi.com/event/gslc-food-pantry-74/2023-02-23/
LOCATION:Madison Lobby
CATEGORIES:Community Event
END:VEVENT
BEGIN:VEVENT
DTSTART;TZID=America/Chicago:20230223T100000
DTEND;TZID=America/Chicago:20230223T120000
DTSTAMP:20260420T045128
CREATED:20220923T135903Z
LAST-MODIFIED:20230228T181458Z
UID:10010738-1677146400-1677153600@gslcwi.com
SUMMARY:Clothes Closet
DESCRIPTION:More information on the Good Shepherd Clothes Closet can be found here.
URL:https://gslcwi.com/event/clothes-closet-147/2023-02-23/
LOCATION:Madison Room 6
CATEGORIES:Community Event
END:VEVENT
BEGIN:VEVENT
DTSTART;TZID=America/Chicago:20230223T100000
DTEND;TZID=America/Chicago:20230223T120000
DTSTAMP:20260420T045128
CREATED:20230124T194804Z
LAST-MODIFIED:20230213T142346Z
UID:10012076-1677146400-1677153600@gslcwi.com
SUMMARY:Clothes Closet
DESCRIPTION:
URL:https://gslcwi.com/event/clothes-closet-193/
LOCATION:Madison Room 6
END:VEVENT
BEGIN:VEVENT
DTSTART;TZID=America/Chicago:20230223T100000
DTEND;TZID=America/Chicago:20230223T120000
DTSTAMP:20260420T045128
CREATED:20230124T194805Z
LAST-MODIFIED:20230213T142347Z
UID:10012078-1677146400-1677153600@gslcwi.com
SUMMARY:GSLC Food Pantry
DESCRIPTION:
URL:https://gslcwi.com/event/gslc-food-pantry-101/
LOCATION:Madison Lobby
END:VEVENT
BEGIN:VEVENT
DTSTART;TZID=America/Chicago:20230223T160000
DTEND;TZID=America/Chicago:20230223T173000
DTSTAMP:20260420T045128
CREATED:20230213T142347Z
LAST-MODIFIED:20230213T142347Z
UID:10012148-1677168000-1677173400@gslcwi.com
SUMMARY:Grief Support Group
DESCRIPTION:
URL:https://gslcwi.com/event/grief-support-group-2/
LOCATION:Madison Good Shepherd Room
END:VEVENT
BEGIN:VEVENT
DTSTART;TZID=America/Chicago:20230223T163000
DTEND;TZID=America/Chicago:20230223T173000
DTSTAMP:20260420T045128
CREATED:20230124T194807Z
LAST-MODIFIED:20230213T142347Z
UID:10012082-1677169800-1677173400@gslcwi.com
SUMMARY:Verona Soccer
DESCRIPTION:
URL:https://gslcwi.com/event/verona-soccer-11/
LOCATION:Verona Gym
END:VEVENT
BEGIN:VEVENT
DTSTART;TZID=America/Chicago:20230223T173000
DTEND;TZID=America/Chicago:20230223T190000
DTSTAMP:20260420T045128
CREATED:20220928T111753Z
LAST-MODIFIED:20230302T174342Z
UID:10010842-1677173400-1677178800@gslcwi.com
SUMMARY:GSLC Food Pantry
DESCRIPTION:Weekly community food distribution – because Jesus said so! \nMore information on the Good Shepherd Food Pantry can be found here.
URL:https://gslcwi.com/event/gslc-food-pantrty-86/2023-02-23/
LOCATION:Madison Lobby
CATEGORIES:Community Event
END:VEVENT
BEGIN:VEVENT
DTSTART;TZID=America/Chicago:20230223T173000
DTEND;TZID=America/Chicago:20230223T190000
DTSTAMP:20260420T045128
CREATED:20230124T194806Z
LAST-MODIFIED:20230213T142349Z
UID:10012081-1677173400-1677178800@gslcwi.com
SUMMARY:GSLC Food Pantrty
DESCRIPTION:
URL:https://gslcwi.com/event/gslc-food-pantrty-99/
LOCATION:Madison Lobby
END:VEVENT
BEGIN:VEVENT
DTSTART;TZID=America/Chicago:20230223T173000
DTEND;TZID=America/Chicago:20230223T193000
DTSTAMP:20260420T045128
CREATED:20230124T194650Z
LAST-MODIFIED:20230213T142348Z
UID:10011912-1677173400-1677180600@gslcwi.com
SUMMARY:Fibromyalgia Awareness Support Group
DESCRIPTION:
URL:https://gslcwi.com/event/fibromyalgia-awareness-support-group-12/
LOCATION:Madison Good Shepherd Room
END:VEVENT
BEGIN:VEVENT
DTSTART;TZID=America/Chicago:20230223T173000
DTEND;TZID=America/Chicago:20230223T210000
DTSTAMP:20260420T045128
CREATED:20230124T194806Z
LAST-MODIFIED:20230213T142348Z
UID:10012080-1677173400-1677186000@gslcwi.com
SUMMARY:Ignite Volleyball
DESCRIPTION:
URL:https://gslcwi.com/event/ignite-volleyball-51/
LOCATION:Verona Gym
END:VEVENT
BEGIN:VEVENT
DTSTART;TZID=America/Chicago:20230223T190000
DTEND;TZID=America/Chicago:20230223T210000
DTSTAMP:20260420T045128
CREATED:20221025T213413Z
LAST-MODIFIED:20230228T181705Z
UID:10010530-1677178800-1677186000@gslcwi.com
SUMMARY:Band Rehearsal
DESCRIPTION:
URL:https://gslcwi.com/event/band-rehearsal/2023-02-23/
LOCATION:Verona Campus\, 7291 County Rd PD\, Verona\, WI\, 53593\, United States
CATEGORIES:Music
END:VEVENT
BEGIN:VEVENT
DTSTART;TZID=America/Chicago:20230223T190000
DTEND;TZID=America/Chicago:20230223T210000
DTSTAMP:20260420T045128
CREATED:20230124T194806Z
LAST-MODIFIED:20230213T142348Z
UID:10012079-1677178800-1677186000@gslcwi.com
SUMMARY:Worship Band Rehearsal
DESCRIPTION:
URL:https://gslcwi.com/event/worship-band-rehearsal-11/
LOCATION:Verona Sanctuary
END:VEVENT
END:VCALENDAR