BEGIN:VCALENDAR
VERSION:2.0
PRODID:-//Good Shepherd Lutheran Church - ECPv6.15.20//NONSGML v1.0//EN
CALSCALE:GREGORIAN
METHOD:PUBLISH
X-ORIGINAL-URL:https://gslcwi.com
X-WR-CALDESC:Events for Good Shepherd Lutheran Church
REFRESH-INTERVAL;VALUE=DURATION:PT1H
X-Robots-Tag:noindex
X-PUBLISHED-TTL:PT1H
BEGIN:VTIMEZONE
TZID:America/Chicago
BEGIN:DAYLIGHT
TZOFFSETFROM:-0600
TZOFFSETTO:-0500
TZNAME:CDT
DTSTART:20220313T080000
END:DAYLIGHT
BEGIN:STANDARD
TZOFFSETFROM:-0500
TZOFFSETTO:-0600
TZNAME:CST
DTSTART:20221106T070000
END:STANDARD
BEGIN:DAYLIGHT
TZOFFSETFROM:-0600
TZOFFSETTO:-0500
TZNAME:CDT
DTSTART:20230312T080000
END:DAYLIGHT
BEGIN:STANDARD
TZOFFSETFROM:-0500
TZOFFSETTO:-0600
TZNAME:CST
DTSTART:20231105T070000
END:STANDARD
BEGIN:DAYLIGHT
TZOFFSETFROM:-0600
TZOFFSETTO:-0500
TZNAME:CDT
DTSTART:20240310T080000
END:DAYLIGHT
BEGIN:STANDARD
TZOFFSETFROM:-0500
TZOFFSETTO:-0600
TZNAME:CST
DTSTART:20241103T070000
END:STANDARD
END:VTIMEZONE
BEGIN:VEVENT
DTSTART;TZID=America/Chicago:20230430T090000
DTEND;TZID=America/Chicago:20230430T100000
DTSTAMP:20260425T085310
CREATED:20230421T151937Z
LAST-MODIFIED:20230421T151938Z
UID:10010956-1682845200-1682848800@gslcwi.com
SUMMARY:9:00 Worship Service and Church School
DESCRIPTION:You’re invited to the intersection of Whitney Way and Raymond Road for a morning of worship with traditional Lutheran textures and rhythms.
URL:https://gslcwi.com/event/900-worship-service-24-6/
LOCATION:Madison Sanctuary
CATEGORIES:Worship
END:VEVENT
BEGIN:VEVENT
DTSTART;TZID=America/Chicago:20230430T100000
DTEND;TZID=America/Chicago:20230430T110000
DTSTAMP:20260425T085310
CREATED:20230419T202745Z
LAST-MODIFIED:20230426T210616Z
UID:10013040-1682848800-1682852400@gslcwi.com
SUMMARY:Children's Choir Rehearsal
DESCRIPTION:All children in first through fifth grade are invited to sing in Good Shepherd’s Children’s Choir. This group offers a warm\, welcoming environment for students to explore their unique musical and artistic talents\, to grow in faith\, to experience the meaningful traditions of the church\, and to offer their gifts in worship and praise!
URL:https://gslcwi.com/event/childrens-choir-rehearsal-7/
LOCATION:Madison Room 11/The Sheep Fold
CATEGORIES:Music
ATTACH;FMTTYPE=image/png:https://gslcwi.com/wp-content/uploads/2023/04/childrens-choir.png
END:VEVENT
BEGIN:VEVENT
DTSTART;TZID=America/Chicago:20230430T103000
DTEND;TZID=America/Chicago:20230430T113000
DTSTAMP:20260425T085310
CREATED:20230421T152118Z
LAST-MODIFIED:20230421T152119Z
UID:10011060-1682850600-1682854200@gslcwi.com
SUMMARY:10:30 Worship Service and Church School
DESCRIPTION:Join us on County Highway PD in Verona for morning Worship service featuring modern expressions of praise and prayer anchored by foundational traditions.
URL:https://gslcwi.com/event/1030-worship-service-33-4/
LOCATION:Verona Sanctuary
CATEGORIES:Worship
END:VEVENT
BEGIN:VEVENT
DTSTART;TZID=America/Chicago:20230430T120000
DTEND;TZID=America/Chicago:20230430T170000
DTSTAMP:20260425T085310
CREATED:20220925T214225Z
LAST-MODIFIED:20230307T202102Z
UID:10011578-1682856000-1682874000@gslcwi.com
SUMMARY:Pickleball
DESCRIPTION:
URL:https://gslcwi.com/event/pickleball-81/2023-04-30/
LOCATION:Verona Gym
CATEGORIES:Sports,Verona Gym
ATTACH;FMTTYPE=image/jpeg:https://gslcwi.com/wp-content/uploads/2023/02/pickleball2-1.jpg
END:VEVENT
BEGIN:VEVENT
DTSTART;TZID=America/Chicago:20230430T130000
DTEND;TZID=America/Chicago:20230430T160000
DTSTAMP:20260425T085310
CREATED:20230419T202944Z
LAST-MODIFIED:20230426T211635Z
UID:10013042-1682859600-1682870400@gslcwi.com
SUMMARY:Iglesia evangelica el remanente
DESCRIPTION:
URL:https://gslcwi.com/event/iglesia-evangelica-el-remanente-101/
LOCATION:Madison Peterson Hall
CATEGORIES:External Group
END:VEVENT
BEGIN:VEVENT
DTSTART;TZID=America/Chicago:20230430T140000
DTEND;TZID=America/Chicago:20230430T173000
DTSTAMP:20260425T085310
CREATED:20230419T202945Z
LAST-MODIFIED:20230426T211635Z
UID:10013045-1682863200-1682875800@gslcwi.com
SUMMARY:Girl Scouts
DESCRIPTION:
URL:https://gslcwi.com/event/girl-scouts-28/
LOCATION:Verona Fellowship Hall
CATEGORIES:External Group
END:VEVENT
BEGIN:VEVENT
DTSTART;TZID=America/Chicago:20230430T180000
DTEND;TZID=America/Chicago:20230430T190000
DTSTAMP:20260425T085310
CREATED:20220927T003855Z
LAST-MODIFIED:20230427T194210Z
UID:10011164-1682877600-1682881200@gslcwi.com
SUMMARY:6:00 Worship Service
DESCRIPTION:A worship service with evening rhythms for song\, prayer\, reflection rooted in ancient practices and present day cares & concerns.
URL:https://gslcwi.com/event/600-service-5/2023-04-30/
LOCATION:Verona Sanctuary
CATEGORIES:Worship
END:VEVENT
END:VCALENDAR