BEGIN:VCALENDAR
VERSION:2.0
PRODID:-//Good Shepherd Lutheran Church - ECPv6.15.20//NONSGML v1.0//EN
CALSCALE:GREGORIAN
METHOD:PUBLISH
X-ORIGINAL-URL:https://gslcwi.com
X-WR-CALDESC:Events for Good Shepherd Lutheran Church
REFRESH-INTERVAL;VALUE=DURATION:PT1H
X-Robots-Tag:noindex
X-PUBLISHED-TTL:PT1H
BEGIN:VTIMEZONE
TZID:America/Chicago
BEGIN:DAYLIGHT
TZOFFSETFROM:-0600
TZOFFSETTO:-0500
TZNAME:CDT
DTSTART:20220313T080000
END:DAYLIGHT
BEGIN:STANDARD
TZOFFSETFROM:-0500
TZOFFSETTO:-0600
TZNAME:CST
DTSTART:20221106T070000
END:STANDARD
BEGIN:DAYLIGHT
TZOFFSETFROM:-0600
TZOFFSETTO:-0500
TZNAME:CDT
DTSTART:20230312T080000
END:DAYLIGHT
BEGIN:STANDARD
TZOFFSETFROM:-0500
TZOFFSETTO:-0600
TZNAME:CST
DTSTART:20231105T070000
END:STANDARD
BEGIN:DAYLIGHT
TZOFFSETFROM:-0600
TZOFFSETTO:-0500
TZNAME:CDT
DTSTART:20240310T080000
END:DAYLIGHT
BEGIN:STANDARD
TZOFFSETFROM:-0500
TZOFFSETTO:-0600
TZNAME:CST
DTSTART:20241103T070000
END:STANDARD
END:VTIMEZONE
BEGIN:VEVENT
DTSTART;TZID=America/Chicago:20230622T073000
DTEND;TZID=America/Chicago:20230622T123000
DTSTAMP:20260420T154136
CREATED:20230518T030450Z
LAST-MODIFIED:20230621T223444Z
UID:10014034-1687419000-1687437000@gslcwi.com
SUMMARY:Loaves & Fishes
DESCRIPTION:Loaves & Fishes is an anti-poverty\, hunger relief agency serving food and leadership services to those in need.
URL:https://gslcwi.com/event/loaves-fishes-6/
LOCATION:Madison Lobby
CATEGORIES:Service
END:VEVENT
BEGIN:VEVENT
DTSTART;TZID=America/Chicago:20230622T090000
DTEND;TZID=America/Chicago:20230622T113000
DTSTAMP:20260420T154136
CREATED:20230518T030451Z
LAST-MODIFIED:20230619T160910Z
UID:10014036-1687424400-1687433400@gslcwi.com
SUMMARY:Stellar Vacation Bible School
DESCRIPTION:Kids blast off on a cosmic quest to shine Jesus’ light in the world through Bible adventures\, imagination station crafts\, galactic snacks\, music and play.
URL:https://gslcwi.com/event/vbs-9/
LOCATION:Verona Gym; Verona Coffee Bar; Verona Sanctuary; Verona Fellowship Hall
CATEGORIES:Children's Ministry
ATTACH;FMTTYPE=image/png:https://gslcwi.com/wp-content/uploads/2023/05/stellar-vbs-logo.png
END:VEVENT
BEGIN:VEVENT
DTSTART;TZID=America/Chicago:20230622T090000
DTEND;TZID=America/Chicago:20230622T130000
DTSTAMP:20260420T154136
CREATED:20230518T025903Z
LAST-MODIFIED:20230621T223445Z
UID:10014031-1687424400-1687438800@gslcwi.com
SUMMARY:Community Read
DESCRIPTION:
URL:https://gslcwi.com/event/community-read-26/
LOCATION:Madison Room 7; Madison Room 8; Madison Room 9; Madison Room 11/The Sheep Fold
CATEGORIES:Community Event
END:VEVENT
BEGIN:VEVENT
DTSTART;TZID=America/Chicago:20230622T100000
DTEND;TZID=America/Chicago:20230622T120000
DTSTAMP:20260420T154136
CREATED:20220923T135902Z
LAST-MODIFIED:20230228T181021Z
UID:10010651-1687428000-1687435200@gslcwi.com
SUMMARY:GSLC Food Pantry
DESCRIPTION:Weekly community food distribution – because Jesus said so! \nMore information on the Good Shepherd Food Pantry can be found here.
URL:https://gslcwi.com/event/gslc-food-pantry-74/2023-06-22/
LOCATION:Madison Lobby
CATEGORIES:Community Event
END:VEVENT
BEGIN:VEVENT
DTSTART;TZID=America/Chicago:20230622T100000
DTEND;TZID=America/Chicago:20230622T120000
DTSTAMP:20260420T154136
CREATED:20220923T135903Z
LAST-MODIFIED:20230228T181458Z
UID:10010755-1687428000-1687435200@gslcwi.com
SUMMARY:Clothes Closet
DESCRIPTION:More information on the Good Shepherd Clothes Closet can be found here.
URL:https://gslcwi.com/event/clothes-closet-147/2023-06-22/
LOCATION:Madison Room 6
CATEGORIES:Community Event
END:VEVENT
BEGIN:VEVENT
DTSTART;TZID=America/Chicago:20230622T100000
DTEND;TZID=America/Chicago:20230622T140000
DTSTAMP:20260420T154136
CREATED:20230518T030450Z
LAST-MODIFIED:20230621T221247Z
UID:10014035-1687428000-1687442400@gslcwi.com
SUMMARY:New Bridge Meals
DESCRIPTION:
URL:https://gslcwi.com/event/new-bridge-meals-124/
LOCATION:Madison Peterson Hall; Madison Kitchen
CATEGORIES:External Group
END:VEVENT
BEGIN:VEVENT
DTSTART;TZID=America/Chicago:20230622T110000
DTEND;TZID=America/Chicago:20230622T123000
DTSTAMP:20260420T154136
CREATED:20230412T191637Z
LAST-MODIFIED:20230412T191637Z
UID:10012915-1687431600-1687437000@gslcwi.com
SUMMARY:Holy COW at Vacation Bible School
DESCRIPTION:The Holy COW will be present during Vacation Bible School at the Verona Campus to distribute delicious lunches for attendees!
URL:https://gslcwi.com/event/holy-cow-at-vacation-bible-school/
LOCATION:Verona Campus\, 7291 County Rd PD\, Verona\, WI\, 53593\, United States
CATEGORIES:Children's Ministry,Holy COW,Verona Gym
ATTACH;FMTTYPE=image/jpeg:https://gslcwi.com/wp-content/uploads/2023/04/2019.06.19_0897_Matthew-Kirk_med.jpg
ORGANIZER;CN="Rick Thomas":MAILTO:rthomas@gslcwi.com
END:VEVENT
BEGIN:VEVENT
DTSTART;TZID=America/Chicago:20230622T173000
DTEND;TZID=America/Chicago:20230622T190000
DTSTAMP:20260420T154136
CREATED:20220928T111753Z
LAST-MODIFIED:20230302T174342Z
UID:10010859-1687455000-1687460400@gslcwi.com
SUMMARY:GSLC Food Pantry
DESCRIPTION:Weekly community food distribution – because Jesus said so! \nMore information on the Good Shepherd Food Pantry can be found here.
URL:https://gslcwi.com/event/gslc-food-pantrty-86/2023-06-22/
LOCATION:Madison Lobby
CATEGORIES:Community Event
END:VEVENT
BEGIN:VEVENT
DTSTART;TZID=America/Chicago:20230622T173000
DTEND;TZID=America/Chicago:20230622T190000
DTSTAMP:20260420T154136
CREATED:20230516T200448Z
LAST-MODIFIED:20230606T161841Z
UID:10014259-1687455000-1687460400@gslcwi.com
SUMMARY:Worship in the Park @ Western Hills Park
DESCRIPTION:During the summer months\, we’ll gather at local parks each Thursday night starting at 5:30 p.m. to share in a delicious Holy COW meal and unique worship experience. The COW (Church on Wheels) is a ministry we share as a congregation\, and all present become part of the welcoming\, the forgiveness\, and the service of the evening.
URL:https://gslcwi.com/event/worship-in-the-park-western-hills-park/2023-06-22/
LOCATION:Western Hills Park\, 2499 Whitney Way\, Fitchburg\, 53711\, United States
CATEGORIES:Fellowship,Holy COW,Worship
END:VEVENT
BEGIN:VEVENT
DTSTART;TZID=America/Chicago:20230622T180000
DTEND;TZID=America/Chicago:20230622T193000
DTSTAMP:20260420T154136
CREATED:20230518T030451Z
LAST-MODIFIED:20230621T224203Z
UID:10014037-1687456800-1687462200@gslcwi.com
SUMMARY:FIBROMYALGIA WARRIOR WELLNESS SUPPORT GROUP
DESCRIPTION:
URL:https://gslcwi.com/event/fibromyalgia-warrior-wellness-support-group-2/
LOCATION:Madison Good Shepherd Room
CATEGORIES:External Group
END:VEVENT
BEGIN:VEVENT
DTSTART;TZID=America/Chicago:20230622T190000
DTEND;TZID=America/Chicago:20230622T210000
DTSTAMP:20260420T154136
CREATED:20221025T213413Z
LAST-MODIFIED:20230228T181705Z
UID:10010547-1687460400-1687467600@gslcwi.com
SUMMARY:Band Rehearsal
DESCRIPTION:
URL:https://gslcwi.com/event/band-rehearsal/2023-06-22/
LOCATION:Verona Campus\, 7291 County Rd PD\, Verona\, WI\, 53593\, United States
CATEGORIES:Music
END:VEVENT
END:VCALENDAR