BEGIN:VCALENDAR
VERSION:2.0
PRODID:-//Good Shepherd Lutheran Church - ECPv6.15.20//NONSGML v1.0//EN
CALSCALE:GREGORIAN
METHOD:PUBLISH
X-WR-CALNAME:Good Shepherd Lutheran Church
X-ORIGINAL-URL:https://gslcwi.com
X-WR-CALDESC:Events for Good Shepherd Lutheran Church
REFRESH-INTERVAL;VALUE=DURATION:PT1H
X-Robots-Tag:noindex
X-PUBLISHED-TTL:PT1H
BEGIN:VTIMEZONE
TZID:America/Chicago
BEGIN:DAYLIGHT
TZOFFSETFROM:-0600
TZOFFSETTO:-0500
TZNAME:CDT
DTSTART:20220313T080000
END:DAYLIGHT
BEGIN:STANDARD
TZOFFSETFROM:-0500
TZOFFSETTO:-0600
TZNAME:CST
DTSTART:20221106T070000
END:STANDARD
BEGIN:DAYLIGHT
TZOFFSETFROM:-0600
TZOFFSETTO:-0500
TZNAME:CDT
DTSTART:20230312T080000
END:DAYLIGHT
BEGIN:STANDARD
TZOFFSETFROM:-0500
TZOFFSETTO:-0600
TZNAME:CST
DTSTART:20231105T070000
END:STANDARD
BEGIN:DAYLIGHT
TZOFFSETFROM:-0600
TZOFFSETTO:-0500
TZNAME:CDT
DTSTART:20240310T080000
END:DAYLIGHT
BEGIN:STANDARD
TZOFFSETFROM:-0500
TZOFFSETTO:-0600
TZNAME:CST
DTSTART:20241103T070000
END:STANDARD
END:VTIMEZONE
BEGIN:VEVENT
DTSTART;TZID=America/Chicago:20230705T070000
DTEND;TZID=America/Chicago:20230705T080000
DTSTAMP:20260422T201505
CREATED:20230228T160601Z
LAST-MODIFIED:20230921T134643Z
UID:10012530-1688540400-1688544000@gslcwi.com
SUMMARY:Wednesday Morning Men's Bible Study
DESCRIPTION:A Weekly Men’s Bible Study that gathers on Zoom.
URL:https://gslcwi.com/event/wednesday-morning-mens-bible-study/2023-07-05/
CATEGORIES:Adult Education,Bible Study,Men's Ministry
ATTACH;FMTTYPE=image/jpeg:https://gslcwi.com/wp-content/uploads/2023/02/fa-barboza-NWoaoMgMiVY-unsplash.jpg
ORGANIZER;CN="Dean Nelson":MAILTO:deanwnelson@gmail.com
END:VEVENT
BEGIN:VEVENT
DTSTART;TZID=America/Chicago:20230705T083000
DTEND;TZID=America/Chicago:20230705T100000
DTSTAMP:20260422T201505
CREATED:20230320T152258Z
LAST-MODIFIED:20230419T205304Z
UID:10013111-1688545800-1688551200@gslcwi.com
SUMMARY:Pickleball
DESCRIPTION:
URL:https://gslcwi.com/event/pickleball-166/2023-07-05/
LOCATION:Verona Gym
CATEGORIES:Sports,Verona Gym
ATTACH;FMTTYPE=image/jpeg:https://gslcwi.com/wp-content/uploads/2023/02/pickleball2-1.jpg
END:VEVENT
BEGIN:VEVENT
DTSTART;TZID=America/Chicago:20230705T090000
DTEND;TZID=America/Chicago:20230705T120000
DTSTAMP:20260422T201505
CREATED:20230615T032055Z
LAST-MODIFIED:20230629T000135Z
UID:10014305-1688547600-1688558400@gslcwi.com
SUMMARY:MOM's Club
DESCRIPTION:
URL:https://gslcwi.com/event/moms-club-15/
LOCATION:Madison Peterson Hall
CATEGORIES:Fellowship
END:VEVENT
BEGIN:VEVENT
DTSTART;TZID=America/Chicago:20230705T090000
DTEND;TZID=America/Chicago:20230705T120000
DTSTAMP:20260422T201505
CREATED:20230615T033813Z
LAST-MODIFIED:20230629T001826Z
UID:10014307-1688547600-1688558400@gslcwi.com
SUMMARY:Quilters
DESCRIPTION:
URL:https://gslcwi.com/event/quilters-70/
LOCATION:Verona Fellowship Hall
CATEGORIES:Fellowship,Service
ATTACH;FMTTYPE=image/jpeg:https://gslcwi.com/wp-content/uploads/2023/04/quilters.jpg
END:VEVENT
BEGIN:VEVENT
DTSTART;TZID=America/Chicago:20230705T090000
DTEND;TZID=America/Chicago:20230705T130000
DTSTAMP:20260422T201505
CREATED:20230615T033814Z
LAST-MODIFIED:20230629T000136Z
UID:10014308-1688547600-1688562000@gslcwi.com
SUMMARY:Community Read
DESCRIPTION:
URL:https://gslcwi.com/event/community-read-31/
LOCATION:Madison Room 7; Madison Room 8; Madison Room 9; Madison Room 11/The Sheep Fold
CATEGORIES:Community Event
END:VEVENT
BEGIN:VEVENT
DTSTART;TZID=America/Chicago:20230705T120000
DTEND;TZID=America/Chicago:20230705T133000
DTSTAMP:20260422T201505
CREATED:20230615T032055Z
LAST-MODIFIED:20230629T001825Z
UID:10014306-1688558400-1688563800@gslcwi.com
SUMMARY:Bible Study
DESCRIPTION:
URL:https://gslcwi.com/event/bible-study-75/
LOCATION:Madison Good Shepherd Room
CATEGORIES:Adult Education,Fellowship
END:VEVENT
BEGIN:VEVENT
DTSTART;TZID=America/Chicago:20230705T160000
DTEND;TZID=America/Chicago:20230705T180000
DTSTAMP:20260422T201505
CREATED:20230615T033814Z
LAST-MODIFIED:20230705T222851Z
UID:10014309-1688572800-1688580000@gslcwi.com
SUMMARY:Literacy Network
DESCRIPTION:
URL:https://gslcwi.com/event/literacy-network-122/
LOCATION:Madison Good Shepherd Room
CATEGORIES:Adult Education
END:VEVENT
BEGIN:VEVENT
DTSTART;TZID=America/Chicago:20230705T183000
DTEND;TZID=America/Chicago:20230705T200000
DTSTAMP:20260422T201505
CREATED:20230615T033815Z
LAST-MODIFIED:20230705T222852Z
UID:10014311-1688581800-1688587200@gslcwi.com
SUMMARY:Madison Achiever's Toastmaster Club
DESCRIPTION:
URL:https://gslcwi.com/event/madison-achievers-toastmaster-club-28/
LOCATION:Madison Room 11/The Sheep Fold
CATEGORIES:External Group
END:VEVENT
BEGIN:VEVENT
DTSTART;TZID=America/Chicago:20230705T190000
DTEND;TZID=America/Chicago:20230705T210000
DTSTAMP:20260422T201505
CREATED:20230615T033815Z
LAST-MODIFIED:20230705T222852Z
UID:10014310-1688583600-1688590800@gslcwi.com
SUMMARY:Faith of Christ Church
DESCRIPTION:
URL:https://gslcwi.com/event/faith-of-christ-church-37/
LOCATION:Madison Music Room
CATEGORIES:External Group
END:VEVENT
END:VCALENDAR