BEGIN:VCALENDAR
VERSION:2.0
PRODID:-//Good Shepherd Lutheran Church - ECPv6.15.20//NONSGML v1.0//EN
CALSCALE:GREGORIAN
METHOD:PUBLISH
X-ORIGINAL-URL:https://gslcwi.com
X-WR-CALDESC:Events for Good Shepherd Lutheran Church
REFRESH-INTERVAL;VALUE=DURATION:PT1H
X-Robots-Tag:noindex
X-PUBLISHED-TTL:PT1H
BEGIN:VTIMEZONE
TZID:America/Chicago
BEGIN:DAYLIGHT
TZOFFSETFROM:-0600
TZOFFSETTO:-0500
TZNAME:CDT
DTSTART:20220313T080000
END:DAYLIGHT
BEGIN:STANDARD
TZOFFSETFROM:-0500
TZOFFSETTO:-0600
TZNAME:CST
DTSTART:20221106T070000
END:STANDARD
BEGIN:DAYLIGHT
TZOFFSETFROM:-0600
TZOFFSETTO:-0500
TZNAME:CDT
DTSTART:20230312T080000
END:DAYLIGHT
BEGIN:STANDARD
TZOFFSETFROM:-0500
TZOFFSETTO:-0600
TZNAME:CST
DTSTART:20231105T070000
END:STANDARD
BEGIN:DAYLIGHT
TZOFFSETFROM:-0600
TZOFFSETTO:-0500
TZNAME:CDT
DTSTART:20240310T080000
END:DAYLIGHT
BEGIN:STANDARD
TZOFFSETFROM:-0500
TZOFFSETTO:-0600
TZNAME:CST
DTSTART:20241103T070000
END:STANDARD
END:VTIMEZONE
BEGIN:VEVENT
DTSTART;TZID=America/Chicago:20230717T090000
DTEND;TZID=America/Chicago:20230717T110000
DTSTAMP:20260421T091856
CREATED:20230622T043748Z
LAST-MODIFIED:20230713T003443Z
UID:10014539-1689584400-1689591600@gslcwi.com
SUMMARY:Kinder Creation Camp
DESCRIPTION:Geared specifically toward little learners\, discover God’s creation through outdoor exploration\, musical movement and hands-on creations
URL:https://gslcwi.com/event/kinder-creation-camp/
LOCATION:Verona Fellowship Hall; Verona Lobby; Verona Sanctuary; Verona Gym
CATEGORIES:Children's Ministry
END:VEVENT
BEGIN:VEVENT
DTSTART;TZID=America/Chicago:20230717T090000
DTEND;TZID=America/Chicago:20230717T120000
DTSTAMP:20260421T091856
CREATED:20230622T042418Z
LAST-MODIFIED:20230713T003443Z
UID:10014538-1689584400-1689595200@gslcwi.com
SUMMARY:Quilters
DESCRIPTION:A group that prepares quilts to be sent through Lutheran World Relief.
URL:https://gslcwi.com/event/quilters-72/
LOCATION:Verona Fellowship Hall
CATEGORIES:Service
END:VEVENT
BEGIN:VEVENT
DTSTART;TZID=America/Chicago:20230717T100000
DTEND;TZID=America/Chicago:20230717T120000
DTSTAMP:20260421T091856
CREATED:20230713T003444Z
LAST-MODIFIED:20230713T003444Z
UID:10014788-1689588000-1689595200@gslcwi.com
SUMMARY:Per Mar Security
DESCRIPTION:Replace Smoke
URL:https://gslcwi.com/event/per-mar-security/
LOCATION:Madison Room 7
END:VEVENT
BEGIN:VEVENT
DTSTART;TZID=America/Chicago:20230717T160000
DTEND;TZID=America/Chicago:20230717T173000
DTSTAMP:20260421T091856
CREATED:20220923T135855Z
LAST-MODIFIED:20230913T194729Z
UID:10011383-1689609600-1689615000@gslcwi.com
SUMMARY:Literacy Network
DESCRIPTION:
URL:https://gslcwi.com/event/literacy-network-40/2023-07-17/
LOCATION:Madison Room 11/The Sheep Fold; Madison Room 9
CATEGORIES:Community Event
END:VEVENT
BEGIN:VEVENT
DTSTART;TZID=America/Chicago:20230717T170000
DTEND;TZID=America/Chicago:20230717T190000
DTSTAMP:20260421T091856
CREATED:20230706T162734Z
LAST-MODIFIED:20230724T135146Z
UID:10014782-1689613200-1689620400@gslcwi.com
SUMMARY:Meadowood Park Community Meal
DESCRIPTION:Join the Moo Crew at Meadowood Park for delicious pay-what-you-can meals from the Holy COW food truck and fresh produce hauls harvested from our very own Food Pantry Garden!
URL:https://gslcwi.com/event/meadowood-park-community-meal-2/2023-07-17/
LOCATION:Meadowood Park\, 5808 Thrush Ln\, Madison\, WI\, 53711\, United States
CATEGORIES:Community Event,Holy COW
ATTACH;FMTTYPE=image/png:https://gslcwi.com/wp-content/uploads/2023/07/meadowood-meals.png
ORGANIZER;CN="Rick Thomas":MAILTO:rthomas@gslcwi.com
END:VEVENT
END:VCALENDAR