BEGIN:VCALENDAR
VERSION:2.0
PRODID:-//Good Shepherd Lutheran Church - ECPv6.15.20//NONSGML v1.0//EN
CALSCALE:GREGORIAN
METHOD:PUBLISH
X-WR-CALNAME:Good Shepherd Lutheran Church
X-ORIGINAL-URL:https://gslcwi.com
X-WR-CALDESC:Events for Good Shepherd Lutheran Church
REFRESH-INTERVAL;VALUE=DURATION:PT1H
X-Robots-Tag:noindex
X-PUBLISHED-TTL:PT1H
BEGIN:VTIMEZONE
TZID:America/Chicago
BEGIN:DAYLIGHT
TZOFFSETFROM:-0600
TZOFFSETTO:-0500
TZNAME:CDT
DTSTART:20220313T080000
END:DAYLIGHT
BEGIN:STANDARD
TZOFFSETFROM:-0500
TZOFFSETTO:-0600
TZNAME:CST
DTSTART:20221106T070000
END:STANDARD
BEGIN:DAYLIGHT
TZOFFSETFROM:-0600
TZOFFSETTO:-0500
TZNAME:CDT
DTSTART:20230312T080000
END:DAYLIGHT
BEGIN:STANDARD
TZOFFSETFROM:-0500
TZOFFSETTO:-0600
TZNAME:CST
DTSTART:20231105T070000
END:STANDARD
BEGIN:DAYLIGHT
TZOFFSETFROM:-0600
TZOFFSETTO:-0500
TZNAME:CDT
DTSTART:20240310T080000
END:DAYLIGHT
BEGIN:STANDARD
TZOFFSETFROM:-0500
TZOFFSETTO:-0600
TZNAME:CST
DTSTART:20241103T070000
END:STANDARD
END:VTIMEZONE
BEGIN:VEVENT
DTSTART;TZID=America/Chicago:20230928T073000
DTEND;TZID=America/Chicago:20230928T123000
DTSTAMP:20260421T225604
CREATED:20230817T050206Z
LAST-MODIFIED:20230928T004044Z
UID:10015376-1695886200-1695904200@gslcwi.com
SUMMARY:Loaves & Fishes
DESCRIPTION:
URL:https://gslcwi.com/event/loaves-fishes-9/
LOCATION:Madison Lobby
CATEGORIES:Service
END:VEVENT
BEGIN:VEVENT
DTSTART;TZID=America/Chicago:20230928T100000
DTEND;TZID=America/Chicago:20230928T120000
DTSTAMP:20260421T225604
CREATED:20220923T135902Z
LAST-MODIFIED:20230228T181021Z
UID:10010665-1695895200-1695902400@gslcwi.com
SUMMARY:GSLC Food Pantry
DESCRIPTION:Weekly community food distribution – because Jesus said so! \nMore information on the Good Shepherd Food Pantry can be found here.
URL:https://gslcwi.com/event/gslc-food-pantry-74/2023-09-28/
LOCATION:Madison Lobby
CATEGORIES:Community Event
END:VEVENT
BEGIN:VEVENT
DTSTART;TZID=America/Chicago:20230928T100000
DTEND;TZID=America/Chicago:20230928T120000
DTSTAMP:20260421T225604
CREATED:20220923T135903Z
LAST-MODIFIED:20230228T181458Z
UID:10010769-1695895200-1695902400@gslcwi.com
SUMMARY:Clothes Closet
DESCRIPTION:More information on the Good Shepherd Clothes Closet can be found here.
URL:https://gslcwi.com/event/clothes-closet-147/2023-09-28/
LOCATION:Madison Room 6
CATEGORIES:Community Event
END:VEVENT
BEGIN:VEVENT
DTSTART;TZID=America/Chicago:20230928T170000
DTEND;TZID=America/Chicago:20230928T180000
DTSTAMP:20260421T225604
CREATED:20230831T042658Z
LAST-MODIFIED:20230928T005816Z
UID:10015465-1695920400-1695924000@gslcwi.com
SUMMARY:Basketball
DESCRIPTION:
URL:https://gslcwi.com/event/basketball-stefanie-c-3/
LOCATION:Verona Gym
CATEGORIES:Sports,Verona Gym
END:VEVENT
BEGIN:VEVENT
DTSTART;TZID=America/Chicago:20230928T173000
DTEND;TZID=America/Chicago:20230928T190000
DTSTAMP:20260421T225604
CREATED:20220928T111753Z
LAST-MODIFIED:20230302T174342Z
UID:10010873-1695922200-1695927600@gslcwi.com
SUMMARY:GSLC Food Pantry
DESCRIPTION:Weekly community food distribution – because Jesus said so! \nMore information on the Good Shepherd Food Pantry can be found here.
URL:https://gslcwi.com/event/gslc-food-pantrty-86/2023-09-28/
LOCATION:Madison Lobby
CATEGORIES:Community Event
END:VEVENT
BEGIN:VEVENT
DTSTART;TZID=America/Chicago:20230928T180000
DTEND;TZID=America/Chicago:20230928T190000
DTSTAMP:20260421T225604
CREATED:20230905T183058Z
LAST-MODIFIED:20230905T183059Z
UID:10015517-1695924000-1695927600@gslcwi.com
SUMMARY:Virtual Baptism Class
DESCRIPTION:Our next baptism class will be held Thursday\, September 28 at 6:00 p.m. via Zoom. This class is for individuals interested in baptism here at Good Shepherd. To register or for more information\, contact Emily Gold.
URL:https://gslcwi.com/event/virtual-baptism-class-2/
LOCATION:Zoom Meeting
CATEGORIES:Children's Ministry
ATTACH;FMTTYPE=image/png:https://gslcwi.com/wp-content/uploads/2023/09/Baptism-Class-Sept-2023.png
ORGANIZER;CN="Emily Gold":MAILTO:egold@gslcwi.com
END:VEVENT
BEGIN:VEVENT
DTSTART;TZID=America/Chicago:20230928T180000
DTEND;TZID=America/Chicago:20230928T193000
DTSTAMP:20260421T225604
CREATED:20230817T050208Z
LAST-MODIFIED:20230928T004442Z
UID:10015378-1695924000-1695929400@gslcwi.com
SUMMARY:FIBROMYALGIA WARRIOR WELLNESS SUPPORT GROUP
DESCRIPTION:
URL:https://gslcwi.com/event/fibromyalgia-warrior-wellness-support-group-5/
LOCATION:Madison Good Shepherd Room
CATEGORIES:External Group
END:VEVENT
BEGIN:VEVENT
DTSTART;TZID=America/Chicago:20230928T180000
DTEND;TZID=America/Chicago:20230928T193000
DTSTAMP:20260421T225604
CREATED:20230831T041104Z
LAST-MODIFIED:20230928T004441Z
UID:10015464-1695924000-1695929400@gslcwi.com
SUMMARY:Den Meeting
DESCRIPTION:
URL:https://gslcwi.com/event/den-meeting-29/
LOCATION:Verona Room 6; Verona Room 7
CATEGORIES:External Group
END:VEVENT
BEGIN:VEVENT
DTSTART;TZID=America/Chicago:20230928T190000
DTEND;TZID=America/Chicago:20230928T210000
DTSTAMP:20260421T225604
CREATED:20221025T213413Z
LAST-MODIFIED:20230228T181705Z
UID:10010561-1695927600-1695934800@gslcwi.com
SUMMARY:Band Rehearsal
DESCRIPTION:
URL:https://gslcwi.com/event/band-rehearsal/2023-09-28/
LOCATION:Verona Campus\, 7291 County Rd PD\, Verona\, WI\, 53593\, United States
CATEGORIES:Music
END:VEVENT
END:VCALENDAR