BEGIN:VCALENDAR
VERSION:2.0
PRODID:-//Good Shepherd Lutheran Church - ECPv6.15.20//NONSGML v1.0//EN
CALSCALE:GREGORIAN
METHOD:PUBLISH
X-WR-CALNAME:Good Shepherd Lutheran Church
X-ORIGINAL-URL:https://gslcwi.com
X-WR-CALDESC:Events for Good Shepherd Lutheran Church
REFRESH-INTERVAL;VALUE=DURATION:PT1H
X-Robots-Tag:noindex
X-PUBLISHED-TTL:PT1H
BEGIN:VTIMEZONE
TZID:America/Chicago
BEGIN:DAYLIGHT
TZOFFSETFROM:-0600
TZOFFSETTO:-0500
TZNAME:CDT
DTSTART:20220313T080000
END:DAYLIGHT
BEGIN:STANDARD
TZOFFSETFROM:-0500
TZOFFSETTO:-0600
TZNAME:CST
DTSTART:20221106T070000
END:STANDARD
BEGIN:DAYLIGHT
TZOFFSETFROM:-0600
TZOFFSETTO:-0500
TZNAME:CDT
DTSTART:20230312T080000
END:DAYLIGHT
BEGIN:STANDARD
TZOFFSETFROM:-0500
TZOFFSETTO:-0600
TZNAME:CST
DTSTART:20231105T070000
END:STANDARD
BEGIN:DAYLIGHT
TZOFFSETFROM:-0600
TZOFFSETTO:-0500
TZNAME:CDT
DTSTART:20240310T080000
END:DAYLIGHT
BEGIN:STANDARD
TZOFFSETFROM:-0500
TZOFFSETTO:-0600
TZNAME:CST
DTSTART:20241103T070000
END:STANDARD
END:VTIMEZONE
BEGIN:VEVENT
DTSTART;TZID=America/Chicago:20231010T080000
DTEND;TZID=America/Chicago:20231010T160000
DTSTAMP:20260421T132210
CREATED:20230928T025412Z
LAST-MODIFIED:20231005T150255Z
UID:10016905-1696924800-1696953600@gslcwi.com
SUMMARY:United Week of Prayer
DESCRIPTION:In partnership with the Collaboration Project\, Good Shepherd is hosting a prayer space for Madison’s United Week of Prayer this year.\nThe vision is that throughout October 8-15\, people of faith around the Madison area will come together to pray deep and wide. The Verona Campus Chapel will be open the following times: \n\nSunday\, October 8th-12:00-4:00 p.m.\nMonday\, October 9-13th-8:00 a.m.-4:00 p.m.\nSunday\, October 15th 8:00 a.m.-12:00 p.m.\n\nWe encourage you to sign up for an hour of prayer in our interactive prayer space at the Verona Campus Chapel individually or in a group. Let’s unite in prayer for our Community! Visit this page to signup for a worship space.
URL:https://gslcwi.com/event/united-week-of-prayer-3/
LOCATION:Verona Chapel
CATEGORIES:Community Event,Worship
ATTACH;FMTTYPE=image/jpeg:https://gslcwi.com/wp-content/uploads/2023/09/united-week-of-prayer.jpg
END:VEVENT
BEGIN:VEVENT
DTSTART;TZID=America/Chicago:20231010T083000
DTEND;TZID=America/Chicago:20231010T093000
DTSTAMP:20260421T132210
CREATED:20230823T184631Z
LAST-MODIFIED:20230913T200714Z
UID:10015417-1696926600-1696930200@gslcwi.com
SUMMARY:Birth through 3 Playgroup
DESCRIPTION:Connect at Playgroup starting Tuesday\, September 5\, from 8:30-9:30 a.m. at the Verona Campus gym. Caregivers with children ages 0-3 are invited to join us for playgroup on Tuesday mornings from 8:30-9:30 am. Enjoy group story time\, rhymes\, songs and time for caregivers and babies to socialize! We will meet weekly from September through May. Contact Emily Gold with any questions.
URL:https://gslcwi.com/event/birth-through-3-playgroup/2023-10-10/
LOCATION:Verona Gym
CATEGORIES:Children's Ministry,Fellowship,Verona Gym
ATTACH;FMTTYPE=image/png:https://gslcwi.com/wp-content/uploads/2023/08/playgroup.png
ORGANIZER;CN="Emily Gold":MAILTO:egold@gslcwi.com
END:VEVENT
BEGIN:VEVENT
DTSTART;TZID=America/Chicago:20231010T090000
DTEND;TZID=America/Chicago:20231010T110000
DTSTAMP:20260421T132210
CREATED:20230320T152255Z
LAST-MODIFIED:20230921T134352Z
UID:10013333-1696928400-1696935600@gslcwi.com
SUMMARY:Tuesday Trekkers
DESCRIPTION:Join other GS folks for an hour-long hike\, Tuesdays at 9am.  Meets at different locations around the area\, enjoying fresh air and fellowship.
URL:https://gslcwi.com/event/tuesday-trekkers-8/2023-10-10/
LOCATION:Offsite
CATEGORIES:Adult Education,Fellowship,Sports
ATTACH;FMTTYPE=image/jpeg:https://gslcwi.com/wp-content/uploads/2023/03/trekers720.jpg
ORGANIZER;CN="Diane Hughes":MAILTO:dhhands@sbcglobal.net
END:VEVENT
BEGIN:VEVENT
DTSTART;TZID=America/Chicago:20231010T150000
DTEND;TZID=America/Chicago:20231010T170000
DTSTAMP:20260421T132210
CREATED:20230831T055812Z
LAST-MODIFIED:20231005T013520Z
UID:10015494-1696950000-1696957200@gslcwi.com
SUMMARY:Pickleball
DESCRIPTION:
URL:https://gslcwi.com/event/pickleball-206/
LOCATION:Verona Gym
CATEGORIES:Sports,Verona Gym
END:VEVENT
BEGIN:VEVENT
DTSTART;TZID=America/Chicago:20231010T180000
DTEND;TZID=America/Chicago:20231010T200000
DTSTAMP:20260421T132210
CREATED:20230928T031140Z
LAST-MODIFIED:20231005T014301Z
UID:10016906-1696960800-1696968000@gslcwi.com
SUMMARY:Lion Den Meeting
DESCRIPTION:
URL:https://gslcwi.com/event/lion-den-meeting/
LOCATION:Madison Room 11/The Sheep Fold
CATEGORIES:External Group
END:VEVENT
BEGIN:VEVENT
DTSTART;TZID=America/Chicago:20231010T183000
DTEND;TZID=America/Chicago:20231010T193000
DTSTAMP:20260421T132210
CREATED:20230928T031141Z
LAST-MODIFIED:20231005T015348Z
UID:10016907-1696962600-1696966200@gslcwi.com
SUMMARY:Worship\, Music & Arts Committee Meeting
DESCRIPTION:
URL:https://gslcwi.com/event/worship-and-music-arts-committee-meeting/
LOCATION:Verona Coffee Bar
CATEGORIES:Committees,Meetings,Music,Worship
END:VEVENT
BEGIN:VEVENT
DTSTART;TZID=America/Chicago:20231010T183000
DTEND;TZID=America/Chicago:20231010T203000
DTSTAMP:20260421T132210
CREATED:20230831T060430Z
LAST-MODIFIED:20231005T014302Z
UID:10015495-1696962600-1696969800@gslcwi.com
SUMMARY:Stephen Ministry
DESCRIPTION:
URL:https://gslcwi.com/event/stephen-ministry-31/
LOCATION:Verona Family Lounge
CATEGORIES:Fellowship,Service
ATTACH;FMTTYPE=image/jpeg:https://gslcwi.com/wp-content/uploads/2019/02/stephen.jpg
END:VEVENT
BEGIN:VEVENT
DTSTART;TZID=America/Chicago:20231010T183000
DTEND;TZID=America/Chicago:20231010T210000
DTSTAMP:20260421T132210
CREATED:20230831T060430Z
LAST-MODIFIED:20231005T014302Z
UID:10015496-1696962600-1696971600@gslcwi.com
SUMMARY:Boy Scouts
DESCRIPTION:
URL:https://gslcwi.com/event/boy-scouts-133/
LOCATION:Verona Fellowship Hall
CATEGORIES:External Group
END:VEVENT
BEGIN:VEVENT
DTSTART;TZID=America/Chicago:20231010T190000
DTEND;TZID=America/Chicago:20231010T200000
DTSTAMP:20260421T132210
CREATED:20230921T142540Z
LAST-MODIFIED:20230921T152532Z
UID:10016638-1696964400-1696968000@gslcwi.com
SUMMARY:Wine and Word Women's Study
DESCRIPTION:
URL:https://gslcwi.com/event/wine-and-word-womens-study/2023-10-10/
LOCATION:RP Adler’s\, 8202 Watts Rd\, Madison\, WI\, 53711\, United States
CATEGORIES:Bible Study,Women's Ministry
ORGANIZER;CN="Liz Deterding":MAILTO:elizabeth.deterding@gmail.com
END:VEVENT
BEGIN:VEVENT
DTSTART;TZID=America/Chicago:20231010T190000
DTEND;TZID=America/Chicago:20231010T210000
DTSTAMP:20260421T132210
CREATED:20230831T060431Z
LAST-MODIFIED:20231005T014303Z
UID:10015497-1696964400-1696971600@gslcwi.com
SUMMARY:AA Meeting
DESCRIPTION:
URL:https://gslcwi.com/event/aa-meeting-83/
LOCATION:Verona Room 6
CATEGORIES:External Group
END:VEVENT
END:VCALENDAR