BEGIN:VCALENDAR
VERSION:2.0
PRODID:-//Good Shepherd Lutheran Church - ECPv6.15.20//NONSGML v1.0//EN
CALSCALE:GREGORIAN
METHOD:PUBLISH
X-ORIGINAL-URL:https://gslcwi.com
X-WR-CALDESC:Events for Good Shepherd Lutheran Church
REFRESH-INTERVAL;VALUE=DURATION:PT1H
X-Robots-Tag:noindex
X-PUBLISHED-TTL:PT1H
BEGIN:VTIMEZONE
TZID:America/Chicago
BEGIN:DAYLIGHT
TZOFFSETFROM:-0600
TZOFFSETTO:-0500
TZNAME:CDT
DTSTART:20220313T080000
END:DAYLIGHT
BEGIN:STANDARD
TZOFFSETFROM:-0500
TZOFFSETTO:-0600
TZNAME:CST
DTSTART:20221106T070000
END:STANDARD
BEGIN:DAYLIGHT
TZOFFSETFROM:-0600
TZOFFSETTO:-0500
TZNAME:CDT
DTSTART:20230312T080000
END:DAYLIGHT
BEGIN:STANDARD
TZOFFSETFROM:-0500
TZOFFSETTO:-0600
TZNAME:CST
DTSTART:20231105T070000
END:STANDARD
BEGIN:DAYLIGHT
TZOFFSETFROM:-0600
TZOFFSETTO:-0500
TZNAME:CDT
DTSTART:20240310T080000
END:DAYLIGHT
BEGIN:STANDARD
TZOFFSETFROM:-0500
TZOFFSETTO:-0600
TZNAME:CST
DTSTART:20241103T070000
END:STANDARD
END:VTIMEZONE
BEGIN:VEVENT
DTSTART;TZID=America/Chicago:20231105T090000
DTEND;TZID=America/Chicago:20231105T100000
DTSTAMP:20260421T171256
CREATED:20230821T195753Z
LAST-MODIFIED:20230905T200955Z
UID:10010983-1699174800-1699178400@gslcwi.com
SUMMARY:9:00 Worship Service & Church School
DESCRIPTION:You’re invited to the intersection of Whitney Way and Raymond Road for a morning of worship with traditional Lutheran textures and rhythms.
URL:https://gslcwi.com/event/900-worship-service-24-13-2/2023-11-05/
LOCATION:Madison Sanctuary
CATEGORIES:Worship
END:VEVENT
BEGIN:VEVENT
DTSTART;TZID=America/Chicago:20231105T110000
DTEND;TZID=America/Chicago:20231105T120000
DTSTAMP:20260421T171256
CREATED:20231005T063443Z
LAST-MODIFIED:20231102T014713Z
UID:10017066-1699182000-1699185600@gslcwi.com
SUMMARY:Children’s Choir
DESCRIPTION:
URL:https://gslcwi.com/event/childrens-choir-8/
LOCATION:Verona Music Room
CATEGORIES:Children's Ministry,Music
END:VEVENT
BEGIN:VEVENT
DTSTART;TZID=America/Chicago:20231105T120000
DTEND;TZID=America/Chicago:20231105T150000
DTSTAMP:20260421T171256
CREATED:20231102T015940Z
LAST-MODIFIED:20231102T015940Z
UID:10017220-1699185600-1699196400@gslcwi.com
SUMMARY:Iglesia evangelica el remanente
DESCRIPTION:
URL:https://gslcwi.com/event/iglesia-evangelica-el-remanente-141/
LOCATION:Madison Peterson Hall
END:VEVENT
BEGIN:VEVENT
DTSTART;TZID=America/Chicago:20231105T120000
DTEND;TZID=America/Chicago:20231105T170000
DTSTAMP:20260421T171256
CREATED:20220925T214225Z
LAST-MODIFIED:20230307T202102Z
UID:10011605-1699185600-1699203600@gslcwi.com
SUMMARY:Pickleball
DESCRIPTION:
URL:https://gslcwi.com/event/pickleball-81/2023-11-05/
LOCATION:Verona Gym
CATEGORIES:Sports,Verona Gym
ATTACH;FMTTYPE=image/jpeg:https://gslcwi.com/wp-content/uploads/2023/02/pickleball2-1.jpg
END:VEVENT
BEGIN:VEVENT
DTSTART;TZID=America/Chicago:20231105T130000
DTEND;TZID=America/Chicago:20231105T160000
DTSTAMP:20260421T171256
CREATED:20231005T063758Z
LAST-MODIFIED:20231031T162709Z
UID:10017069-1699189200-1699200000@gslcwi.com
SUMMARY:Iglesia evangelica el remanente
DESCRIPTION:
URL:https://gslcwi.com/event/iglesia-evangelica-el-remanente-136/
LOCATION:Madison Peterson Hall
CATEGORIES:External Group
END:VEVENT
BEGIN:VEVENT
DTSTART;TZID=America/Chicago:20231105T130000
DTEND;TZID=America/Chicago:20231105T160000
DTSTAMP:20260421T171256
CREATED:20231102T015939Z
LAST-MODIFIED:20231102T015939Z
UID:10017219-1699189200-1699200000@gslcwi.com
SUMMARY:Pickleball
DESCRIPTION:
URL:https://gslcwi.com/event/pickleball-224/
LOCATION:Verona Gym
END:VEVENT
BEGIN:VEVENT
DTSTART;TZID=America/Chicago:20231105T140000
DTEND;TZID=America/Chicago:20231105T153000
DTSTAMP:20260421T171256
CREATED:20231005T063757Z
LAST-MODIFIED:20231102T015939Z
UID:10017067-1699192800-1699198200@gslcwi.com
SUMMARY:Girl Scouts
DESCRIPTION:
URL:https://gslcwi.com/event/girl-scouts-54/
LOCATION:Madison Room 11/The Sheep Fold
CATEGORIES:External Group
END:VEVENT
BEGIN:VEVENT
DTSTART;TZID=America/Chicago:20231105T140000
DTEND;TZID=America/Chicago:20231105T170000
DTSTAMP:20260421T171256
CREATED:20231005T063758Z
LAST-MODIFIED:20231031T162738Z
UID:10017068-1699192800-1699203600@gslcwi.com
SUMMARY:Pickleball
DESCRIPTION:
URL:https://gslcwi.com/event/pickleball-213/
LOCATION:Verona Gym
CATEGORIES:Sports,Verona Gym
END:VEVENT
END:VCALENDAR