BEGIN:VCALENDAR
VERSION:2.0
PRODID:-//Good Shepherd Lutheran Church - ECPv6.15.20//NONSGML v1.0//EN
CALSCALE:GREGORIAN
METHOD:PUBLISH
X-WR-CALNAME:Good Shepherd Lutheran Church
X-ORIGINAL-URL:https://gslcwi.com
X-WR-CALDESC:Events for Good Shepherd Lutheran Church
REFRESH-INTERVAL;VALUE=DURATION:PT1H
X-Robots-Tag:noindex
X-PUBLISHED-TTL:PT1H
BEGIN:VTIMEZONE
TZID:America/Chicago
BEGIN:DAYLIGHT
TZOFFSETFROM:-0600
TZOFFSETTO:-0500
TZNAME:CDT
DTSTART:20220313T080000
END:DAYLIGHT
BEGIN:STANDARD
TZOFFSETFROM:-0500
TZOFFSETTO:-0600
TZNAME:CST
DTSTART:20221106T070000
END:STANDARD
BEGIN:DAYLIGHT
TZOFFSETFROM:-0600
TZOFFSETTO:-0500
TZNAME:CDT
DTSTART:20230312T080000
END:DAYLIGHT
BEGIN:STANDARD
TZOFFSETFROM:-0500
TZOFFSETTO:-0600
TZNAME:CST
DTSTART:20231105T070000
END:STANDARD
BEGIN:DAYLIGHT
TZOFFSETFROM:-0600
TZOFFSETTO:-0500
TZNAME:CDT
DTSTART:20240310T080000
END:DAYLIGHT
BEGIN:STANDARD
TZOFFSETFROM:-0500
TZOFFSETTO:-0600
TZNAME:CST
DTSTART:20241103T070000
END:STANDARD
END:VTIMEZONE
BEGIN:VEVENT
DTSTART;TZID=America/Chicago:20231114T083000
DTEND;TZID=America/Chicago:20231114T093000
DTSTAMP:20260422T084000
CREATED:20230823T184631Z
LAST-MODIFIED:20230913T200714Z
UID:10015422-1699950600-1699954200@gslcwi.com
SUMMARY:Birth through 3 Playgroup
DESCRIPTION:Connect at Playgroup starting Tuesday\, September 5\, from 8:30-9:30 a.m. at the Verona Campus gym. Caregivers with children ages 0-3 are invited to join us for playgroup on Tuesday mornings from 8:30-9:30 am. Enjoy group story time\, rhymes\, songs and time for caregivers and babies to socialize! We will meet weekly from September through May. Contact Emily Gold with any questions.
URL:https://gslcwi.com/event/birth-through-3-playgroup/2023-11-14/
LOCATION:Verona Gym
CATEGORIES:Children's Ministry,Fellowship,Verona Gym
ATTACH;FMTTYPE=image/png:https://gslcwi.com/wp-content/uploads/2023/08/playgroup.png
ORGANIZER;CN="Emily Gold":MAILTO:egold@gslcwi.com
END:VEVENT
BEGIN:VEVENT
DTSTART;TZID=America/Chicago:20231114T090000
DTEND;TZID=America/Chicago:20231114T110000
DTSTAMP:20260422T084000
CREATED:20230320T152255Z
LAST-MODIFIED:20230921T134352Z
UID:10013338-1699952400-1699959600@gslcwi.com
SUMMARY:Tuesday Trekkers
DESCRIPTION:Join other GS folks for an hour-long hike\, Tuesdays at 9am.  Meets at different locations around the area\, enjoying fresh air and fellowship.
URL:https://gslcwi.com/event/tuesday-trekkers-8/2023-11-14/
LOCATION:Offsite
CATEGORIES:Adult Education,Fellowship,Sports
ATTACH;FMTTYPE=image/jpeg:https://gslcwi.com/wp-content/uploads/2023/03/trekers720.jpg
ORGANIZER;CN="Diane Hughes":MAILTO:dhhands@sbcglobal.net
END:VEVENT
BEGIN:VEVENT
DTSTART;TZID=America/Chicago:20231114T093000
DTEND;TZID=America/Chicago:20231114T120000
DTSTAMP:20260422T084000
CREATED:20231019T064154Z
LAST-MODIFIED:20231109T021437Z
UID:10017130-1699954200-1699963200@gslcwi.com
SUMMARY:Quilt Group
DESCRIPTION:
URL:https://gslcwi.com/event/quilt-group/
LOCATION:Verona Fellowship Hall
CATEGORIES:Fellowship,Service
ATTACH;FMTTYPE=image/jpeg:https://gslcwi.com/wp-content/uploads/2023/04/quilters.jpg
END:VEVENT
BEGIN:VEVENT
DTSTART;TZID=America/Chicago:20231114T150000
DTEND;TZID=America/Chicago:20231114T170000
DTSTAMP:20260422T084000
CREATED:20231019T064901Z
LAST-MODIFIED:20231031T192803Z
UID:10017132-1699974000-1699981200@gslcwi.com
SUMMARY:Pickleball
DESCRIPTION:
URL:https://gslcwi.com/event/pickleball-216/
LOCATION:Verona Gym
CATEGORIES:Sports,Verona Gym
END:VEVENT
BEGIN:VEVENT
DTSTART;TZID=America/Chicago:20231114T180000
DTEND;TZID=America/Chicago:20231114T190000
DTSTAMP:20260422T084000
CREATED:20231102T034652Z
LAST-MODIFIED:20231109T021535Z
UID:10017227-1699984800-1699988400@gslcwi.com
SUMMARY:Folstrom Basketball
DESCRIPTION:
URL:https://gslcwi.com/event/folstrom-basketball/
LOCATION:Verona Gym
CATEGORIES:Sports,Verona Gym
END:VEVENT
BEGIN:VEVENT
DTSTART;TZID=America/Chicago:20231114T180000
DTEND;TZID=America/Chicago:20231114T200000
DTSTAMP:20260422T084000
CREATED:20231019T064903Z
LAST-MODIFIED:20231109T021537Z
UID:10017135-1699984800-1699992000@gslcwi.com
SUMMARY:Lion Den Meeting
DESCRIPTION:
URL:https://gslcwi.com/event/lion-den-meeting-2/
LOCATION:Madison Room 11/The Sheep Fold
CATEGORIES:External Group
END:VEVENT
BEGIN:VEVENT
DTSTART;TZID=America/Chicago:20231114T183000
DTEND;TZID=America/Chicago:20231114T200000
DTSTAMP:20260422T084000
CREATED:20231102T033037Z
LAST-MODIFIED:20231109T021535Z
UID:10017226-1699986600-1699992000@gslcwi.com
SUMMARY:Worship and Music Committee
DESCRIPTION:
URL:https://gslcwi.com/event/worship-and-music-cmte/
LOCATION:Madison Good Shepherd Room
CATEGORIES:Committees,Meetings,Music,Worship
END:VEVENT
BEGIN:VEVENT
DTSTART;TZID=America/Chicago:20231114T183000
DTEND;TZID=America/Chicago:20231114T203000
DTSTAMP:20260422T084000
CREATED:20231019T064902Z
LAST-MODIFIED:20231109T021536Z
UID:10017133-1699986600-1699993800@gslcwi.com
SUMMARY:Stephen Ministry TRAINING
DESCRIPTION:
URL:https://gslcwi.com/event/stephen-ministry-36/
LOCATION:Verona Family Lounge
CATEGORIES:Fellowship,Service
END:VEVENT
BEGIN:VEVENT
DTSTART;TZID=America/Chicago:20231114T190000
DTEND;TZID=America/Chicago:20231114T200000
DTSTAMP:20260422T084000
CREATED:20230921T142540Z
LAST-MODIFIED:20230921T152532Z
UID:10016643-1699988400-1699992000@gslcwi.com
SUMMARY:Wine and Word Women's Study
DESCRIPTION:
URL:https://gslcwi.com/event/wine-and-word-womens-study/2023-11-14/
LOCATION:RP Adler’s\, 8202 Watts Rd\, Madison\, WI\, 53711\, United States
CATEGORIES:Bible Study,Women's Ministry
ORGANIZER;CN="Liz Deterding":MAILTO:elizabeth.deterding@gmail.com
END:VEVENT
BEGIN:VEVENT
DTSTART;TZID=America/Chicago:20231114T190000
DTEND;TZID=America/Chicago:20231114T210000
DTSTAMP:20260422T084000
CREATED:20231019T070142Z
LAST-MODIFIED:20231109T023214Z
UID:10017136-1699988400-1699995600@gslcwi.com
SUMMARY:AA Meeting
DESCRIPTION:
URL:https://gslcwi.com/event/aa-meeting-88/
LOCATION:Verona Room 6
CATEGORIES:External Group
END:VEVENT
END:VCALENDAR