BEGIN:VCALENDAR
VERSION:2.0
PRODID:-//Good Shepherd Lutheran Church - ECPv6.15.20//NONSGML v1.0//EN
CALSCALE:GREGORIAN
METHOD:PUBLISH
X-WR-CALNAME:Good Shepherd Lutheran Church
X-ORIGINAL-URL:https://gslcwi.com
X-WR-CALDESC:Events for Good Shepherd Lutheran Church
REFRESH-INTERVAL;VALUE=DURATION:PT1H
X-Robots-Tag:noindex
X-PUBLISHED-TTL:PT1H
BEGIN:VTIMEZONE
TZID:America/Chicago
BEGIN:DAYLIGHT
TZOFFSETFROM:-0600
TZOFFSETTO:-0500
TZNAME:CDT
DTSTART:20220313T080000
END:DAYLIGHT
BEGIN:STANDARD
TZOFFSETFROM:-0500
TZOFFSETTO:-0600
TZNAME:CST
DTSTART:20221106T070000
END:STANDARD
BEGIN:DAYLIGHT
TZOFFSETFROM:-0600
TZOFFSETTO:-0500
TZNAME:CDT
DTSTART:20230312T080000
END:DAYLIGHT
BEGIN:STANDARD
TZOFFSETFROM:-0500
TZOFFSETTO:-0600
TZNAME:CST
DTSTART:20231105T070000
END:STANDARD
BEGIN:DAYLIGHT
TZOFFSETFROM:-0600
TZOFFSETTO:-0500
TZNAME:CDT
DTSTART:20240310T080000
END:DAYLIGHT
BEGIN:STANDARD
TZOFFSETFROM:-0500
TZOFFSETTO:-0600
TZNAME:CST
DTSTART:20241103T070000
END:STANDARD
END:VTIMEZONE
BEGIN:VEVENT
DTSTART;TZID=America/Chicago:20231116T100000
DTEND;TZID=America/Chicago:20231116T120000
DTSTAMP:20260420T041851
CREATED:20220923T135902Z
LAST-MODIFIED:20230228T181021Z
UID:10010672-1700128800-1700136000@gslcwi.com
SUMMARY:GSLC Food Pantry
DESCRIPTION:Weekly community food distribution – because Jesus said so! \nMore information on the Good Shepherd Food Pantry can be found here.
URL:https://gslcwi.com/event/gslc-food-pantry-74/2023-11-16/
LOCATION:Madison Lobby
CATEGORIES:Community Event
END:VEVENT
BEGIN:VEVENT
DTSTART;TZID=America/Chicago:20231116T100000
DTEND;TZID=America/Chicago:20231116T120000
DTSTAMP:20260420T041851
CREATED:20220923T135903Z
LAST-MODIFIED:20230228T181458Z
UID:10010776-1700128800-1700136000@gslcwi.com
SUMMARY:Clothes Closet
DESCRIPTION:More information on the Good Shepherd Clothes Closet can be found here.
URL:https://gslcwi.com/event/clothes-closet-147/2023-11-16/
LOCATION:Madison Room 6
CATEGORIES:Community Event
END:VEVENT
BEGIN:VEVENT
DTSTART;TZID=America/Chicago:20231116T133000
DTEND;TZID=America/Chicago:20231116T150000
DTSTAMP:20260420T041851
CREATED:20231019T071930Z
LAST-MODIFIED:20231116T014332Z
UID:10017149-1700141400-1700146800@gslcwi.com
SUMMARY:Knitting Group
DESCRIPTION:
URL:https://gslcwi.com/event/knitting-group-7/
LOCATION:Madison Lobby
CATEGORIES:Fellowship
END:VEVENT
BEGIN:VEVENT
DTSTART;TZID=America/Chicago:20231116T170000
DTEND;TZID=America/Chicago:20231116T180000
DTSTAMP:20260420T041851
CREATED:20231102T040710Z
LAST-MODIFIED:20231116T014332Z
UID:10017228-1700154000-1700157600@gslcwi.com
SUMMARY:Folstrom Basketball
DESCRIPTION:
URL:https://gslcwi.com/event/folstrom-basketball-2/
LOCATION:Verona Gym
CATEGORIES:Sports,Verona Gym
END:VEVENT
BEGIN:VEVENT
DTSTART;TZID=America/Chicago:20231116T173000
DTEND;TZID=America/Chicago:20231116T183000
DTSTAMP:20260420T041851
CREATED:20231019T072552Z
LAST-MODIFIED:20231116T014333Z
UID:10017153-1700155800-1700159400@gslcwi.com
SUMMARY:RIC Task Force
DESCRIPTION:
URL:https://gslcwi.com/event/ric-task-force-2/
LOCATION:Madison Room 11/The Sheep Fold
CATEGORIES:Fellowship,Meetings
END:VEVENT
BEGIN:VEVENT
DTSTART;TZID=America/Chicago:20231116T173000
DTEND;TZID=America/Chicago:20231116T190000
DTSTAMP:20260420T041851
CREATED:20220928T111753Z
LAST-MODIFIED:20230302T174342Z
UID:10010880-1700155800-1700161200@gslcwi.com
SUMMARY:GSLC Food Pantry
DESCRIPTION:Weekly community food distribution – because Jesus said so! \nMore information on the Good Shepherd Food Pantry can be found here.
URL:https://gslcwi.com/event/gslc-food-pantrty-86/2023-11-16/
LOCATION:Madison Lobby
CATEGORIES:Community Event
END:VEVENT
BEGIN:VEVENT
DTSTART;TZID=America/Chicago:20231116T180000
DTEND;TZID=America/Chicago:20231116T200000
DTSTAMP:20260420T041851
CREATED:20231019T071931Z
LAST-MODIFIED:20231116T014335Z
UID:10017150-1700157600-1700164800@gslcwi.com
SUMMARY:Cub Scout Pack 628
DESCRIPTION:
URL:https://gslcwi.com/event/cub-scout-pack-628-4/
LOCATION:Verona Fellowship Hall
CATEGORIES:External Group
END:VEVENT
BEGIN:VEVENT
DTSTART;TZID=America/Chicago:20231116T180000
DTEND;TZID=America/Chicago:20231116T200000
DTSTAMP:20260420T041851
CREATED:20231116T015740Z
LAST-MODIFIED:20231116T015740Z
UID:10017350-1700157600-1700164800@gslcwi.com
SUMMARY:Scott's Gym
DESCRIPTION:
URL:https://gslcwi.com/event/scotts-gym/
LOCATION:Verona Gym
END:VEVENT
BEGIN:VEVENT
DTSTART;TZID=America/Chicago:20231116T183000
DTEND;TZID=America/Chicago:20231116T193000
DTSTAMP:20260420T041851
CREATED:20231019T072551Z
LAST-MODIFIED:20231116T014334Z
UID:10017151-1700159400-1700163000@gslcwi.com
SUMMARY:Cub Scouts Den Meeting
DESCRIPTION:
URL:https://gslcwi.com/event/cub-scouts-den-meeting-13/
LOCATION:Verona Room 11
CATEGORIES:External Group
END:VEVENT
BEGIN:VEVENT
DTSTART;TZID=America/Chicago:20231116T190000
DTEND;TZID=America/Chicago:20231116T200000
DTSTAMP:20260420T041851
CREATED:20231116T015740Z
LAST-MODIFIED:20231116T015740Z
UID:10017351-1700161200-1700164800@gslcwi.com
SUMMARY:Generosity Committee
DESCRIPTION:
URL:https://gslcwi.com/event/generosity-committee-13/
LOCATION:Verona Conference Room
END:VEVENT
BEGIN:VEVENT
DTSTART;TZID=America/Chicago:20231116T190000
DTEND;TZID=America/Chicago:20231116T210000
DTSTAMP:20260420T041851
CREATED:20221025T213413Z
LAST-MODIFIED:20230228T181705Z
UID:10010568-1700161200-1700168400@gslcwi.com
SUMMARY:Band Rehearsal
DESCRIPTION:
URL:https://gslcwi.com/event/band-rehearsal/2023-11-16/
LOCATION:Verona Campus\, 7291 County Rd PD\, Verona\, WI\, 53593\, United States
CATEGORIES:Music
END:VEVENT
END:VCALENDAR