BEGIN:VCALENDAR
VERSION:2.0
PRODID:-//Good Shepherd Lutheran Church - ECPv6.15.20//NONSGML v1.0//EN
CALSCALE:GREGORIAN
METHOD:PUBLISH
X-ORIGINAL-URL:https://gslcwi.com
X-WR-CALDESC:Events for Good Shepherd Lutheran Church
REFRESH-INTERVAL;VALUE=DURATION:PT1H
X-Robots-Tag:noindex
X-PUBLISHED-TTL:PT1H
BEGIN:VTIMEZONE
TZID:America/Chicago
BEGIN:DAYLIGHT
TZOFFSETFROM:-0600
TZOFFSETTO:-0500
TZNAME:CDT
DTSTART:20230312T080000
END:DAYLIGHT
BEGIN:STANDARD
TZOFFSETFROM:-0500
TZOFFSETTO:-0600
TZNAME:CST
DTSTART:20231105T070000
END:STANDARD
BEGIN:DAYLIGHT
TZOFFSETFROM:-0600
TZOFFSETTO:-0500
TZNAME:CDT
DTSTART:20240310T080000
END:DAYLIGHT
BEGIN:STANDARD
TZOFFSETFROM:-0500
TZOFFSETTO:-0600
TZNAME:CST
DTSTART:20241103T070000
END:STANDARD
BEGIN:DAYLIGHT
TZOFFSETFROM:-0600
TZOFFSETTO:-0500
TZNAME:CDT
DTSTART:20250309T080000
END:DAYLIGHT
BEGIN:STANDARD
TZOFFSETFROM:-0500
TZOFFSETTO:-0600
TZNAME:CST
DTSTART:20251102T070000
END:STANDARD
END:VTIMEZONE
BEGIN:VEVENT
DTSTART;TZID=America/Chicago:20240213T083000
DTEND;TZID=America/Chicago:20240213T093000
DTSTAMP:20260422T043653
CREATED:20230823T184631Z
LAST-MODIFIED:20230913T200714Z
UID:10015435-1707813000-1707816600@gslcwi.com
SUMMARY:Birth through 3 Playgroup
DESCRIPTION:Connect at Playgroup starting Tuesday\, September 5\, from 8:30-9:30 a.m. at the Verona Campus gym. Caregivers with children ages 0-3 are invited to join us for playgroup on Tuesday mornings from 8:30-9:30 am. Enjoy group story time\, rhymes\, songs and time for caregivers and babies to socialize! We will meet weekly from September through May. Contact Emily Gold with any questions.
URL:https://gslcwi.com/event/birth-through-3-playgroup/2024-02-13/
LOCATION:Verona Gym
CATEGORIES:Children's Ministry,Fellowship,Verona Gym
ATTACH;FMTTYPE=image/png:https://gslcwi.com/wp-content/uploads/2023/08/playgroup.png
ORGANIZER;CN="Emily Gold":MAILTO:egold@gslcwi.com
END:VEVENT
BEGIN:VEVENT
DTSTART;TZID=America/Chicago:20240213T083000
DTEND;TZID=America/Chicago:20240213T093000
DTSTAMP:20260422T043653
CREATED:20240118T071357Z
LAST-MODIFIED:20240208T034147Z
UID:10018260-1707813000-1707816600@gslcwi.com
SUMMARY:Playgroup Tuesday
DESCRIPTION:Brent / Emily\nSet Up:\nOne table placed in front of the windows\nOne table placed near the wall to the right of windows with 6 chairs.\ngrab the small plastic slide and 2 of the cars\nI will need these tables and chairs set up and placed in the locations above each week in the Verona gym as my current pregnancy will not allow me to set up and move furniture.\nThese events have been placed in the church calendar as well.\n________________________________________________________________________________\nMicrosoft Teams meeting\nJoin on your computer\, mobile app or room device\nClick here to join the meeting\nMeeting ID: 283 183 543 011\nPasscode: tmQMSk\nDownload Teams | Join on the web\nLearn More | Meeting options\n________________________________________________________________________________
URL:https://gslcwi.com/event/playgroup-tuesday-26/
LOCATION:Verona Gym
END:VEVENT
BEGIN:VEVENT
DTSTART;TZID=America/Chicago:20240213T090000
DTEND;TZID=America/Chicago:20240213T110000
DTSTAMP:20260422T043653
CREATED:20230320T152255Z
LAST-MODIFIED:20230921T134352Z
UID:10013351-1707814800-1707822000@gslcwi.com
SUMMARY:Tuesday Trekkers
DESCRIPTION:Join other GS folks for an hour-long hike\, Tuesdays at 9am.  Meets at different locations around the area\, enjoying fresh air and fellowship.
URL:https://gslcwi.com/event/tuesday-trekkers-8/2024-02-13/
LOCATION:Offsite
CATEGORIES:Adult Education,Fellowship,Sports
ATTACH;FMTTYPE=image/jpeg:https://gslcwi.com/wp-content/uploads/2023/03/trekers720.jpg
ORGANIZER;CN="Diane Hughes":MAILTO:dhhands@sbcglobal.net
END:VEVENT
BEGIN:VEVENT
DTSTART;TZID=America/Chicago:20240213T093000
DTEND;TZID=America/Chicago:20240213T120000
DTSTAMP:20260422T043653
CREATED:20240118T071356Z
LAST-MODIFIED:20240208T034146Z
UID:10018259-1707816600-1707825600@gslcwi.com
SUMMARY:Quilt Group
DESCRIPTION:Brent /\nDonna Hintze\n\n\n\n\n\n\nTo:\n________________________________________________________________________________\nMicrosoft Teams meeting\nJoin on your computer\, mobile app or room device\nClick here to join the meeting\nMeeting ID: 261 203 402 056\nPasscode: RR92Ze\nDownload Teams | Join on the web\nLearn More | Meeting options\n________________________________________________________________________________
URL:https://gslcwi.com/event/quilt-group-4/
LOCATION:Verona Fellowship Hall
END:VEVENT
BEGIN:VEVENT
DTSTART;TZID=America/Chicago:20240213T103000
DTEND;TZID=America/Chicago:20240213T120000
DTSTAMP:20260422T043653
CREATED:20240125T060147Z
LAST-MODIFIED:20240208T034148Z
UID:10018284-1707820200-1707825600@gslcwi.com
SUMMARY:Caregiver Support Group
DESCRIPTION:Resch\, Alison Resch.Alison@countyofdane.com
URL:https://gslcwi.com/event/caregiver-support-group/
LOCATION:Madison Room 11/The Sheep Fold
END:VEVENT
BEGIN:VEVENT
DTSTART;TZID=America/Chicago:20240213T130000
DTEND;TZID=America/Chicago:20240213T143000
DTSTAMP:20260422T043653
CREATED:20240125T060148Z
LAST-MODIFIED:20240208T035310Z
UID:10018285-1707829200-1707834600@gslcwi.com
SUMMARY:Men’s Caregiver Support Group
DESCRIPTION:Resch\, Alison Resch.Alison@countyofdane.com
URL:https://gslcwi.com/event/mens-caregiver-support-group/
LOCATION:Madison Room 11/The Sheep Fold
END:VEVENT
BEGIN:VEVENT
DTSTART;TZID=America/Chicago:20240213T163000
DTEND;TZID=America/Chicago:20240213T180000
DTSTAMP:20260422T043653
CREATED:20240118T071358Z
LAST-MODIFIED:20240208T035310Z
UID:10018263-1707841800-1707847200@gslcwi.com
SUMMARY:Middle School Cooking Class
DESCRIPTION:Beckfield\, Scott ABeckfield@cityofmadison.com\nRick Thomas
URL:https://gslcwi.com/event/middle-school-cooking-class-5/
LOCATION:Madison Kitchen
END:VEVENT
BEGIN:VEVENT
DTSTART;TZID=America/Chicago:20240213T170000
DTEND;TZID=America/Chicago:20240213T190000
DTSTAMP:20260422T043653
CREATED:20240125T060445Z
LAST-MODIFIED:20240208T035312Z
UID:10018286-1707843600-1707850800@gslcwi.com
SUMMARY:f
DESCRIPTION:
URL:https://gslcwi.com/event/f/
END:VEVENT
BEGIN:VEVENT
DTSTART;TZID=America/Chicago:20240213T170000
DTEND;TZID=America/Chicago:20240213T190000
DTSTAMP:20260422T043653
CREATED:20240125T061843Z
LAST-MODIFIED:20240212T212140Z
UID:10018288-1707843600-1707850800@gslcwi.com
SUMMARY:Shrove Tuesday Dinner
DESCRIPTION:All are invited on Tuesday\, February 13th from 5:00-7:00 p.m. in Peterson Hall at the Madison campus of Good Shepherd for the annual Shrove Tuesday meal of pancakes and bacon.\nThe meal is open to all and is a free-will donation event.
URL:https://gslcwi.com/event/shrove-tuesday-dinner/
LOCATION:Madison Peterson Hall
CATEGORIES:Community Event
ATTACH;FMTTYPE=image/jpeg:https://gslcwi.com/wp-content/uploads/2024/01/shrove2024.jpg
ORGANIZER;CN="Rick Thomas":MAILTO:rthomas@gslcwi.com
END:VEVENT
BEGIN:VEVENT
DTSTART;TZID=America/Chicago:20240213T180000
DTEND;TZID=America/Chicago:20240213T190000
DTSTAMP:20260422T043653
CREATED:20240118T071358Z
LAST-MODIFIED:20240208T035446Z
UID:10018262-1707847200-1707850800@gslcwi.com
SUMMARY:Folstrom Basketball
DESCRIPTION:Ayzia Folstrom afolstrom@edgewoodk8.com
URL:https://gslcwi.com/event/folstrom-basketball-22/
LOCATION:Verona Gym
END:VEVENT
BEGIN:VEVENT
DTSTART;TZID=America/Chicago:20240213T180000
DTEND;TZID=America/Chicago:20240213T200000
DTSTAMP:20260422T043653
CREATED:20240118T071435Z
LAST-MODIFIED:20240208T035311Z
UID:10018265-1707847200-1707854400@gslcwi.com
SUMMARY:Lion Den Meeting
DESCRIPTION:Nicole Dederich ndederich83@gmail.com
URL:https://gslcwi.com/event/lion-den-meeting-5/
LOCATION:Madison Room 11/The Sheep Fold
END:VEVENT
BEGIN:VEVENT
DTSTART;TZID=America/Chicago:20240213T183000
DTEND;TZID=America/Chicago:20240213T200000
DTSTAMP:20260422T043653
CREATED:20240125T061843Z
LAST-MODIFIED:20240208T035445Z
UID:10018287-1707849000-1707854400@gslcwi.com
SUMMARY:Worship and Music Arts
DESCRIPTION:Brent / Mike
URL:https://gslcwi.com/event/worship-and-music-arts-4/
LOCATION:Verona Coffee Bar
END:VEVENT
BEGIN:VEVENT
DTSTART;TZID=America/Chicago:20240213T183000
DTEND;TZID=America/Chicago:20240213T210000
DTSTAMP:20260422T043653
CREATED:20240118T071434Z
LAST-MODIFIED:20240208T035312Z
UID:10018264-1707849000-1707858000@gslcwi.com
SUMMARY:Boy Scouts
DESCRIPTION:Amy Byrnes – Scout Master ajmbyrnes@yahoo.com\nMatt Watrud – Scout Master watrud@uwalumni.com\nRodney Jayroe – assistant Scout Master lrjayroe@yahoo.com
URL:https://gslcwi.com/event/boy-scouts-151/
LOCATION:Verona Fellowship Hall
END:VEVENT
BEGIN:VEVENT
DTSTART;TZID=America/Chicago:20240213T190000
DTEND;TZID=America/Chicago:20240213T200000
DTSTAMP:20260422T043653
CREATED:20230921T142540Z
LAST-MODIFIED:20230921T152532Z
UID:10016656-1707850800-1707854400@gslcwi.com
SUMMARY:Wine and Word Women's Study
DESCRIPTION:
URL:https://gslcwi.com/event/wine-and-word-womens-study/2024-02-13/
LOCATION:RP Adler’s\, 8202 Watts Rd\, Madison\, WI\, 53711\, United States
CATEGORIES:Bible Study,Women's Ministry
ORGANIZER;CN="Liz Deterding":MAILTO:elizabeth.deterding@gmail.com
END:VEVENT
BEGIN:VEVENT
DTSTART;TZID=America/Chicago:20240213T190000
DTEND;TZID=America/Chicago:20240213T210000
DTSTAMP:20260422T043653
CREATED:20240118T071357Z
LAST-MODIFIED:20240208T035446Z
UID:10018261-1707850800-1707858000@gslcwi.com
SUMMARY:AA Meeting
DESCRIPTION:Alexander Dean <alexander.dean@areditions.com>
URL:https://gslcwi.com/event/aa-meeting-101/
LOCATION:Verona Room 6
END:VEVENT
END:VCALENDAR