BEGIN:VCALENDAR
VERSION:2.0
PRODID:-//Good Shepherd Lutheran Church - ECPv6.15.20//NONSGML v1.0//EN
CALSCALE:GREGORIAN
METHOD:PUBLISH
X-WR-CALNAME:Good Shepherd Lutheran Church
X-ORIGINAL-URL:https://gslcwi.com
X-WR-CALDESC:Events for Good Shepherd Lutheran Church
REFRESH-INTERVAL;VALUE=DURATION:PT1H
X-Robots-Tag:noindex
X-PUBLISHED-TTL:PT1H
BEGIN:VTIMEZONE
TZID:America/Chicago
BEGIN:DAYLIGHT
TZOFFSETFROM:-0600
TZOFFSETTO:-0500
TZNAME:CDT
DTSTART:20230312T080000
END:DAYLIGHT
BEGIN:STANDARD
TZOFFSETFROM:-0500
TZOFFSETTO:-0600
TZNAME:CST
DTSTART:20231105T070000
END:STANDARD
BEGIN:DAYLIGHT
TZOFFSETFROM:-0600
TZOFFSETTO:-0500
TZNAME:CDT
DTSTART:20240310T080000
END:DAYLIGHT
BEGIN:STANDARD
TZOFFSETFROM:-0500
TZOFFSETTO:-0600
TZNAME:CST
DTSTART:20241103T070000
END:STANDARD
BEGIN:DAYLIGHT
TZOFFSETFROM:-0600
TZOFFSETTO:-0500
TZNAME:CDT
DTSTART:20250309T080000
END:DAYLIGHT
BEGIN:STANDARD
TZOFFSETFROM:-0500
TZOFFSETTO:-0600
TZNAME:CST
DTSTART:20251102T070000
END:STANDARD
END:VTIMEZONE
BEGIN:VEVENT
DTSTART;TZID=America/Chicago:20240326T150000
DTEND;TZID=America/Chicago:20240327T100000
DTSTAMP:20260419T082324
CREATED:20240321T190523Z
LAST-MODIFIED:20240321T190523Z
UID:10018746-1711465200-1711533600@gslcwi.com
SUMMARY:Messenger
DESCRIPTION:Brent / Judy
URL:https://gslcwi.com/event/messenger-14/
LOCATION:Madison Good Shepherd Room
END:VEVENT
BEGIN:VEVENT
DTSTART;TZID=America/Chicago:20240327T070000
DTEND;TZID=America/Chicago:20240327T080000
DTSTAMP:20260419T082324
CREATED:20230228T160601Z
LAST-MODIFIED:20230921T134643Z
UID:10012568-1711522800-1711526400@gslcwi.com
SUMMARY:Wednesday Morning Men's Bible Study
DESCRIPTION:A Weekly Men’s Bible Study that gathers on Zoom.
URL:https://gslcwi.com/event/wednesday-morning-mens-bible-study/2024-03-27/
CATEGORIES:Adult Education,Bible Study,Men's Ministry
ATTACH;FMTTYPE=image/jpeg:https://gslcwi.com/wp-content/uploads/2023/02/fa-barboza-NWoaoMgMiVY-unsplash.jpg
ORGANIZER;CN="Dean Nelson":MAILTO:deanwnelson@gmail.com
END:VEVENT
BEGIN:VEVENT
DTSTART;TZID=America/Chicago:20240327T083000
DTEND;TZID=America/Chicago:20240327T100000
DTSTAMP:20260419T082324
CREATED:20230320T152258Z
LAST-MODIFIED:20230419T205304Z
UID:10013149-1711528200-1711533600@gslcwi.com
SUMMARY:Pickleball
DESCRIPTION:
URL:https://gslcwi.com/event/pickleball-166/2024-03-27/
LOCATION:Verona Gym
CATEGORIES:Sports,Verona Gym
ATTACH;FMTTYPE=image/jpeg:https://gslcwi.com/wp-content/uploads/2023/02/pickleball2-1.jpg
END:VEVENT
BEGIN:VEVENT
DTSTART;TZID=America/Chicago:20240327T090000
DTEND;TZID=America/Chicago:20240327T100000
DTSTAMP:20260419T082324
CREATED:20240229T074857Z
LAST-MODIFIED:20240321T191855Z
UID:10018583-1711530000-1711533600@gslcwi.com
SUMMARY:Holy Yoga
DESCRIPTION:Brent/kleiner.jessie@gmail.com/beckybaumbach27@gmail.com\n________________________________________________________________________________\nMicrosoft Teams meeting\nJoin on your computer\, mobile app or room device\nClick here to join the meeting\nMeeting ID: 211 843 647 214\nPasscode: ZEc66u\nDownload Teams | Join on the web\nLearn More | Meeting options\n________________________________________________________________________________
URL:https://gslcwi.com/event/holy-yoga-107/
LOCATION:Verona Sanctuary
END:VEVENT
BEGIN:VEVENT
DTSTART;TZID=America/Chicago:20240327T120000
DTEND;TZID=America/Chicago:20240327T130000
DTSTAMP:20260419T082324
CREATED:20240229T074858Z
LAST-MODIFIED:20240321T191855Z
UID:10018584-1711540800-1711544400@gslcwi.com
SUMMARY:Bible study group
DESCRIPTION:Brent/Robin Kerl\n\n\n________________________________________________________________________________\nMicrosoft Teams meeting\nJoin on your computer\, mobile app or room device\nClick here to join the meeting\nMeeting ID: 298 131 183 205\nPasscode: cSmDgu\nDownload Teams | Join on the web\nLearn More | Meeting options\n________________________________________________________________________________
URL:https://gslcwi.com/event/bible-study-group-28/
LOCATION:Madison Good Shepherd Room
END:VEVENT
BEGIN:VEVENT
DTSTART;TZID=America/Chicago:20240327T160000
DTEND;TZID=America/Chicago:20240327T180000
DTSTAMP:20260419T082324
CREATED:20240229T074858Z
LAST-MODIFIED:20240321T192126Z
UID:10018585-1711555200-1711562400@gslcwi.com
SUMMARY:Literacy Network
DESCRIPTION:Bex Fabrizio Bex@litnetwork.org
URL:https://gslcwi.com/event/literacy-network-180/
LOCATION:Madison Good Shepherd Room
END:VEVENT
BEGIN:VEVENT
DTSTART;TZID=America/Chicago:20240327T180000
DTEND;TZID=America/Chicago:20240327T190000
DTSTAMP:20260419T082324
CREATED:20240229T080337Z
LAST-MODIFIED:20240321T192126Z
UID:10018588-1711562400-1711566000@gslcwi.com
SUMMARY:Handbell Rehearsal
DESCRIPTION:________________________________________________________________________________\nMicrosoft Teams meeting\nJoin on your computer\, mobile app or room device\nClick here to join the meeting\nMeeting ID: 216 811 620 846\nPasscode: BzeAnt\nDownload Teams | Join on the web\nLearn More | Meeting options\n________________________________________________________________________________
URL:https://gslcwi.com/event/handbell-rehearsal-59/
LOCATION:Madison Sanctuary
END:VEVENT
BEGIN:VEVENT
DTSTART;TZID=America/Chicago:20240327T180000
DTEND;TZID=America/Chicago:20240327T210000
DTSTAMP:20260419T082324
CREATED:20240307T072657Z
LAST-MODIFIED:20240314T213913Z
UID:10018608-1711562400-1711573200@gslcwi.com
SUMMARY:Boy Scouts
DESCRIPTION:Gordon Bain gabainwi@gmail.com
URL:https://gslcwi.com/event/boy-scouts-162/
LOCATION:Madison Room 11/The Sheep Fold
END:VEVENT
BEGIN:VEVENT
DTSTART;TZID=America/Chicago:20240327T190000
DTEND;TZID=America/Chicago:20240327T203000
DTSTAMP:20260419T082324
CREATED:20240229T080336Z
LAST-MODIFIED:20240321T192127Z
UID:10018587-1711566000-1711571400@gslcwi.com
SUMMARY:Choir Rehearsal
DESCRIPTION:
URL:https://gslcwi.com/event/choir-rehearsal-110/
LOCATION:Madison Sanctuary
END:VEVENT
BEGIN:VEVENT
DTSTART;TZID=America/Chicago:20240327T190000
DTEND;TZID=America/Chicago:20240327T210000
DTSTAMP:20260419T082324
CREATED:20240229T080336Z
LAST-MODIFIED:20240321T192127Z
UID:10018586-1711566000-1711573200@gslcwi.com
SUMMARY:Faith of Christ Church
DESCRIPTION:Gorge Garcia\, gorgegarcia613@yahoo.com\n818-264-6914
URL:https://gslcwi.com/event/faith-of-christ-church-101/
LOCATION:Madison Music Room
END:VEVENT
END:VCALENDAR