BEGIN:VCALENDAR
VERSION:2.0
PRODID:-//Good Shepherd Lutheran Church - ECPv6.15.20//NONSGML v1.0//EN
CALSCALE:GREGORIAN
METHOD:PUBLISH
X-WR-CALNAME:Good Shepherd Lutheran Church
X-ORIGINAL-URL:https://gslcwi.com
X-WR-CALDESC:Events for Good Shepherd Lutheran Church
REFRESH-INTERVAL;VALUE=DURATION:PT1H
X-Robots-Tag:noindex
X-PUBLISHED-TTL:PT1H
BEGIN:VTIMEZONE
TZID:America/Chicago
BEGIN:DAYLIGHT
TZOFFSETFROM:-0600
TZOFFSETTO:-0500
TZNAME:CDT
DTSTART:20230312T080000
END:DAYLIGHT
BEGIN:STANDARD
TZOFFSETFROM:-0500
TZOFFSETTO:-0600
TZNAME:CST
DTSTART:20231105T070000
END:STANDARD
BEGIN:DAYLIGHT
TZOFFSETFROM:-0600
TZOFFSETTO:-0500
TZNAME:CDT
DTSTART:20240310T080000
END:DAYLIGHT
BEGIN:STANDARD
TZOFFSETFROM:-0500
TZOFFSETTO:-0600
TZNAME:CST
DTSTART:20241103T070000
END:STANDARD
BEGIN:DAYLIGHT
TZOFFSETFROM:-0600
TZOFFSETTO:-0500
TZNAME:CDT
DTSTART:20250309T080000
END:DAYLIGHT
BEGIN:STANDARD
TZOFFSETFROM:-0500
TZOFFSETTO:-0600
TZNAME:CST
DTSTART:20251102T070000
END:STANDARD
END:VTIMEZONE
BEGIN:VEVENT
DTSTART;TZID=America/Chicago:20240328T073000
DTEND;TZID=America/Chicago:20240328T123000
DTSTAMP:20260421T225616
CREATED:20240229T080608Z
LAST-MODIFIED:20240321T192128Z
UID:10018591-1711611000-1711629000@gslcwi.com
SUMMARY:Loaves & Fishes
DESCRIPTION:
URL:https://gslcwi.com/event/loaves-fishes-15/
LOCATION:Madison Lobby
END:VEVENT
BEGIN:VEVENT
DTSTART;TZID=America/Chicago:20240328T100000
DTEND;TZID=America/Chicago:20240328T120000
DTSTAMP:20260421T225616
CREATED:20220923T135902Z
LAST-MODIFIED:20230228T181021Z
UID:10010691-1711620000-1711627200@gslcwi.com
SUMMARY:GSLC Food Pantry
DESCRIPTION:Weekly community food distribution – because Jesus said so! \nMore information on the Good Shepherd Food Pantry can be found here.
URL:https://gslcwi.com/event/gslc-food-pantry-74/2024-03-28/
LOCATION:Madison Lobby
CATEGORIES:Community Event
END:VEVENT
BEGIN:VEVENT
DTSTART;TZID=America/Chicago:20240328T100000
DTEND;TZID=America/Chicago:20240328T120000
DTSTAMP:20260421T225616
CREATED:20220923T135903Z
LAST-MODIFIED:20230228T181458Z
UID:10010795-1711620000-1711627200@gslcwi.com
SUMMARY:Clothes Closet
DESCRIPTION:More information on the Good Shepherd Clothes Closet can be found here.
URL:https://gslcwi.com/event/clothes-closet-147/2024-03-28/
LOCATION:Madison Room 6
CATEGORIES:Community Event
END:VEVENT
BEGIN:VEVENT
DTSTART;TZID=America/Chicago:20240328T100000
DTEND;TZID=America/Chicago:20240328T120000
DTSTAMP:20260421T225616
CREATED:20240229T080337Z
LAST-MODIFIED:20240321T193501Z
UID:10018589-1711620000-1711627200@gslcwi.com
SUMMARY:GSLC Food Pantry
DESCRIPTION:
URL:https://gslcwi.com/event/gslc-food-pantry-157/
LOCATION:Madison Lobby
END:VEVENT
BEGIN:VEVENT
DTSTART;TZID=America/Chicago:20240328T100000
DTEND;TZID=America/Chicago:20240328T120000
DTSTAMP:20260421T225616
CREATED:20240229T080608Z
LAST-MODIFIED:20240321T193500Z
UID:10018592-1711620000-1711627200@gslcwi.com
SUMMARY:Clothes Closet
DESCRIPTION:
URL:https://gslcwi.com/event/clothes-closet-250/
LOCATION:Madison Room 6
END:VEVENT
BEGIN:VEVENT
DTSTART;TZID=America/Chicago:20240328T120000
DTEND;TZID=America/Chicago:20240328T130000
DTSTAMP:20260421T225616
CREATED:20240229T080338Z
LAST-MODIFIED:20240321T193500Z
UID:10018590-1711627200-1711630800@gslcwi.com
SUMMARY:Service
DESCRIPTION:
URL:https://gslcwi.com/event/service-5/
LOCATION:Madison Sanctuary
END:VEVENT
BEGIN:VEVENT
DTSTART;TZID=America/Chicago:20240328T173000
DTEND;TZID=America/Chicago:20240328T183000
DTSTAMP:20260421T225616
CREATED:20240229T080610Z
LAST-MODIFIED:20240328T182803Z
UID:10018595-1711647000-1711650600@gslcwi.com
SUMMARY:Wolf Den Meeting
DESCRIPTION:Kyle Davis\, anthem1@gmail.com
URL:https://gslcwi.com/event/wolf-den-meeting-15/
LOCATION:Verona Fellowship Hall
END:VEVENT
BEGIN:VEVENT
DTSTART;TZID=America/Chicago:20240328T173000
DTEND;TZID=America/Chicago:20240328T190000
DTSTAMP:20260421T225616
CREATED:20220928T111753Z
LAST-MODIFIED:20230302T174342Z
UID:10010899-1711647000-1711652400@gslcwi.com
SUMMARY:GSLC Food Pantry
DESCRIPTION:Weekly community food distribution – because Jesus said so! \nMore information on the Good Shepherd Food Pantry can be found here.
URL:https://gslcwi.com/event/gslc-food-pantrty-86/2024-03-28/
LOCATION:Madison Lobby
CATEGORIES:Community Event
END:VEVENT
BEGIN:VEVENT
DTSTART;TZID=America/Chicago:20240328T173000
DTEND;TZID=America/Chicago:20240328T190000
DTSTAMP:20260421T225616
CREATED:20240229T080609Z
LAST-MODIFIED:20240328T182802Z
UID:10018594-1711647000-1711652400@gslcwi.com
SUMMARY:GSLC Food Pantrty
DESCRIPTION:
URL:https://gslcwi.com/event/gslc-food-pantrty-155/
LOCATION:Madison Peterson Hall
END:VEVENT
BEGIN:VEVENT
DTSTART;TZID=America/Chicago:20240328T180000
DTEND;TZID=America/Chicago:20240328T193000
DTSTAMP:20260421T225616
CREATED:20240307T074510Z
LAST-MODIFIED:20240328T182801Z
UID:10018609-1711648800-1711654200@gslcwi.com
SUMMARY:Den Meeting
DESCRIPTION:Derek McCarty\, djcarty@gmail.com>
URL:https://gslcwi.com/event/den-meeting-48/
LOCATION:Verona Room 6; Verona Room 7
END:VEVENT
BEGIN:VEVENT
DTSTART;TZID=America/Chicago:20240328T180000
DTEND;TZID=America/Chicago:20240328T193000
DTSTAMP:20260421T225616
CREATED:20240307T074512Z
LAST-MODIFIED:20240328T182802Z
UID:10018611-1711648800-1711654200@gslcwi.com
SUMMARY:FIBROMYALGIA WARRIOR WELLNESS SUPPORT GROUP
DESCRIPTION:Alecia Armstrong\nFibromyalgia Advocate\n608-692-7771\naleciababe@yahoo.com
URL:https://gslcwi.com/event/fibromyalgia-warrior-wellness-support-group-11/
LOCATION:Madison Good Shepherd Room
END:VEVENT
BEGIN:VEVENT
DTSTART;TZID=America/Chicago:20240328T183000
DTEND;TZID=America/Chicago:20240328T193000
DTSTAMP:20260421T225616
CREATED:20240229T080609Z
LAST-MODIFIED:20240328T182916Z
UID:10018593-1711650600-1711654200@gslcwi.com
SUMMARY:Cub Scouts Den Meeting
DESCRIPTION:Terry Goeldner\, tgoeldner@hotmail.com
URL:https://gslcwi.com/event/cub-scouts-den-meeting-31/
LOCATION:Verona Room 11
END:VEVENT
BEGIN:VEVENT
DTSTART;TZID=America/Chicago:20240328T190000
DTEND;TZID=America/Chicago:20240328T200000
DTSTAMP:20260421T225616
CREATED:20240307T074511Z
LAST-MODIFIED:20240328T182801Z
UID:10018610-1711652400-1711656000@gslcwi.com
SUMMARY:Service
DESCRIPTION:
URL:https://gslcwi.com/event/service-6/
LOCATION:Verona Sanctuary; Madison Sanctuary
END:VEVENT
BEGIN:VEVENT
DTSTART;TZID=America/Chicago:20240328T190000
DTEND;TZID=America/Chicago:20240328T210000
DTSTAMP:20260421T225616
CREATED:20221025T213413Z
LAST-MODIFIED:20230228T181705Z
UID:10010587-1711652400-1711659600@gslcwi.com
SUMMARY:Band Rehearsal
DESCRIPTION:
URL:https://gslcwi.com/event/band-rehearsal/2024-03-28/
LOCATION:Verona Campus\, 7291 County Rd PD\, Verona\, WI\, 53593\, United States
CATEGORIES:Music
END:VEVENT
END:VCALENDAR