BEGIN:VCALENDAR
VERSION:2.0
PRODID:-//Good Shepherd Lutheran Church - ECPv6.15.20//NONSGML v1.0//EN
CALSCALE:GREGORIAN
METHOD:PUBLISH
X-WR-CALNAME:Good Shepherd Lutheran Church
X-ORIGINAL-URL:https://gslcwi.com
X-WR-CALDESC:Events for Good Shepherd Lutheran Church
REFRESH-INTERVAL;VALUE=DURATION:PT1H
X-Robots-Tag:noindex
X-PUBLISHED-TTL:PT1H
BEGIN:VTIMEZONE
TZID:America/Chicago
BEGIN:DAYLIGHT
TZOFFSETFROM:-0600
TZOFFSETTO:-0500
TZNAME:CDT
DTSTART:20230312T080000
END:DAYLIGHT
BEGIN:STANDARD
TZOFFSETFROM:-0500
TZOFFSETTO:-0600
TZNAME:CST
DTSTART:20231105T070000
END:STANDARD
BEGIN:DAYLIGHT
TZOFFSETFROM:-0600
TZOFFSETTO:-0500
TZNAME:CDT
DTSTART:20240310T080000
END:DAYLIGHT
BEGIN:STANDARD
TZOFFSETFROM:-0500
TZOFFSETTO:-0600
TZNAME:CST
DTSTART:20241103T070000
END:STANDARD
BEGIN:DAYLIGHT
TZOFFSETFROM:-0600
TZOFFSETTO:-0500
TZNAME:CDT
DTSTART:20250309T080000
END:DAYLIGHT
BEGIN:STANDARD
TZOFFSETFROM:-0500
TZOFFSETTO:-0600
TZNAME:CST
DTSTART:20251102T070000
END:STANDARD
END:VTIMEZONE
BEGIN:VEVENT
DTSTART;TZID=America/Chicago:20240617T083000
DTEND;TZID=America/Chicago:20240617T160000
DTSTAMP:20260421T095645
CREATED:20240502T230333Z
LAST-MODIFIED:20240613T192117Z
UID:10019505-1718613000-1718640000@gslcwi.com
SUMMARY:Annual Fire System Inspection - Cory
DESCRIPTION:Brent
URL:https://gslcwi.com/event/annual-fire-system-inspection/
LOCATION:Verona – first  then – Madison
END:VEVENT
BEGIN:VEVENT
DTSTART;TZID=America/Chicago:20240617T160000
DTEND;TZID=America/Chicago:20240617T173000
DTSTAMP:20260421T095645
CREATED:20220923T135855Z
LAST-MODIFIED:20230913T194729Z
UID:10011431-1718640000-1718645400@gslcwi.com
SUMMARY:Literacy Network
DESCRIPTION:
URL:https://gslcwi.com/event/literacy-network-40/2024-06-17/
LOCATION:Madison Room 11/The Sheep Fold; Madison Room 9
CATEGORIES:Community Event
END:VEVENT
BEGIN:VEVENT
DTSTART;TZID=America/Chicago:20240617T160000
DTEND;TZID=America/Chicago:20240617T173000
DTSTAMP:20260421T095645
CREATED:20240502T234954Z
LAST-MODIFIED:20240613T192116Z
UID:10019536-1718640000-1718645400@gslcwi.com
SUMMARY:Literacy Network
DESCRIPTION:Bex Fabrizio Bex@litnetwork.org
URL:https://gslcwi.com/event/literacy-network-198/
LOCATION:Madison Good Shepherd Room
END:VEVENT
BEGIN:VEVENT
DTSTART;TZID=America/Chicago:20240617T170000
DTEND;TZID=America/Chicago:20240617T190000
DTSTAMP:20260421T095645
CREATED:20240426T170546Z
LAST-MODIFIED:20240426T170546Z
UID:10019476-1718643600-1718650800@gslcwi.com
SUMMARY:Holy COW at Meadowood Park
DESCRIPTION:Come enjoy a pay-what-you-can meal and free fresh produce at Meadowood Park.
URL:https://gslcwi.com/event/holy-cow-at-meadowood-park/
LOCATION:Meadowood Park\, 5808 Thrush Ln\, Madison\, WI\, 53711\, United States
CATEGORIES:Community Event,Holy COW
ATTACH;FMTTYPE=image/jpeg:https://gslcwi.com/wp-content/uploads/2024/04/holy-cow-default-event-image.jpg
ORGANIZER;CN="Rick Thomas":MAILTO:rthomas@gslcwi.com
END:VEVENT
BEGIN:VEVENT
DTSTART;TZID=America/Chicago:20240617T183000
DTEND;TZID=America/Chicago:20240617T213000
DTSTAMP:20260421T095645
CREATED:20240502T235240Z
LAST-MODIFIED:20240613T193509Z
UID:10019537-1718649000-1718659800@gslcwi.com
SUMMARY:Church Board
DESCRIPTION:
URL:https://gslcwi.com/event/church-board-4/
LOCATION:Madison Good Shepherd Room
END:VEVENT
END:VCALENDAR