BEGIN:VCALENDAR
VERSION:2.0
PRODID:-//Good Shepherd Lutheran Church - ECPv6.15.20//NONSGML v1.0//EN
CALSCALE:GREGORIAN
METHOD:PUBLISH
X-ORIGINAL-URL:https://gslcwi.com
X-WR-CALDESC:Events for Good Shepherd Lutheran Church
REFRESH-INTERVAL;VALUE=DURATION:PT1H
X-Robots-Tag:noindex
X-PUBLISHED-TTL:PT1H
BEGIN:VTIMEZONE
TZID:America/Chicago
BEGIN:DAYLIGHT
TZOFFSETFROM:-0600
TZOFFSETTO:-0500
TZNAME:CDT
DTSTART:20230312T080000
END:DAYLIGHT
BEGIN:STANDARD
TZOFFSETFROM:-0500
TZOFFSETTO:-0600
TZNAME:CST
DTSTART:20231105T070000
END:STANDARD
BEGIN:DAYLIGHT
TZOFFSETFROM:-0600
TZOFFSETTO:-0500
TZNAME:CDT
DTSTART:20240310T080000
END:DAYLIGHT
BEGIN:STANDARD
TZOFFSETFROM:-0500
TZOFFSETTO:-0600
TZNAME:CST
DTSTART:20241103T070000
END:STANDARD
BEGIN:DAYLIGHT
TZOFFSETFROM:-0600
TZOFFSETTO:-0500
TZNAME:CDT
DTSTART:20250309T080000
END:DAYLIGHT
BEGIN:STANDARD
TZOFFSETFROM:-0500
TZOFFSETTO:-0600
TZNAME:CST
DTSTART:20251102T070000
END:STANDARD
END:VTIMEZONE
BEGIN:VEVENT
DTSTART;TZID=America/Chicago:20240621T063000
DTEND;TZID=America/Chicago:20240621T073000
DTSTAMP:20260423T011028
CREATED:20220924T190555Z
LAST-MODIFIED:20260121T194640Z
UID:10011327-1718951400-1718955000@gslcwi.com
SUMMARY:Friday Morning Men's Group
DESCRIPTION:A men’s gathering for support\, study\, and fellowship.
URL:https://gslcwi.com/event/friday-morning-mens-group-74/2024-06-21/
LOCATION:Verona Coffee Bar
CATEGORIES:Adult Education,Men's Ministry
ORGANIZER;CN="Rick Thomas":MAILTO:rthomas@gslcwi.com
END:VEVENT
BEGIN:VEVENT
DTSTART;TZID=America/Chicago:20240621T100000
DTEND;TZID=America/Chicago:20240621T130000
DTSTAMP:20260423T011028
CREATED:20240509T233849Z
LAST-MODIFIED:20240620T192525Z
UID:10019559-1718964000-1718974800@gslcwi.com
SUMMARY:New Bridge Meals
DESCRIPTION:
URL:https://gslcwi.com/event/new-bridge-meals-200/
LOCATION:Madison Peterson Hall
END:VEVENT
BEGIN:VEVENT
DTSTART;TZID=America/Chicago:20240621T103000
DTEND;TZID=America/Chicago:20240621T123000
DTSTAMP:20260423T011028
CREATED:20240620T192524Z
LAST-MODIFIED:20240620T192524Z
UID:10020413-1718965800-1718973000@gslcwi.com
SUMMARY:JJ Group
DESCRIPTION:Brent / J Johnson Judy Johnson judyj3@gmail.com
URL:https://gslcwi.com/event/jj-group/
LOCATION:Verona Family Lounge
END:VEVENT
BEGIN:VEVENT
DTSTART;TZID=America/Chicago:20240621T160000
DTEND;TZID=America/Chicago:20240621T210000
DTSTAMP:20260423T011028
CREATED:20240523T212802Z
LAST-MODIFIED:20240620T192729Z
UID:10020007-1718985600-1719003600@gslcwi.com
SUMMARY:Iglesia evangelica el remanente
DESCRIPTION:juan juan alcaconstruction@yahoo.com
URL:https://gslcwi.com/event/iglesia-evangelica-el-remanente-186/
LOCATION:Madison Sanctuary
END:VEVENT
BEGIN:VEVENT
DTSTART;TZID=America/Chicago:20240621T170000
DTEND;TZID=America/Chicago:20240621T190000
DTSTAMP:20260423T011028
CREATED:20240426T174934Z
LAST-MODIFIED:20240426T174934Z
UID:10019486-1718989200-1718996400@gslcwi.com
SUMMARY:Holy COW at Make Music Madison
DESCRIPTION:Enjoy live music and delicious food from the Holy COW.
URL:https://gslcwi.com/event/holy-cow-at-make-music-madison/
LOCATION:Madison Chrisian Community Church\, 7118 Old Sauk Rd\, Madison\, WI\, 53717\, United States
CATEGORIES:Community Event,Fellowship,Holy COW
ATTACH;FMTTYPE=image/jpeg:https://gslcwi.com/wp-content/uploads/2024/04/holy-cow-default-event-image.jpg
ORGANIZER;CN="Rick Thomas":MAILTO:rthomas@gslcwi.com
END:VEVENT
BEGIN:VEVENT
DTSTART;TZID=America/Chicago:20240621T180000
DTEND;TZID=America/Chicago:20240621T210000
DTSTAMP:20260423T011028
CREATED:20240509T233850Z
LAST-MODIFIED:20240620T192730Z
UID:10019560-1718992800-1719003600@gslcwi.com
SUMMARY:Make Music Madison Rain Location
DESCRIPTION:Terry & Marty Evanson mtevanson@gmail.com
URL:https://gslcwi.com/event/make-music-madison-rain-location-2/
LOCATION:Madison Peterson Hall
END:VEVENT
END:VCALENDAR