BEGIN:VCALENDAR
VERSION:2.0
PRODID:-//Good Shepherd Lutheran Church - ECPv6.15.20//NONSGML v1.0//EN
CALSCALE:GREGORIAN
METHOD:PUBLISH
X-ORIGINAL-URL:https://gslcwi.com
X-WR-CALDESC:Events for Good Shepherd Lutheran Church
REFRESH-INTERVAL;VALUE=DURATION:PT1H
X-Robots-Tag:noindex
X-PUBLISHED-TTL:PT1H
BEGIN:VTIMEZONE
TZID:America/Chicago
BEGIN:DAYLIGHT
TZOFFSETFROM:-0600
TZOFFSETTO:-0500
TZNAME:CDT
DTSTART:20230312T080000
END:DAYLIGHT
BEGIN:STANDARD
TZOFFSETFROM:-0500
TZOFFSETTO:-0600
TZNAME:CST
DTSTART:20231105T070000
END:STANDARD
BEGIN:DAYLIGHT
TZOFFSETFROM:-0600
TZOFFSETTO:-0500
TZNAME:CDT
DTSTART:20240310T080000
END:DAYLIGHT
BEGIN:STANDARD
TZOFFSETFROM:-0500
TZOFFSETTO:-0600
TZNAME:CST
DTSTART:20241103T070000
END:STANDARD
BEGIN:DAYLIGHT
TZOFFSETFROM:-0600
TZOFFSETTO:-0500
TZNAME:CDT
DTSTART:20250309T080000
END:DAYLIGHT
BEGIN:STANDARD
TZOFFSETFROM:-0500
TZOFFSETTO:-0600
TZNAME:CST
DTSTART:20251102T070000
END:STANDARD
END:VTIMEZONE
BEGIN:VEVENT
DTSTART;TZID=America/Chicago:20240722T160000
DTEND;TZID=America/Chicago:20240722T173000
DTSTAMP:20260422T193302
CREATED:20220923T135855Z
LAST-MODIFIED:20230913T194729Z
UID:10011436-1721664000-1721669400@gslcwi.com
SUMMARY:Literacy Network
DESCRIPTION:
URL:https://gslcwi.com/event/literacy-network-40/2024-07-22/
LOCATION:Madison Room 11/The Sheep Fold; Madison Room 9
CATEGORIES:Community Event
END:VEVENT
BEGIN:VEVENT
DTSTART;TZID=America/Chicago:20240722T160000
DTEND;TZID=America/Chicago:20240722T173000
DTSTAMP:20260422T193302
CREATED:20240524T000614Z
LAST-MODIFIED:20240718T194653Z
UID:10020037-1721664000-1721669400@gslcwi.com
SUMMARY:Literacy Network
DESCRIPTION:Bex Fabrizio Bex@litnetwork.org
URL:https://gslcwi.com/event/literacy-network-208/
LOCATION:Madison Good Shepherd Room
END:VEVENT
BEGIN:VEVENT
DTSTART;TZID=America/Chicago:20240722T170000
DTEND;TZID=America/Chicago:20240722T190000
DTSTAMP:20260422T193302
CREATED:20240425T195528Z
LAST-MODIFIED:20240425T195528Z
UID:10019044-1721667600-1721674800@gslcwi.com
SUMMARY:Music Monday | UW Marching Band
DESCRIPTION:Join us for a fun evening featuring two sets of musicians! We’ll dance the evening away with DJ hits and members of the UW Marching Band. Echoes of Camp Randall will blast 5th quarter favorites like “On Wisconsin\,” “The ‘Hey’ Song\,” “Chicken Dance\,” and more from 6:00—6:30 p.m.
URL:https://gslcwi.com/event/music-monday-uw-marching-band-2/
LOCATION:Madison Campus Lawn
CATEGORIES:Music Monday
ATTACH;FMTTYPE=image/jpeg:https://gslcwi.com/wp-content/uploads/2024/04/UW-Marching-Band.jpg
ORGANIZER;CN="Jared Stellmacher":MAILTO:jstellmacher@gslcwi.com
END:VEVENT
BEGIN:VEVENT
DTSTART;TZID=America/Chicago:20240722T170000
DTEND;TZID=America/Chicago:20240722T190000
DTSTAMP:20260422T193302
CREATED:20240524T000826Z
LAST-MODIFIED:20240718T194653Z
UID:10020038-1721667600-1721674800@gslcwi.com
SUMMARY:Music Monday
DESCRIPTION:Jared Stellmacher and Rick Thomas
URL:https://gslcwi.com/event/music-monday-8/
LOCATION:Madison Campus Lawn; Food Cart Event; Madison Kitchen
END:VEVENT
END:VCALENDAR