BEGIN:VCALENDAR
VERSION:2.0
PRODID:-//Good Shepherd Lutheran Church - ECPv6.15.20//NONSGML v1.0//EN
CALSCALE:GREGORIAN
METHOD:PUBLISH
X-ORIGINAL-URL:https://gslcwi.com
X-WR-CALDESC:Events for Good Shepherd Lutheran Church
REFRESH-INTERVAL;VALUE=DURATION:PT1H
X-Robots-Tag:noindex
X-PUBLISHED-TTL:PT1H
BEGIN:VTIMEZONE
TZID:America/Chicago
BEGIN:DAYLIGHT
TZOFFSETFROM:-0600
TZOFFSETTO:-0500
TZNAME:CDT
DTSTART:20230312T080000
END:DAYLIGHT
BEGIN:STANDARD
TZOFFSETFROM:-0500
TZOFFSETTO:-0600
TZNAME:CST
DTSTART:20231105T070000
END:STANDARD
BEGIN:DAYLIGHT
TZOFFSETFROM:-0600
TZOFFSETTO:-0500
TZNAME:CDT
DTSTART:20240310T080000
END:DAYLIGHT
BEGIN:STANDARD
TZOFFSETFROM:-0500
TZOFFSETTO:-0600
TZNAME:CST
DTSTART:20241103T070000
END:STANDARD
BEGIN:DAYLIGHT
TZOFFSETFROM:-0600
TZOFFSETTO:-0500
TZNAME:CDT
DTSTART:20250309T080000
END:DAYLIGHT
BEGIN:STANDARD
TZOFFSETFROM:-0500
TZOFFSETTO:-0600
TZNAME:CST
DTSTART:20251102T070000
END:STANDARD
END:VTIMEZONE
BEGIN:VEVENT
DTSTART;TZID=America/Chicago:20240802T063000
DTEND;TZID=America/Chicago:20240802T073000
DTSTAMP:20260421T230451
CREATED:20220924T190555Z
LAST-MODIFIED:20260121T194640Z
UID:10011333-1722580200-1722583800@gslcwi.com
SUMMARY:Friday Morning Men's Group
DESCRIPTION:A men’s gathering for support\, study\, and fellowship.
URL:https://gslcwi.com/event/friday-morning-mens-group-74/2024-08-02/
LOCATION:Verona Coffee Bar
CATEGORIES:Adult Education,Men's Ministry
ORGANIZER;CN="Rick Thomas":MAILTO:rthomas@gslcwi.com
END:VEVENT
BEGIN:VEVENT
DTSTART;TZID=America/Chicago:20240802T100000
DTEND;TZID=America/Chicago:20240802T130000
DTSTAMP:20260421T230451
CREATED:20240607T000948Z
LAST-MODIFIED:20240801T195219Z
UID:10020079-1722592800-1722603600@gslcwi.com
SUMMARY:New Bridge Meals
DESCRIPTION:
URL:https://gslcwi.com/event/new-bridge-meals-218/
LOCATION:Madison Peterson Hall
END:VEVENT
BEGIN:VEVENT
DTSTART;TZID=America/Chicago:20240802T103000
DTEND;TZID=America/Chicago:20240802T123000
DTSTAMP:20260421T230451
CREATED:20240801T195342Z
LAST-MODIFIED:20240801T195342Z
UID:10020600-1722594600-1722601800@gslcwi.com
SUMMARY:Bible Study Group
DESCRIPTION:Brent / Judy J.
URL:https://gslcwi.com/event/bible-study-group-39/
LOCATION:Verona Coffee Bar
END:VEVENT
BEGIN:VEVENT
DTSTART;TZID=America/Chicago:20240802T170000
DTEND;TZID=America/Chicago:20240802T190000
DTSTAMP:20260421T230451
CREATED:20240426T175644Z
LAST-MODIFIED:20240426T175644Z
UID:10019489-1722618000-1722625200@gslcwi.com
SUMMARY:Family Dinner with the COW
DESCRIPTION:Enjoy a family dinner from the COW. Event sponsored by Youth and Family ministry.
URL:https://gslcwi.com/event/family-dinner-with-the-cow-3/
LOCATION:Good Shepherd Verona Campus\, 7291 County Road PD\, Verona\, WI\, 53593\, United States
CATEGORIES:Children's Ministry,Fellowship,Holy COW
ATTACH;FMTTYPE=image/jpeg:https://gslcwi.com/wp-content/uploads/2024/04/holy-cow-default-event-image.jpg
ORGANIZER;CN="Rick Thomas":MAILTO:rthomas@gslcwi.com
END:VEVENT
BEGIN:VEVENT
DTSTART;TZID=America/Chicago:20240802T173000
DTEND;TZID=America/Chicago:20240802T190000
DTSTAMP:20260421T230451
CREATED:20240607T000949Z
LAST-MODIFIED:20240801T195343Z
UID:10020080-1722619800-1722625200@gslcwi.com
SUMMARY:Family Friday
DESCRIPTION:
URL:https://gslcwi.com/event/family-friday-5/
LOCATION:Verona Lobby; Verona Parking Lot
END:VEVENT
END:VCALENDAR