BEGIN:VCALENDAR
VERSION:2.0
PRODID:-//Good Shepherd Lutheran Church - ECPv6.15.20//NONSGML v1.0//EN
CALSCALE:GREGORIAN
METHOD:PUBLISH
X-WR-CALNAME:Good Shepherd Lutheran Church
X-ORIGINAL-URL:https://gslcwi.com
X-WR-CALDESC:Events for Good Shepherd Lutheran Church
REFRESH-INTERVAL;VALUE=DURATION:PT1H
X-Robots-Tag:noindex
X-PUBLISHED-TTL:PT1H
BEGIN:VTIMEZONE
TZID:America/Chicago
BEGIN:DAYLIGHT
TZOFFSETFROM:-0600
TZOFFSETTO:-0500
TZNAME:CDT
DTSTART:20230312T080000
END:DAYLIGHT
BEGIN:STANDARD
TZOFFSETFROM:-0500
TZOFFSETTO:-0600
TZNAME:CST
DTSTART:20231105T070000
END:STANDARD
BEGIN:DAYLIGHT
TZOFFSETFROM:-0600
TZOFFSETTO:-0500
TZNAME:CDT
DTSTART:20240310T080000
END:DAYLIGHT
BEGIN:STANDARD
TZOFFSETFROM:-0500
TZOFFSETTO:-0600
TZNAME:CST
DTSTART:20241103T070000
END:STANDARD
BEGIN:DAYLIGHT
TZOFFSETFROM:-0600
TZOFFSETTO:-0500
TZNAME:CDT
DTSTART:20250309T080000
END:DAYLIGHT
BEGIN:STANDARD
TZOFFSETFROM:-0500
TZOFFSETTO:-0600
TZNAME:CST
DTSTART:20251102T070000
END:STANDARD
END:VTIMEZONE
BEGIN:VEVENT
DTSTART;TZID=America/Chicago:20240905T100000
DTEND;TZID=America/Chicago:20240905T120000
DTSTAMP:20260419T151951
CREATED:20220923T135902Z
LAST-MODIFIED:20230228T181021Z
UID:10010714-1725530400-1725537600@gslcwi.com
SUMMARY:GSLC Food Pantry
DESCRIPTION:Weekly community food distribution – because Jesus said so! \nMore information on the Good Shepherd Food Pantry can be found here.
URL:https://gslcwi.com/event/gslc-food-pantry-74/2024-09-05/
LOCATION:Madison Lobby
CATEGORIES:Community Event
END:VEVENT
BEGIN:VEVENT
DTSTART;TZID=America/Chicago:20240905T100000
DTEND;TZID=America/Chicago:20240905T120000
DTSTAMP:20260419T151952
CREATED:20220923T135903Z
LAST-MODIFIED:20230228T181458Z
UID:10010818-1725530400-1725537600@gslcwi.com
SUMMARY:Clothes Closet
DESCRIPTION:More information on the Good Shepherd Clothes Closet can be found here.
URL:https://gslcwi.com/event/clothes-closet-147/2024-09-05/
LOCATION:Madison Room 6
CATEGORIES:Community Event
END:VEVENT
BEGIN:VEVENT
DTSTART;TZID=America/Chicago:20240905T100000
DTEND;TZID=America/Chicago:20240905T120000
DTSTAMP:20260419T151952
CREATED:20240712T004220Z
LAST-MODIFIED:20240829T202755Z
UID:10020523-1725530400-1725537600@gslcwi.com
SUMMARY:Clothes Closet
DESCRIPTION:
URL:https://gslcwi.com/event/clothes-closet-269/
LOCATION:Madison Room 6
END:VEVENT
BEGIN:VEVENT
DTSTART;TZID=America/Chicago:20240905T100000
DTEND;TZID=America/Chicago:20240905T120000
DTSTAMP:20260419T151952
CREATED:20240712T004454Z
LAST-MODIFIED:20240829T204313Z
UID:10020524-1725530400-1725537600@gslcwi.com
SUMMARY:GSLC Food Pantry
DESCRIPTION:
URL:https://gslcwi.com/event/gslc-food-pantry-176/
LOCATION:Madison Lobby
END:VEVENT
BEGIN:VEVENT
DTSTART;TZID=America/Chicago:20240905T100000
DTEND;TZID=America/Chicago:20240905T150000
DTSTAMP:20260419T151952
CREATED:20240718T234852Z
LAST-MODIFIED:20240829T202756Z
UID:10020547-1725530400-1725548400@gslcwi.com
SUMMARY:New Bridge Classes
DESCRIPTION:Alirio and Edwin
URL:https://gslcwi.com/event/new-bridge-classes-7/
LOCATION:Madison Good Shepherd Room
END:VEVENT
BEGIN:VEVENT
DTSTART;TZID=America/Chicago:20240905T173000
DTEND;TZID=America/Chicago:20240905T190000
DTSTAMP:20260419T151952
CREATED:20220928T111753Z
LAST-MODIFIED:20230302T174342Z
UID:10010922-1725557400-1725562800@gslcwi.com
SUMMARY:GSLC Food Pantry
DESCRIPTION:Weekly community food distribution – because Jesus said so! \nMore information on the Good Shepherd Food Pantry can be found here.
URL:https://gslcwi.com/event/gslc-food-pantrty-86/2024-09-05/
LOCATION:Madison Lobby
CATEGORIES:Community Event
END:VEVENT
BEGIN:VEVENT
DTSTART;TZID=America/Chicago:20240905T173000
DTEND;TZID=America/Chicago:20240905T190000
DTSTAMP:20260419T151952
CREATED:20240712T004455Z
LAST-MODIFIED:20240905T202119Z
UID:10020525-1725557400-1725562800@gslcwi.com
SUMMARY:GSLC Food Pantrty
DESCRIPTION:
URL:https://gslcwi.com/event/gslc-food-pantrty-175/
LOCATION:Madison Peterson Hall
END:VEVENT
BEGIN:VEVENT
DTSTART;TZID=America/Chicago:20240905T180000
DTEND;TZID=America/Chicago:20240905T200000
DTSTAMP:20260419T151952
CREATED:20240822T211240Z
LAST-MODIFIED:20240905T202119Z
UID:10020698-1725559200-1725566400@gslcwi.com
SUMMARY:Nominating Committee
DESCRIPTION:Brent / Rhonda
URL:https://gslcwi.com/event/nominating-committee/
LOCATION:Madison Good Shepherd Room
END:VEVENT
BEGIN:VEVENT
DTSTART;TZID=America/Chicago:20240905T190000
DTEND;TZID=America/Chicago:20240905T210000
DTSTAMP:20260419T151952
CREATED:20221025T213413Z
LAST-MODIFIED:20230228T181705Z
UID:10010610-1725562800-1725570000@gslcwi.com
SUMMARY:Band Rehearsal
DESCRIPTION:
URL:https://gslcwi.com/event/band-rehearsal/2024-09-05/
LOCATION:Verona Campus\, 7291 County Rd PD\, Verona\, WI\, 53593\, United States
CATEGORIES:Music
END:VEVENT
END:VCALENDAR