BEGIN:VCALENDAR
VERSION:2.0
PRODID:-//Good Shepherd Lutheran Church - ECPv6.15.20//NONSGML v1.0//EN
CALSCALE:GREGORIAN
METHOD:PUBLISH
X-WR-CALNAME:Good Shepherd Lutheran Church
X-ORIGINAL-URL:https://gslcwi.com
X-WR-CALDESC:Events for Good Shepherd Lutheran Church
REFRESH-INTERVAL;VALUE=DURATION:PT1H
X-Robots-Tag:noindex
X-PUBLISHED-TTL:PT1H
BEGIN:VTIMEZONE
TZID:America/Chicago
BEGIN:DAYLIGHT
TZOFFSETFROM:-0600
TZOFFSETTO:-0500
TZNAME:CDT
DTSTART:20230312T080000
END:DAYLIGHT
BEGIN:STANDARD
TZOFFSETFROM:-0500
TZOFFSETTO:-0600
TZNAME:CST
DTSTART:20231105T070000
END:STANDARD
BEGIN:DAYLIGHT
TZOFFSETFROM:-0600
TZOFFSETTO:-0500
TZNAME:CDT
DTSTART:20240310T080000
END:DAYLIGHT
BEGIN:STANDARD
TZOFFSETFROM:-0500
TZOFFSETTO:-0600
TZNAME:CST
DTSTART:20241103T070000
END:STANDARD
BEGIN:DAYLIGHT
TZOFFSETFROM:-0600
TZOFFSETTO:-0500
TZNAME:CDT
DTSTART:20250309T080000
END:DAYLIGHT
BEGIN:STANDARD
TZOFFSETFROM:-0500
TZOFFSETTO:-0600
TZNAME:CST
DTSTART:20251102T070000
END:STANDARD
END:VTIMEZONE
BEGIN:VEVENT
DTSTART;TZID=America/Chicago:20241008T083000
DTEND;TZID=America/Chicago:20241008T093000
DTSTAMP:20260425T075348
CREATED:20240802T005527Z
LAST-MODIFIED:20241003T210555Z
UID:10020626-1728376200-1728379800@gslcwi.com
SUMMARY:Playgroup
DESCRIPTION:A playgroup for caregivers and children aged birth-3\, Meets every Tuesday beginning September 17\, 8:30-9:30 a.m. in the Verona campus gym.
URL:https://gslcwi.com/event/playgroup-emily-16/
LOCATION:Verona Gym
CATEGORIES:Children's Ministry
ATTACH;FMTTYPE=image/jpeg:https://gslcwi.com/wp-content/uploads/2024/08/Playgroup-Slide-Fall24.jpg
ORGANIZER;CN="Emily Gold":MAILTO:egold@gslcwi.com
END:VEVENT
BEGIN:VEVENT
DTSTART;TZID=America/Chicago:20241008T090000
DTEND;TZID=America/Chicago:20241008T110000
DTSTAMP:20260425T075348
CREATED:20230320T152255Z
LAST-MODIFIED:20230921T134352Z
UID:10013385-1728378000-1728385200@gslcwi.com
SUMMARY:Tuesday Trekkers
DESCRIPTION:Join other GS folks for an hour-long hike\, Tuesdays at 9am.  Meets at different locations around the area\, enjoying fresh air and fellowship.
URL:https://gslcwi.com/event/tuesday-trekkers-8/2024-10-08/
LOCATION:Offsite
CATEGORIES:Adult Education,Fellowship,Sports
ATTACH;FMTTYPE=image/jpeg:https://gslcwi.com/wp-content/uploads/2023/03/trekers720.jpg
ORGANIZER;CN="Diane Hughes":MAILTO:dhhands@sbcglobal.net
END:VEVENT
BEGIN:VEVENT
DTSTART;TZID=America/Chicago:20241008T100000
DTEND;TZID=America/Chicago:20241008T120000
DTSTAMP:20260425T075348
CREATED:20240802T005528Z
LAST-MODIFIED:20241003T210816Z
UID:10020627-1728381600-1728388800@gslcwi.com
SUMMARY:Quilters
DESCRIPTION:Brent – ** / Donna Hintze<teddyb55@icloud.com\n________________________________________________________________________________\nMicrosoft Teams Need help?\nJoin the meeting now\nMeeting ID: 239 398 851 631\nPasscode: qzhfKD\n________________________________\nFor organizers: Meeting options\n________________________________________________________________________________
URL:https://gslcwi.com/event/quilters-111/
LOCATION:Verona Fellowship Hall
END:VEVENT
BEGIN:VEVENT
DTSTART;TZID=America/Chicago:20241008T103000
DTEND;TZID=America/Chicago:20241008T120000
DTSTAMP:20260425T075348
CREATED:20240802T005528Z
LAST-MODIFIED:20241003T210816Z
UID:10020628-1728383400-1728388800@gslcwi.com
SUMMARY:Caregiver Support Group
DESCRIPTION:Resch\, Alison Resch.Alison@countyofdane.com
URL:https://gslcwi.com/event/caregiver-support-group-9/
LOCATION:Madison Room 6
END:VEVENT
BEGIN:VEVENT
DTSTART;TZID=America/Chicago:20241008T130000
DTEND;TZID=America/Chicago:20241008T143000
DTSTAMP:20260425T075348
CREATED:20240809T002002Z
LAST-MODIFIED:20241003T210817Z
UID:10020631-1728392400-1728397800@gslcwi.com
SUMMARY:Men’s Caregiver Support Group
DESCRIPTION:Resch\, Alison Resch.Alison@countyofdane.com
URL:https://gslcwi.com/event/mens-caregiver-support-group-9/
LOCATION:Madison Room 11/The Sheep Fold
END:VEVENT
BEGIN:VEVENT
DTSTART;TZID=America/Chicago:20241008T150000
DTEND;TZID=America/Chicago:20241008T183000
DTSTAMP:20260425T075348
CREATED:20240912T231224Z
LAST-MODIFIED:20241003T212232Z
UID:10020810-1728399600-1728412200@gslcwi.com
SUMMARY:Pickleball
DESCRIPTION:Phyllis Wiederhoeft pwiederhoeft@gmail.com
URL:https://gslcwi.com/event/pickleball-233/
LOCATION:Verona Gym
END:VEVENT
BEGIN:VEVENT
DTSTART;TZID=America/Chicago:20241008T163000
DTEND;TZID=America/Chicago:20241008T180000
DTSTAMP:20260425T075348
CREATED:20240905T233757Z
LAST-MODIFIED:20240926T220717Z
UID:10020778-1728405000-1728410400@gslcwi.com
SUMMARY:Cooking Class
DESCRIPTION:Beckfield\, Andrew ABeckfield@cityofmadison.com
URL:https://gslcwi.com/event/cooking-class-3/
LOCATION:Madison Kitchen
END:VEVENT
BEGIN:VEVENT
DTSTART;TZID=America/Chicago:20241008T171500
DTEND;TZID=America/Chicago:20241008T180000
DTSTAMP:20260425T075348
CREATED:20240919T224643Z
LAST-MODIFIED:20241003T212233Z
UID:10021110-1728407700-1728410400@gslcwi.com
SUMMARY:Matt's Guitar Group
DESCRIPTION:________________________________________________________________________________\nMicrosoft Teams Need help?\nJoin the meeting now\nMeeting ID: 259 245 831 950\nPasscode: 8og2rq\n________________________________\nFor organizers: Meeting options\n________________________________________________________________________________
URL:https://gslcwi.com/event/matts-guitar-group-3/
LOCATION:Madison Room 11/The Sheep Fold
END:VEVENT
BEGIN:VEVENT
DTSTART;TZID=America/Chicago:20241008T174500
DTEND;TZID=America/Chicago:20241008T200000
DTSTAMP:20260425T075348
CREATED:20240926T220715Z
LAST-MODIFIED:20241003T212232Z
UID:10021349-1728409500-1728417600@gslcwi.com
SUMMARY:Deni N. Group
DESCRIPTION:Brent  / Deni
URL:https://gslcwi.com/event/deni-n-group/
LOCATION:Madison Room 6
END:VEVENT
BEGIN:VEVENT
DTSTART;TZID=America/Chicago:20241008T180000
DTEND;TZID=America/Chicago:20241008T190000
DTSTAMP:20260425T075348
CREATED:20240912T231124Z
LAST-MODIFIED:20241003T210817Z
UID:10020809-1728410400-1728414000@gslcwi.com
SUMMARY:Den Meeting
DESCRIPTION:4650 County Rd D M\, Morrisonville\, WI
URL:https://gslcwi.com/event/den-meeting-56/
LOCATION:Verona Room 11
END:VEVENT
BEGIN:VEVENT
DTSTART;TZID=America/Chicago:20241008T180000
DTEND;TZID=America/Chicago:20241008T193000
DTSTAMP:20260425T075348
CREATED:20240809T003359Z
LAST-MODIFIED:20241003T212234Z
UID:10020632-1728410400-1728415800@gslcwi.com
SUMMARY:Inreach Committee
DESCRIPTION:PS
URL:https://gslcwi.com/event/inreach-committee-19/
LOCATION:Madison Good Shepherd Room
END:VEVENT
BEGIN:VEVENT
DTSTART;TZID=America/Chicago:20241008T183000
DTEND;TZID=America/Chicago:20241008T193000
DTSTAMP:20260425T075348
CREATED:20240926T220717Z
LAST-MODIFIED:20241003T212344Z
UID:10021350-1728412200-1728415800@gslcwi.com
SUMMARY:Bear Den Meeting
DESCRIPTION:Kyle Davis\, anthem1@gmail.com
URL:https://gslcwi.com/event/bear-den-meeting/
LOCATION:Verona Room 7
END:VEVENT
BEGIN:VEVENT
DTSTART;TZID=America/Chicago:20241008T183000
DTEND;TZID=America/Chicago:20241008T203000
DTSTAMP:20260425T075348
CREATED:20240905T233758Z
LAST-MODIFIED:20241003T212231Z
UID:10020779-1728412200-1728419400@gslcwi.com
SUMMARY:Boy Scouts
DESCRIPTION:Amy Byrnes – Scout Master ajmbyrnes@yahoo.com\nMatt Watrud – Scout Master watrud@uwalumni.com
URL:https://gslcwi.com/event/boy-scouts-192/
LOCATION:Verona Fellowship Hall
END:VEVENT
BEGIN:VEVENT
DTSTART;TZID=America/Chicago:20241008T190000
DTEND;TZID=America/Chicago:20241008T200000
DTSTAMP:20260425T075348
CREATED:20230921T142540Z
LAST-MODIFIED:20230921T152532Z
UID:10016690-1728414000-1728417600@gslcwi.com
SUMMARY:Wine and Word Women's Study
DESCRIPTION:
URL:https://gslcwi.com/event/wine-and-word-womens-study/2024-10-08/
LOCATION:RP Adler’s\, 8202 Watts Rd\, Madison\, WI\, 53711\, United States
CATEGORIES:Bible Study,Women's Ministry
ORGANIZER;CN="Liz Deterding":MAILTO:elizabeth.deterding@gmail.com
END:VEVENT
BEGIN:VEVENT
DTSTART;TZID=America/Chicago:20241008T193000
DTEND;TZID=America/Chicago:20241008T210000
DTSTAMP:20260425T075348
CREATED:20240809T003400Z
LAST-MODIFIED:20241003T212344Z
UID:10020633-1728415800-1728421200@gslcwi.com
SUMMARY:AA Meeting
DESCRIPTION:Jenni Nowak jenninowak25@gmail.com\nAlexander: 585.305.3414\nJennifer: 608.515.0697
URL:https://gslcwi.com/event/aa-meeting-133/
LOCATION:Verona Room 6
END:VEVENT
END:VCALENDAR