BEGIN:VCALENDAR
VERSION:2.0
PRODID:-//Good Shepherd Lutheran Church - ECPv6.15.20//NONSGML v1.0//EN
CALSCALE:GREGORIAN
METHOD:PUBLISH
X-WR-CALNAME:Good Shepherd Lutheran Church
X-ORIGINAL-URL:https://gslcwi.com
X-WR-CALDESC:Events for Good Shepherd Lutheran Church
REFRESH-INTERVAL;VALUE=DURATION:PT1H
X-Robots-Tag:noindex
X-PUBLISHED-TTL:PT1H
BEGIN:VTIMEZONE
TZID:America/Chicago
BEGIN:DAYLIGHT
TZOFFSETFROM:-0600
TZOFFSETTO:-0500
TZNAME:CDT
DTSTART:20230312T080000
END:DAYLIGHT
BEGIN:STANDARD
TZOFFSETFROM:-0500
TZOFFSETTO:-0600
TZNAME:CST
DTSTART:20231105T070000
END:STANDARD
BEGIN:DAYLIGHT
TZOFFSETFROM:-0600
TZOFFSETTO:-0500
TZNAME:CDT
DTSTART:20240310T080000
END:DAYLIGHT
BEGIN:STANDARD
TZOFFSETFROM:-0500
TZOFFSETTO:-0600
TZNAME:CST
DTSTART:20241103T070000
END:STANDARD
BEGIN:DAYLIGHT
TZOFFSETFROM:-0600
TZOFFSETTO:-0500
TZNAME:CDT
DTSTART:20250309T080000
END:DAYLIGHT
BEGIN:STANDARD
TZOFFSETFROM:-0500
TZOFFSETTO:-0600
TZNAME:CST
DTSTART:20251102T070000
END:STANDARD
END:VTIMEZONE
BEGIN:VEVENT
DTSTART;TZID=America/Chicago:20241012T083000
DTEND;TZID=America/Chicago:20241012T093000
DTSTAMP:20260423T134013
CREATED:20220925T214224Z
LAST-MODIFIED:20230921T134939Z
UID:10016420-1728721800-1728725400@gslcwi.com
SUMMARY:Men's Bible Study Zoom
DESCRIPTION:A small group bible study and fellowship group.
URL:https://gslcwi.com/event/mens-bible-study-zoom-74/2024-10-12/
LOCATION:Zoom Meeting
CATEGORIES:Bible Study,Men's Ministry
ORGANIZER;CN="Vern Andren":MAILTO:vwacja12@outlook.com
END:VEVENT
BEGIN:VEVENT
DTSTART;TZID=America/Chicago:20241012T093000
DTEND;TZID=America/Chicago:20241012T110000
DTSTAMP:20260423T134013
CREATED:20240924T155511Z
LAST-MODIFIED:20240924T155546Z
UID:10021124-1728725400-1728730800@gslcwi.com
SUMMARY:Fall Family Fun Event
DESCRIPTION:Families are invited to gather at Eplegaarden Saturday\, October 12 from 9:30-11 a.m.! Get together with other families from Good Shepherd\, while enjoying some fall family fun—apple and pumpkin picking\, farm animals\, kids play area\, and more​! We will meet at the entrance near the bakery barn; admission is free! Contact Emily Gold with any questions.
URL:https://gslcwi.com/event/fall-family-fun-event/
LOCATION:Eplegaarden\, 2227 Fitchburg Rd\, Fitchburg\, WI\, 53575\, United States
CATEGORIES:Children's Ministry
ATTACH;FMTTYPE=image/jpeg:https://gslcwi.com/wp-content/uploads/2024/09/Fall-Family-Event.jpg
ORGANIZER;CN="Emily Gold":MAILTO:egold@gslcwi.com
END:VEVENT
BEGIN:VEVENT
DTSTART;TZID=America/Chicago:20241012T110000
DTEND;TZID=America/Chicago:20241012T170000
DTSTAMP:20260423T134013
CREATED:20240809T003614Z
LAST-MODIFIED:20241010T205121Z
UID:10020640-1728730800-1728752400@gslcwi.com
SUMMARY:Wedding Erickson/Bonazza
DESCRIPTION:Brent / Pastor Sheryl
URL:https://gslcwi.com/event/wedding-erickson-bonazza/
LOCATION:Madison Sanctuary; Madison Good Shepherd Room; Madison Peterson Hall; Madison Lobby; Madison Room 11/The Sheep Fold
END:VEVENT
BEGIN:VEVENT
DTSTART;TZID=America/Chicago:20241012T190000
DTEND;TZID=America/Chicago:20241012T210000
DTSTAMP:20260423T134013
CREATED:20240809T003614Z
LAST-MODIFIED:20241010T205122Z
UID:10020641-1728759600-1728766800@gslcwi.com
SUMMARY:Faith of Christ Church
DESCRIPTION:Gorge Garcia\, gorgegarcia613@yahoo.com\n818-264-6914
URL:https://gslcwi.com/event/faith-of-christ-church-158/
LOCATION:Madison Music Room
END:VEVENT
END:VCALENDAR