BEGIN:VCALENDAR
VERSION:2.0
PRODID:-//Good Shepherd Lutheran Church - ECPv6.15.20//NONSGML v1.0//EN
CALSCALE:GREGORIAN
METHOD:PUBLISH
X-WR-CALNAME:Good Shepherd Lutheran Church
X-ORIGINAL-URL:https://gslcwi.com
X-WR-CALDESC:Events for Good Shepherd Lutheran Church
REFRESH-INTERVAL;VALUE=DURATION:PT1H
X-Robots-Tag:noindex
X-PUBLISHED-TTL:PT1H
BEGIN:VTIMEZONE
TZID:America/Chicago
BEGIN:DAYLIGHT
TZOFFSETFROM:-0600
TZOFFSETTO:-0500
TZNAME:CDT
DTSTART:20230312T080000
END:DAYLIGHT
BEGIN:STANDARD
TZOFFSETFROM:-0500
TZOFFSETTO:-0600
TZNAME:CST
DTSTART:20231105T070000
END:STANDARD
BEGIN:DAYLIGHT
TZOFFSETFROM:-0600
TZOFFSETTO:-0500
TZNAME:CDT
DTSTART:20240310T080000
END:DAYLIGHT
BEGIN:STANDARD
TZOFFSETFROM:-0500
TZOFFSETTO:-0600
TZNAME:CST
DTSTART:20241103T070000
END:STANDARD
BEGIN:DAYLIGHT
TZOFFSETFROM:-0600
TZOFFSETTO:-0500
TZNAME:CDT
DTSTART:20250309T080000
END:DAYLIGHT
BEGIN:STANDARD
TZOFFSETFROM:-0500
TZOFFSETTO:-0600
TZNAME:CST
DTSTART:20251102T070000
END:STANDARD
END:VTIMEZONE
BEGIN:VEVENT
DTSTART;VALUE=DATE:20241019
DTEND;VALUE=DATE:20241020
DTSTAMP:20260419T065148
CREATED:20240809T010758Z
LAST-MODIFIED:20241017T204826Z
UID:10020658-1729296000-1729382399@gslcwi.com
SUMMARY:NCAA Cross Country - Parking
DESCRIPTION:Brent / Beth Clouser
URL:https://gslcwi.com/event/ncaa-cross-country-parking/
LOCATION:Verona Parking Lot
END:VEVENT
BEGIN:VEVENT
DTSTART;TZID=America/Chicago:20241019T083000
DTEND;TZID=America/Chicago:20241019T093000
DTSTAMP:20260419T065148
CREATED:20220925T214224Z
LAST-MODIFIED:20230921T134939Z
UID:10016421-1729326600-1729330200@gslcwi.com
SUMMARY:Men's Bible Study Zoom
DESCRIPTION:A small group bible study and fellowship group.
URL:https://gslcwi.com/event/mens-bible-study-zoom-74/2024-10-19/
LOCATION:Zoom Meeting
CATEGORIES:Bible Study,Men's Ministry
ORGANIZER;CN="Vern Andren":MAILTO:vwacja12@outlook.com
END:VEVENT
BEGIN:VEVENT
DTSTART;TZID=America/Chicago:20241019T083000
DTEND;TZID=America/Chicago:20241019T110000
DTSTAMP:20260419T065148
CREATED:20240809T010608Z
LAST-MODIFIED:20240823T002730Z
UID:10020656-1729326600-1729335600@gslcwi.com
SUMMARY:Ygdrasil
DESCRIPTION:CRAIG L GJERDE clgjerde@wisc.edu
URL:https://gslcwi.com/event/ygdrasil-24/
LOCATION:Madison Peterson Hall
END:VEVENT
BEGIN:VEVENT
DTSTART;TZID=America/Chicago:20241019T170000
DTEND;TZID=America/Chicago:20241019T203000
DTSTAMP:20260419T065148
CREATED:20240809T010757Z
LAST-MODIFIED:20241017T204826Z
UID:10020657-1729357200-1729369800@gslcwi.com
SUMMARY:Faith of Christ Church
DESCRIPTION:Gorge Garcia\, gorgegarcia613@yahoo.com\n818-264-6914
URL:https://gslcwi.com/event/faith-of-christ-church-160/
LOCATION:Madison Music Room
END:VEVENT
END:VCALENDAR