BEGIN:VCALENDAR
VERSION:2.0
PRODID:-//Good Shepherd Lutheran Church - ECPv6.15.20//NONSGML v1.0//EN
CALSCALE:GREGORIAN
METHOD:PUBLISH
X-WR-CALNAME:Good Shepherd Lutheran Church
X-ORIGINAL-URL:https://gslcwi.com
X-WR-CALDESC:Events for Good Shepherd Lutheran Church
REFRESH-INTERVAL;VALUE=DURATION:PT1H
X-Robots-Tag:noindex
X-PUBLISHED-TTL:PT1H
BEGIN:VTIMEZONE
TZID:America/Chicago
BEGIN:DAYLIGHT
TZOFFSETFROM:-0600
TZOFFSETTO:-0500
TZNAME:CDT
DTSTART:20230312T080000
END:DAYLIGHT
BEGIN:STANDARD
TZOFFSETFROM:-0500
TZOFFSETTO:-0600
TZNAME:CST
DTSTART:20231105T070000
END:STANDARD
BEGIN:DAYLIGHT
TZOFFSETFROM:-0600
TZOFFSETTO:-0500
TZNAME:CDT
DTSTART:20240310T080000
END:DAYLIGHT
BEGIN:STANDARD
TZOFFSETFROM:-0500
TZOFFSETTO:-0600
TZNAME:CST
DTSTART:20241103T070000
END:STANDARD
BEGIN:DAYLIGHT
TZOFFSETFROM:-0600
TZOFFSETTO:-0500
TZNAME:CDT
DTSTART:20250309T080000
END:DAYLIGHT
BEGIN:STANDARD
TZOFFSETFROM:-0500
TZOFFSETTO:-0600
TZNAME:CST
DTSTART:20251102T070000
END:STANDARD
END:VTIMEZONE
BEGIN:VEVENT
DTSTART;TZID=America/Chicago:20241113T070000
DTEND;TZID=America/Chicago:20241113T080000
DTSTAMP:20260422T071147
CREATED:20230228T160601Z
LAST-MODIFIED:20230921T134643Z
UID:10012601-1731481200-1731484800@gslcwi.com
SUMMARY:Wednesday Morning Men's Bible Study
DESCRIPTION:A Weekly Men’s Bible Study that gathers on Zoom.
URL:https://gslcwi.com/event/wednesday-morning-mens-bible-study/2024-11-13/
CATEGORIES:Adult Education,Bible Study,Men's Ministry
ATTACH;FMTTYPE=image/jpeg:https://gslcwi.com/wp-content/uploads/2023/02/fa-barboza-NWoaoMgMiVY-unsplash.jpg
ORGANIZER;CN="Dean Nelson":MAILTO:deanwnelson@gmail.com
END:VEVENT
BEGIN:VEVENT
DTSTART;TZID=America/Chicago:20241113T083000
DTEND;TZID=America/Chicago:20241113T100000
DTSTAMP:20260422T071147
CREATED:20230320T152258Z
LAST-MODIFIED:20230419T205304Z
UID:10013182-1731486600-1731492000@gslcwi.com
SUMMARY:Pickleball
DESCRIPTION:
URL:https://gslcwi.com/event/pickleball-166/2024-11-13/
LOCATION:Verona Gym
CATEGORIES:Sports,Verona Gym
ATTACH;FMTTYPE=image/jpeg:https://gslcwi.com/wp-content/uploads/2023/02/pickleball2-1.jpg
END:VEVENT
BEGIN:VEVENT
DTSTART;TZID=America/Chicago:20241113T100000
DTEND;TZID=America/Chicago:20241113T120000
DTSTAMP:20260422T071147
CREATED:20241004T020604Z
LAST-MODIFIED:20241107T215306Z
UID:10021410-1731492000-1731499200@gslcwi.com
SUMMARY:Quilters
DESCRIPTION:Brent – ** / Donna Hintze<teddyb55@icloud.com\n________________________________________________________________________________\nMicrosoft Teams Need help?\nJoin the meeting now\nMeeting ID: 239 398 851 631\nPasscode: qzhfKD\n________________________________\nFor organizers: Meeting options\n________________________________________________________________________________
URL:https://gslcwi.com/event/quilters-114/
LOCATION:Verona Fellowship Hall
END:VEVENT
BEGIN:VEVENT
DTSTART;TZID=America/Chicago:20241113T120000
DTEND;TZID=America/Chicago:20241113T130000
DTSTAMP:20260422T071147
CREATED:20241011T012128Z
LAST-MODIFIED:20241107T215307Z
UID:10021427-1731499200-1731502800@gslcwi.com
SUMMARY:Bible study
DESCRIPTION:Brent / Robin godsinspirations@icloud.com\n________________________________________________________________________________\nMicrosoft Teams Need help?\nJoin the meeting now\nMeeting ID: 261 902 178 874\nPasscode: cqxmem\n________________________________\nFor organizers: Meeting options\n________________________________________________________________________________
URL:https://gslcwi.com/event/bible-study-90/
LOCATION:Madison Good Shepherd Room
END:VEVENT
BEGIN:VEVENT
DTSTART;TZID=America/Chicago:20241113T160000
DTEND;TZID=America/Chicago:20241113T173000
DTSTAMP:20260422T071147
CREATED:20241011T012421Z
LAST-MODIFIED:20241107T220603Z
UID:10021428-1731513600-1731519000@gslcwi.com
SUMMARY:Literacy Classes
DESCRIPTION:Bex Fabrizio Bex@litnetwork.org
URL:https://gslcwi.com/event/literacy-classes-18/
LOCATION:Madison Good Shepherd Room
END:VEVENT
BEGIN:VEVENT
DTSTART;TZID=America/Chicago:20241113T180000
DTEND;TZID=America/Chicago:20241113T190000
DTSTAMP:20260422T071147
CREATED:20241011T012421Z
LAST-MODIFIED:20241107T220604Z
UID:10021429-1731520800-1731524400@gslcwi.com
SUMMARY:Hand Bells
DESCRIPTION:Brent / Jared
URL:https://gslcwi.com/event/hand-bells-9/
LOCATION:Madison Sanctuary
END:VEVENT
BEGIN:VEVENT
DTSTART;TZID=America/Chicago:20241113T180000
DTEND;TZID=America/Chicago:20241113T200000
DTSTAMP:20260422T071147
CREATED:20241011T012423Z
LAST-MODIFIED:20241107T220605Z
UID:10021431-1731520800-1731528000@gslcwi.com
SUMMARY:Amped
DESCRIPTION:
URL:https://gslcwi.com/event/amped-107/
LOCATION:Verona Campus\, 7291 County Rd PD\, Verona\, WI\, 53593\, United States
END:VEVENT
BEGIN:VEVENT
DTSTART;TZID=America/Chicago:20241113T181500
DTEND;TZID=America/Chicago:20241113T200000
DTSTAMP:20260422T071147
CREATED:20240926T164449Z
LAST-MODIFIED:20240926T164449Z
UID:10021333-1731521700-1731528000@gslcwi.com
SUMMARY:AMPED Confirmation
DESCRIPTION:
URL:https://gslcwi.com/event/amped-confirmation-32/2024-11-13/
LOCATION:Good Shepherd Verona Campus\, 7291 County Road PD\, Verona\, WI\, 53593\, United States
CATEGORIES:AMPED Confirmation
ATTACH;FMTTYPE=image/jpeg:https://gslcwi.com/wp-content/uploads/2024/09/Amped-Confirmation-Event-Graphic.jpg
ORGANIZER;CN="Sarah Iverson":MAILTO:siverson@gslcwi.com
END:VEVENT
BEGIN:VEVENT
DTSTART;TZID=America/Chicago:20241113T190000
DTEND;TZID=America/Chicago:20241113T210000
DTSTAMP:20260422T071147
CREATED:20241011T012422Z
LAST-MODIFIED:20241107T220604Z
UID:10021430-1731524400-1731531600@gslcwi.com
SUMMARY:Faith of Christ Church
DESCRIPTION:Gorge Garcia\, gorgegarcia613@yahoo.com\n818-264-6914
URL:https://gslcwi.com/event/faith-of-christ-church-167/
LOCATION:Madison Music Room
END:VEVENT
BEGIN:VEVENT
DTSTART;TZID=America/Chicago:20241113T190000
DTEND;TZID=America/Chicago:20241113T213000
DTSTAMP:20260422T071147
CREATED:20241011T012423Z
LAST-MODIFIED:20241107T220605Z
UID:10021432-1731524400-1731533400@gslcwi.com
SUMMARY:Choir
DESCRIPTION:
URL:https://gslcwi.com/event/choir-9/
LOCATION:Madison Sanctuary
END:VEVENT
END:VCALENDAR