BEGIN:VCALENDAR
VERSION:2.0
PRODID:-//Good Shepherd Lutheran Church - ECPv6.15.20//NONSGML v1.0//EN
CALSCALE:GREGORIAN
METHOD:PUBLISH
X-WR-CALNAME:Good Shepherd Lutheran Church
X-ORIGINAL-URL:https://gslcwi.com
X-WR-CALDESC:Events for Good Shepherd Lutheran Church
REFRESH-INTERVAL;VALUE=DURATION:PT1H
X-Robots-Tag:noindex
X-PUBLISHED-TTL:PT1H
BEGIN:VTIMEZONE
TZID:America/Chicago
BEGIN:DAYLIGHT
TZOFFSETFROM:-0600
TZOFFSETTO:-0500
TZNAME:CDT
DTSTART:20230312T080000
END:DAYLIGHT
BEGIN:STANDARD
TZOFFSETFROM:-0500
TZOFFSETTO:-0600
TZNAME:CST
DTSTART:20231105T070000
END:STANDARD
BEGIN:DAYLIGHT
TZOFFSETFROM:-0600
TZOFFSETTO:-0500
TZNAME:CDT
DTSTART:20240310T080000
END:DAYLIGHT
BEGIN:STANDARD
TZOFFSETFROM:-0500
TZOFFSETTO:-0600
TZNAME:CST
DTSTART:20241103T070000
END:STANDARD
BEGIN:DAYLIGHT
TZOFFSETFROM:-0600
TZOFFSETTO:-0500
TZNAME:CDT
DTSTART:20250309T080000
END:DAYLIGHT
BEGIN:STANDARD
TZOFFSETFROM:-0500
TZOFFSETTO:-0600
TZNAME:CST
DTSTART:20251102T070000
END:STANDARD
END:VTIMEZONE
BEGIN:VEVENT
DTSTART;TZID=America/Chicago:20241125T160000
DTEND;TZID=America/Chicago:20241125T173000
DTSTAMP:20260421T225602
CREATED:20220923T135855Z
LAST-MODIFIED:20230913T194729Z
UID:10012712-1732550400-1732555800@gslcwi.com
SUMMARY:Literacy Network
DESCRIPTION:
URL:https://gslcwi.com/event/literacy-network-40/2024-11-25/
LOCATION:Madison Room 11/The Sheep Fold; Madison Room 9
CATEGORIES:Community Event
END:VEVENT
BEGIN:VEVENT
DTSTART;TZID=America/Chicago:20241125T160000
DTEND;TZID=America/Chicago:20241125T173000
DTSTAMP:20260421T225602
CREATED:20241018T020405Z
LAST-MODIFIED:20241121T214822Z
UID:10021488-1732550400-1732555800@gslcwi.com
SUMMARY:Literacy Classes
DESCRIPTION:Bex Fabrizio Bex@litnetwork.org
URL:https://gslcwi.com/event/literacy-classes-21/
LOCATION:Madison Good Shepherd Room
END:VEVENT
BEGIN:VEVENT
DTSTART;TZID=America/Chicago:20241125T170000
DTEND;TZID=America/Chicago:20241125T180000
DTSTAMP:20260421T225602
CREATED:20241121T214824Z
LAST-MODIFIED:20241121T214824Z
UID:10021680-1732554000-1732557600@gslcwi.com
SUMMARY:Bryan Gym
DESCRIPTION:Hilary Bryan hb@thebodyatwork.com
URL:https://gslcwi.com/event/bryan-gym-8/
LOCATION:Verona Gym
END:VEVENT
BEGIN:VEVENT
DTSTART;TZID=America/Chicago:20241125T173000
DTEND;TZID=America/Chicago:20241125T183000
DTSTAMP:20260421T225602
CREATED:20241101T005415Z
LAST-MODIFIED:20241114T231724Z
UID:10021551-1732555800-1732559400@gslcwi.com
SUMMARY:Bryan Gym
DESCRIPTION:Hilary Bryan hb@thebodyatwork.com
URL:https://gslcwi.com/event/bryan-gym-4/
LOCATION:Verona Gym
END:VEVENT
BEGIN:VEVENT
DTSTART;TZID=America/Chicago:20241125T180000
DTEND;TZID=America/Chicago:20241125T200000
DTSTAMP:20260421T225602
CREATED:20241018T020406Z
LAST-MODIFIED:20241121T214823Z
UID:10021489-1732557600-1732564800@gslcwi.com
SUMMARY:Chosen
DESCRIPTION:Eric Holmer\, eholmer@gslcwi.com
URL:https://gslcwi.com/event/chosen-22/
LOCATION:Madison Peterson Hall
ATTACH;FMTTYPE=image/jpeg:https://gslcwi.com/wp-content/uploads/2024/10/S4E7.jpg
END:VEVENT
END:VCALENDAR