BEGIN:VCALENDAR
VERSION:2.0
PRODID:-//Good Shepherd Lutheran Church - ECPv6.15.20//NONSGML v1.0//EN
CALSCALE:GREGORIAN
METHOD:PUBLISH
X-WR-CALNAME:Good Shepherd Lutheran Church
X-ORIGINAL-URL:https://gslcwi.com
X-WR-CALDESC:Events for Good Shepherd Lutheran Church
REFRESH-INTERVAL;VALUE=DURATION:PT1H
X-Robots-Tag:noindex
X-PUBLISHED-TTL:PT1H
BEGIN:VTIMEZONE
TZID:America/Chicago
BEGIN:DAYLIGHT
TZOFFSETFROM:-0600
TZOFFSETTO:-0500
TZNAME:CDT
DTSTART:20230312T080000
END:DAYLIGHT
BEGIN:STANDARD
TZOFFSETFROM:-0500
TZOFFSETTO:-0600
TZNAME:CST
DTSTART:20231105T070000
END:STANDARD
BEGIN:DAYLIGHT
TZOFFSETFROM:-0600
TZOFFSETTO:-0500
TZNAME:CDT
DTSTART:20240310T080000
END:DAYLIGHT
BEGIN:STANDARD
TZOFFSETFROM:-0500
TZOFFSETTO:-0600
TZNAME:CST
DTSTART:20241103T070000
END:STANDARD
BEGIN:DAYLIGHT
TZOFFSETFROM:-0600
TZOFFSETTO:-0500
TZNAME:CDT
DTSTART:20250309T080000
END:DAYLIGHT
BEGIN:STANDARD
TZOFFSETFROM:-0500
TZOFFSETTO:-0600
TZNAME:CST
DTSTART:20251102T070000
END:STANDARD
END:VTIMEZONE
BEGIN:VEVENT
DTSTART;TZID=America/Chicago:20241202T160000
DTEND;TZID=America/Chicago:20241202T173000
DTSTAMP:20260421T171351
CREATED:20220923T135855Z
LAST-MODIFIED:20230913T194729Z
UID:10012713-1733155200-1733160600@gslcwi.com
SUMMARY:Literacy Network
DESCRIPTION:
URL:https://gslcwi.com/event/literacy-network-40/2024-12-02/
LOCATION:Madison Room 11/The Sheep Fold; Madison Room 9
CATEGORIES:Community Event
END:VEVENT
BEGIN:VEVENT
DTSTART;TZID=America/Chicago:20241202T160000
DTEND;TZID=America/Chicago:20241202T173000
DTSTAMP:20260421T171351
CREATED:20241025T015929Z
LAST-MODIFIED:20241128T212901Z
UID:10021517-1733155200-1733160600@gslcwi.com
SUMMARY:Literacy Classes
DESCRIPTION:Bex Fabrizio Bex@litnetwork.org
URL:https://gslcwi.com/event/literacy-classes-23/
LOCATION:Madison Good Shepherd Room
END:VEVENT
BEGIN:VEVENT
DTSTART;TZID=America/Chicago:20241202T170000
DTEND;TZID=America/Chicago:20241202T180000
DTSTAMP:20260421T171351
CREATED:20241121T225220Z
LAST-MODIFIED:20241128T214431Z
UID:10021682-1733158800-1733162400@gslcwi.com
SUMMARY:Bryan Gym
DESCRIPTION:Hilary Bryan hb@thebodyatwork.com
URL:https://gslcwi.com/event/bryan-gym-9/
LOCATION:Verona Gym
END:VEVENT
BEGIN:VEVENT
DTSTART;TZID=America/Chicago:20241202T173000
DTEND;TZID=America/Chicago:20241202T183000
DTSTAMP:20260421T171351
CREATED:20241025T021420Z
LAST-MODIFIED:20241128T214241Z
UID:10021522-1733160600-1733164200@gslcwi.com
SUMMARY:Cub Scouts
DESCRIPTION:jjbasken@gmail.com
URL:https://gslcwi.com/event/cub-scouts-97/
LOCATION:Verona Room 7
END:VEVENT
BEGIN:VEVENT
DTSTART;TZID=America/Chicago:20241202T173000
DTEND;TZID=America/Chicago:20241202T183000
DTSTAMP:20260421T171351
CREATED:20241101T012804Z
LAST-MODIFIED:20241115T000835Z
UID:10021557-1733160600-1733164200@gslcwi.com
SUMMARY:Bryan Gym
DESCRIPTION:Hilary Bryan hb@thebodyatwork.com
URL:https://gslcwi.com/event/bryan-gym-5/
LOCATION:Verona Gym
END:VEVENT
BEGIN:VEVENT
DTSTART;TZID=America/Chicago:20241202T180000
DTEND;TZID=America/Chicago:20241202T190000
DTSTAMP:20260421T171351
CREATED:20241128T214240Z
LAST-MODIFIED:20241128T214240Z
UID:10021733-1733162400-1733166000@gslcwi.com
SUMMARY:Reward Gym
DESCRIPTION:Sara Reward sararewald@yahoo.com
URL:https://gslcwi.com/event/reward-gym/
LOCATION:Verona Gym
END:VEVENT
BEGIN:VEVENT
DTSTART;TZID=America/Chicago:20241202T180000
DTEND;TZID=America/Chicago:20241202T200000
DTSTAMP:20260421T171351
CREATED:20241025T015929Z
LAST-MODIFIED:20241128T214242Z
UID:10021518-1733162400-1733169600@gslcwi.com
SUMMARY:Girl Scouts
DESCRIPTION:Katy Kosobucki kbreidenbach@uwalumni.com
URL:https://gslcwi.com/event/girl-scouts-148/
LOCATION:Verona Room 6
END:VEVENT
BEGIN:VEVENT
DTSTART;TZID=America/Chicago:20241202T180000
DTEND;TZID=America/Chicago:20241202T200000
DTSTAMP:20260421T171351
CREATED:20241025T015931Z
LAST-MODIFIED:20241128T214241Z
UID:10021520-1733162400-1733169600@gslcwi.com
SUMMARY:Webelos Meeting
DESCRIPTION:Nicole Dederich ndederich83@gmail.com
URL:https://gslcwi.com/event/webelos-meeting-6/
LOCATION:Verona Fellowship Hall
END:VEVENT
BEGIN:VEVENT
DTSTART;TZID=America/Chicago:20241202T180000
DTEND;TZID=America/Chicago:20241202T200000
DTSTAMP:20260421T171351
CREATED:20241025T021420Z
LAST-MODIFIED:20241128T214240Z
UID:10021521-1733162400-1733169600@gslcwi.com
SUMMARY:Chosen
DESCRIPTION:Eric Holmer\, eholmer@gslcwi.com
URL:https://gslcwi.com/event/chosen-23/
LOCATION:Madison Peterson Hall
ATTACH;FMTTYPE=image/jpeg:https://gslcwi.com/wp-content/uploads/2024/10/S4E8.jpg
END:VEVENT
BEGIN:VEVENT
DTSTART;TZID=America/Chicago:20241202T183000
DTEND;TZID=America/Chicago:20241202T193000
DTSTAMP:20260421T171351
CREATED:20241025T015930Z
LAST-MODIFIED:20241128T214431Z
UID:10021519-1733164200-1733167800@gslcwi.com
SUMMARY:AOL Den Meeting
DESCRIPTION:Terry Goeldner tgoeldner@hotmail.com
URL:https://gslcwi.com/event/aol-den-meeting-6/
LOCATION:Verona Room 11
END:VEVENT
END:VCALENDAR