BEGIN:VCALENDAR
VERSION:2.0
PRODID:-//Good Shepherd Lutheran Church - ECPv6.15.20//NONSGML v1.0//EN
CALSCALE:GREGORIAN
METHOD:PUBLISH
X-ORIGINAL-URL:https://gslcwi.com
X-WR-CALDESC:Events for Good Shepherd Lutheran Church
REFRESH-INTERVAL;VALUE=DURATION:PT1H
X-Robots-Tag:noindex
X-PUBLISHED-TTL:PT1H
BEGIN:VTIMEZONE
TZID:America/Chicago
BEGIN:DAYLIGHT
TZOFFSETFROM:-0600
TZOFFSETTO:-0500
TZNAME:CDT
DTSTART:20240310T080000
END:DAYLIGHT
BEGIN:STANDARD
TZOFFSETFROM:-0500
TZOFFSETTO:-0600
TZNAME:CST
DTSTART:20241103T070000
END:STANDARD
BEGIN:DAYLIGHT
TZOFFSETFROM:-0600
TZOFFSETTO:-0500
TZNAME:CDT
DTSTART:20250309T080000
END:DAYLIGHT
BEGIN:STANDARD
TZOFFSETFROM:-0500
TZOFFSETTO:-0600
TZNAME:CST
DTSTART:20251102T070000
END:STANDARD
BEGIN:DAYLIGHT
TZOFFSETFROM:-0600
TZOFFSETTO:-0500
TZNAME:CDT
DTSTART:20260308T080000
END:DAYLIGHT
BEGIN:STANDARD
TZOFFSETFROM:-0500
TZOFFSETTO:-0600
TZNAME:CST
DTSTART:20261101T070000
END:STANDARD
END:VTIMEZONE
BEGIN:VEVENT
DTSTART;TZID=America/Chicago:20250203T000000
DTEND;TZID=America/Chicago:20250208T120000
DTSTAMP:20260421T230544
CREATED:20250103T024628Z
LAST-MODIFIED:20250206T215630Z
UID:10022045-1738540800-1739016000@gslcwi.com
SUMMARY:Souper Bowl 24
DESCRIPTION:Judy Hoard
URL:https://gslcwi.com/event/souper-bowl-24-2/
LOCATION:Madison Room 2
END:VEVENT
BEGIN:VEVENT
DTSTART;TZID=America/Chicago:20250203T083000
DTEND;TZID=America/Chicago:20250203T103000
DTSTAMP:20260421T230544
CREATED:20250117T001721Z
LAST-MODIFIED:20250130T221852Z
UID:10022096-1738571400-1738578600@gslcwi.com
SUMMARY:Clothes Closet Sorters
DESCRIPTION:
URL:https://gslcwi.com/event/clothes-closet-sorters-3/
LOCATION:Madison Peterson Hall
END:VEVENT
BEGIN:VEVENT
DTSTART;TZID=America/Chicago:20250203T160000
DTEND;TZID=America/Chicago:20250203T170000
DTSTAMP:20260421T230544
CREATED:20241227T023801Z
LAST-MODIFIED:20250130T220241Z
UID:10022003-1738598400-1738602000@gslcwi.com
SUMMARY:Wissen Gym Time
DESCRIPTION:Stephanie Wissen wissen@uwalumni.com
URL:https://gslcwi.com/event/wissen-gym-time-8/
LOCATION:Verona Gym
END:VEVENT
BEGIN:VEVENT
DTSTART;TZID=America/Chicago:20250203T160000
DTEND;TZID=America/Chicago:20250203T173000
DTSTAMP:20260421T230544
CREATED:20220923T135855Z
LAST-MODIFIED:20230913T194729Z
UID:10012722-1738598400-1738603800@gslcwi.com
SUMMARY:Literacy Network
DESCRIPTION:
URL:https://gslcwi.com/event/literacy-network-40/2025-02-03/
LOCATION:Madison Room 11/The Sheep Fold; Madison Room 9
CATEGORIES:Community Event
END:VEVENT
BEGIN:VEVENT
DTSTART;TZID=America/Chicago:20250203T160000
DTEND;TZID=America/Chicago:20250203T173000
DTSTAMP:20260421T230544
CREATED:20250117T001721Z
LAST-MODIFIED:20250130T222049Z
UID:10022097-1738598400-1738603800@gslcwi.com
SUMMARY:Literacy Network
DESCRIPTION:Bex Fabrizio Bex@litnetwork.org
URL:https://gslcwi.com/event/literacy-network-223/
LOCATION:Madison Good Shepherd Room
END:VEVENT
BEGIN:VEVENT
DTSTART;TZID=America/Chicago:20250203T173000
DTEND;TZID=America/Chicago:20250203T183000
DTSTAMP:20260421T230544
CREATED:20241227T023802Z
LAST-MODIFIED:20250130T220242Z
UID:10022006-1738603800-1738607400@gslcwi.com
SUMMARY:Cub Scouts
DESCRIPTION:jjbasken@gmail.com
URL:https://gslcwi.com/event/cub-scouts-101/
LOCATION:Verona Room 7
END:VEVENT
BEGIN:VEVENT
DTSTART;TZID=America/Chicago:20250203T180000
DTEND;TZID=America/Chicago:20250203T190000
DTSTAMP:20260421T230544
CREATED:20250103T015519Z
LAST-MODIFIED:20250110T011557Z
UID:10022017-1738605600-1738609200@gslcwi.com
SUMMARY:Rewald Gym
DESCRIPTION:Sara Rewald sararewald@yahoo.com
URL:https://gslcwi.com/event/rewald-gym-4/
LOCATION:Verona Gym
END:VEVENT
BEGIN:VEVENT
DTSTART;TZID=America/Chicago:20250203T180000
DTEND;TZID=America/Chicago:20250203T200000
DTSTAMP:20260421T230544
CREATED:20241227T023801Z
LAST-MODIFIED:20250130T220510Z
UID:10022004-1738605600-1738612800@gslcwi.com
SUMMARY:Girl Scouts
DESCRIPTION:Katy Kosobucki kbreidenbach@uwalumni.com
URL:https://gslcwi.com/event/girl-scouts-161/
LOCATION:Verona Room 6
END:VEVENT
BEGIN:VEVENT
DTSTART;TZID=America/Chicago:20250203T180000
DTEND;TZID=America/Chicago:20250203T200000
DTSTAMP:20260421T230544
CREATED:20241227T023802Z
LAST-MODIFIED:20250130T220242Z
UID:10022005-1738605600-1738612800@gslcwi.com
SUMMARY:Webelos Meeting
DESCRIPTION:Nicole Dederich ndederich83@gmail.com
URL:https://gslcwi.com/event/webelos-meeting-10/
LOCATION:Verona Fellowship Hall
END:VEVENT
BEGIN:VEVENT
DTSTART;TZID=America/Chicago:20250203T183000
DTEND;TZID=America/Chicago:20250203T193000
DTSTAMP:20260421T230544
CREATED:20250103T021153Z
LAST-MODIFIED:20250130T222050Z
UID:10022018-1738607400-1738611000@gslcwi.com
SUMMARY:AOL Den Meeting
DESCRIPTION:Terry Goeldner tgoeldner@hotmail.com
URL:https://gslcwi.com/event/aol-den-meeting-9/
LOCATION:Verona Room 11
END:VEVENT
BEGIN:VEVENT
DTSTART;TZID=America/Chicago:20250203T183000
DTEND;TZID=America/Chicago:20250203T200000
DTSTAMP:20260421T230544
CREATED:20250103T015518Z
LAST-MODIFIED:20250130T222050Z
UID:10022016-1738607400-1738612800@gslcwi.com
SUMMARY:Bible study group
DESCRIPTION:Brent / Nancy erinan@chorus.net\n________________________________________________________________________________\nMicrosoft Teams Need help?\nJoin the meeting now\nMeeting ID: 233 109 452 08\nPasscode: hm72cX\n________________________________\nFor organizers: Meeting options\n________________________________________________________________________________
URL:https://gslcwi.com/event/bible-study-group-44/
LOCATION:Verona Family Lounge
END:VEVENT
BEGIN:VEVENT
DTSTART;TZID=America/Chicago:20250203T190000
DTEND;TZID=America/Chicago:20250203T200000
DTSTAMP:20260421T230544
CREATED:20241227T023803Z
LAST-MODIFIED:20250130T220510Z
UID:10022007-1738609200-1738612800@gslcwi.com
SUMMARY:McCarty Gym Time
DESCRIPTION:Phillip Mattsson-Boze pmattsso@gmail.com
URL:https://gslcwi.com/event/mccarty-gym-time-5/
LOCATION:Verona Gym
END:VEVENT
END:VCALENDAR