BEGIN:VCALENDAR
VERSION:2.0
PRODID:-//Good Shepherd Lutheran Church - ECPv6.15.20//NONSGML v1.0//EN
CALSCALE:GREGORIAN
METHOD:PUBLISH
X-WR-CALNAME:Good Shepherd Lutheran Church
X-ORIGINAL-URL:https://gslcwi.com
X-WR-CALDESC:Events for Good Shepherd Lutheran Church
REFRESH-INTERVAL;VALUE=DURATION:PT1H
X-Robots-Tag:noindex
X-PUBLISHED-TTL:PT1H
BEGIN:VTIMEZONE
TZID:America/Chicago
BEGIN:DAYLIGHT
TZOFFSETFROM:-0600
TZOFFSETTO:-0500
TZNAME:CDT
DTSTART:20240310T080000
END:DAYLIGHT
BEGIN:STANDARD
TZOFFSETFROM:-0500
TZOFFSETTO:-0600
TZNAME:CST
DTSTART:20241103T070000
END:STANDARD
BEGIN:DAYLIGHT
TZOFFSETFROM:-0600
TZOFFSETTO:-0500
TZNAME:CDT
DTSTART:20250309T080000
END:DAYLIGHT
BEGIN:STANDARD
TZOFFSETFROM:-0500
TZOFFSETTO:-0600
TZNAME:CST
DTSTART:20251102T070000
END:STANDARD
BEGIN:DAYLIGHT
TZOFFSETFROM:-0600
TZOFFSETTO:-0500
TZNAME:CDT
DTSTART:20260308T080000
END:DAYLIGHT
BEGIN:STANDARD
TZOFFSETFROM:-0500
TZOFFSETTO:-0600
TZNAME:CST
DTSTART:20261101T070000
END:STANDARD
END:VTIMEZONE
BEGIN:VEVENT
DTSTART;TZID=America/Chicago:20250220T100000
DTEND;TZID=America/Chicago:20250220T120000
DTSTAMP:20260421T225603
CREATED:20220923T135902Z
LAST-MODIFIED:20230228T181021Z
UID:10012631-1740045600-1740052800@gslcwi.com
SUMMARY:GSLC Food Pantry
DESCRIPTION:Weekly community food distribution – because Jesus said so! \nMore information on the Good Shepherd Food Pantry can be found here.
URL:https://gslcwi.com/event/gslc-food-pantry-74/2025-02-20/
LOCATION:Madison Lobby
CATEGORIES:Community Event
END:VEVENT
BEGIN:VEVENT
DTSTART;TZID=America/Chicago:20250220T100000
DTEND;TZID=America/Chicago:20250220T120000
DTSTAMP:20260421T225603
CREATED:20220923T135903Z
LAST-MODIFIED:20230228T181458Z
UID:10012634-1740045600-1740052800@gslcwi.com
SUMMARY:Clothes Closet
DESCRIPTION:More information on the Good Shepherd Clothes Closet can be found here.
URL:https://gslcwi.com/event/clothes-closet-147/2025-02-20/
LOCATION:Madison Room 6
CATEGORIES:Community Event
END:VEVENT
BEGIN:VEVENT
DTSTART;TZID=America/Chicago:20250220T100000
DTEND;TZID=America/Chicago:20250220T120000
DTSTAMP:20260421T225603
CREATED:20250124T022951Z
LAST-MODIFIED:20250213T230404Z
UID:10022156-1740045600-1740052800@gslcwi.com
SUMMARY:Clothes Closet
DESCRIPTION:
URL:https://gslcwi.com/event/clothes-closet-291/
LOCATION:Madison Room 6
END:VEVENT
BEGIN:VEVENT
DTSTART;TZID=America/Chicago:20250220T100000
DTEND;TZID=America/Chicago:20250220T120000
DTSTAMP:20260421T225603
CREATED:20250124T022952Z
LAST-MODIFIED:20250213T230523Z
UID:10022157-1740045600-1740052800@gslcwi.com
SUMMARY:GSLC Food Pantry
DESCRIPTION:
URL:https://gslcwi.com/event/gslc-food-pantry-198/
LOCATION:Madison Lobby
END:VEVENT
BEGIN:VEVENT
DTSTART;TZID=America/Chicago:20250220T133000
DTEND;TZID=America/Chicago:20250220T150000
DTSTAMP:20260421T225603
CREATED:20250124T022953Z
LAST-MODIFIED:20250213T230524Z
UID:10022158-1740058200-1740063600@gslcwi.com
SUMMARY:Shepherd's Hands Knitters
DESCRIPTION:Brent / PS
URL:https://gslcwi.com/event/shepherds-hands-knitters-11/
LOCATION:Madison Lobby
END:VEVENT
BEGIN:VEVENT
DTSTART;TZID=America/Chicago:20250220T170000
DTEND;TZID=America/Chicago:20250220T180000
DTSTAMP:20260421T225603
CREATED:20250124T022953Z
LAST-MODIFIED:20250220T221355Z
UID:10022159-1740070800-1740074400@gslcwi.com
SUMMARY:Christensen Gym
DESCRIPTION:Scott smchristensen@gmail.com
URL:https://gslcwi.com/event/christensen-gym-14/
LOCATION:Verona Gym
END:VEVENT
BEGIN:VEVENT
DTSTART;TZID=America/Chicago:20250220T173000
DTEND;TZID=America/Chicago:20250220T190000
DTSTAMP:20260421T225603
CREATED:20220928T111753Z
LAST-MODIFIED:20230302T174342Z
UID:10012651-1740072600-1740078000@gslcwi.com
SUMMARY:GSLC Food Pantry
DESCRIPTION:Weekly community food distribution – because Jesus said so! \nMore information on the Good Shepherd Food Pantry can be found here.
URL:https://gslcwi.com/event/gslc-food-pantrty-86/2025-02-20/
LOCATION:Madison Lobby
CATEGORIES:Community Event
END:VEVENT
BEGIN:VEVENT
DTSTART;TZID=America/Chicago:20250220T173000
DTEND;TZID=America/Chicago:20250220T190000
DTSTAMP:20260421T225603
CREATED:20250124T023201Z
LAST-MODIFIED:20250220T221355Z
UID:10022160-1740072600-1740078000@gslcwi.com
SUMMARY:GSLC Food Pantrty
DESCRIPTION:
URL:https://gslcwi.com/event/gslc-food-pantrty-197/
LOCATION:Madison Peterson Hall
END:VEVENT
BEGIN:VEVENT
DTSTART;TZID=America/Chicago:20250220T183000
DTEND;TZID=America/Chicago:20250220T193000
DTSTAMP:20260421T225603
CREATED:20250124T023204Z
LAST-MODIFIED:20250220T221356Z
UID:10022163-1740076200-1740079800@gslcwi.com
SUMMARY:Cub Scouts
DESCRIPTION:drjonnyb@yahoo.com\, Jonathon Bach
URL:https://gslcwi.com/event/cub-scouts-104/
LOCATION:Verona Fellowship Hall
END:VEVENT
BEGIN:VEVENT
DTSTART;TZID=America/Chicago:20250220T183000
DTEND;TZID=America/Chicago:20250220T200000
DTSTAMP:20260421T225603
CREATED:20250124T023203Z
LAST-MODIFIED:20250220T221357Z
UID:10022162-1740076200-1740081600@gslcwi.com
SUMMARY:Palecek Basketball
DESCRIPTION:Cheryl Palecek clf1070@tds.net
URL:https://gslcwi.com/event/palecek-basketball-27/
LOCATION:Verona Gym
END:VEVENT
BEGIN:VEVENT
DTSTART;TZID=America/Chicago:20250220T190000
DTEND;TZID=America/Chicago:20250220T210000
DTSTAMP:20260421T225603
CREATED:20221025T213413Z
LAST-MODIFIED:20230228T181705Z
UID:10012668-1740078000-1740085200@gslcwi.com
SUMMARY:Band Rehearsal
DESCRIPTION:
URL:https://gslcwi.com/event/band-rehearsal/2025-02-20/
LOCATION:Verona Campus\, 7291 County Rd PD\, Verona\, WI\, 53593\, United States
CATEGORIES:Music
END:VEVENT
BEGIN:VEVENT
DTSTART;TZID=America/Chicago:20250220T190000
DTEND;TZID=America/Chicago:20250220T210000
DTSTAMP:20260421T225603
CREATED:20250124T023202Z
LAST-MODIFIED:20250220T221357Z
UID:10022161-1740078000-1740085200@gslcwi.com
SUMMARY:10:00 Worship Band Rehearsal
DESCRIPTION:Tracy Dahl
URL:https://gslcwi.com/event/1000-worship-band-rehearsal-16/
LOCATION:Verona Sanctuary
END:VEVENT
END:VCALENDAR