BEGIN:VCALENDAR
VERSION:2.0
PRODID:-//Good Shepherd Lutheran Church - ECPv6.15.20//NONSGML v1.0//EN
CALSCALE:GREGORIAN
METHOD:PUBLISH
X-ORIGINAL-URL:https://gslcwi.com
X-WR-CALDESC:Events for Good Shepherd Lutheran Church
REFRESH-INTERVAL;VALUE=DURATION:PT1H
X-Robots-Tag:noindex
X-PUBLISHED-TTL:PT1H
BEGIN:VTIMEZONE
TZID:America/Chicago
BEGIN:DAYLIGHT
TZOFFSETFROM:-0600
TZOFFSETTO:-0500
TZNAME:CDT
DTSTART:20240310T080000
END:DAYLIGHT
BEGIN:STANDARD
TZOFFSETFROM:-0500
TZOFFSETTO:-0600
TZNAME:CST
DTSTART:20241103T070000
END:STANDARD
BEGIN:DAYLIGHT
TZOFFSETFROM:-0600
TZOFFSETTO:-0500
TZNAME:CDT
DTSTART:20250309T080000
END:DAYLIGHT
BEGIN:STANDARD
TZOFFSETFROM:-0500
TZOFFSETTO:-0600
TZNAME:CST
DTSTART:20251102T070000
END:STANDARD
BEGIN:DAYLIGHT
TZOFFSETFROM:-0600
TZOFFSETTO:-0500
TZNAME:CDT
DTSTART:20260308T080000
END:DAYLIGHT
BEGIN:STANDARD
TZOFFSETFROM:-0500
TZOFFSETTO:-0600
TZNAME:CST
DTSTART:20261101T070000
END:STANDARD
END:VTIMEZONE
BEGIN:VEVENT
DTSTART;TZID=America/Chicago:20250225T083000
DTEND;TZID=America/Chicago:20250225T093000
DTSTAMP:20260422T201900
CREATED:20250131T020239Z
LAST-MODIFIED:20250220T224841Z
UID:10022188-1740472200-1740475800@gslcwi.com
SUMMARY:Playgroup - Emily
DESCRIPTION:Brent / Emily G\n-Having the  table in front of window\n-table and 4 chairs set up on that perpendicular wall\n-the 2 playgroup rugs set up similar to last year on the opposite wall\n________________________________________________________________________________\nMicrosoft Teams Need help?\nJoin the meeting now\nMeeting ID: 220 897 479 041\nPasscode: c6TL2D\n________________________________\nFor organizers: Meeting options\n________________________________________________________________________________
URL:https://gslcwi.com/event/playgroup-emily-36/
LOCATION:Verona Gym
END:VEVENT
BEGIN:VEVENT
DTSTART;TZID=America/Chicago:20250225T090000
DTEND;TZID=America/Chicago:20250225T110000
DTSTAMP:20260422T201900
CREATED:20230320T152255Z
LAST-MODIFIED:20230921T134352Z
UID:10013405-1740474000-1740481200@gslcwi.com
SUMMARY:Tuesday Trekkers
DESCRIPTION:Join other GS folks for an hour-long hike\, Tuesdays at 9am.  Meets at different locations around the area\, enjoying fresh air and fellowship.
URL:https://gslcwi.com/event/tuesday-trekkers-8/2025-02-25/
LOCATION:Offsite
CATEGORIES:Adult Education,Fellowship,Sports
ATTACH;FMTTYPE=image/jpeg:https://gslcwi.com/wp-content/uploads/2023/03/trekers720.jpg
ORGANIZER;CN="Diane Hughes":MAILTO:dhhands@sbcglobal.net
END:VEVENT
BEGIN:VEVENT
DTSTART;TZID=America/Chicago:20250225T090000
DTEND;TZID=America/Chicago:20250225T130000
DTSTAMP:20260422T201900
CREATED:20250131T020240Z
LAST-MODIFIED:20250220T224635Z
UID:10022190-1740474000-1740488400@gslcwi.com
SUMMARY:Foot Clinic
DESCRIPTION:Brent / Cheryl Franz 608-598-0494
URL:https://gslcwi.com/event/foot-clinic-48/
LOCATION:Madison Room 6
END:VEVENT
BEGIN:VEVENT
DTSTART;TZID=America/Chicago:20250225T110000
DTEND;TZID=America/Chicago:20250225T120000
DTSTAMP:20260422T201900
CREATED:20250131T020240Z
LAST-MODIFIED:20250220T224841Z
UID:10022189-1740481200-1740484800@gslcwi.com
SUMMARY:Staff Meeting
DESCRIPTION:Pr. Craig
URL:https://gslcwi.com/event/staff-meeting-31/
LOCATION:Madison Good Shepherd Room
END:VEVENT
BEGIN:VEVENT
DTSTART;TZID=America/Chicago:20250225T133000
DTEND;TZID=America/Chicago:20250225T144500
DTSTAMP:20260422T201900
CREATED:20250220T200713Z
LAST-MODIFIED:20250220T200713Z
UID:10022333-1740490200-1740494700@gslcwi.com
SUMMARY:Holy COW Planning Meeting
DESCRIPTION:Help plan the 2025 Holy COW Food Cart season! Join us on February 25 from 1:30–2:45 p.m. at the Madison Campus to share ideas and get involved. If you’re interested\, contact Rick Thomas at rthomas@gslcwi.com—Zoom available if needed!
URL:https://gslcwi.com/event/holy-cow-planning-meeting/
LOCATION:Madison Campus\, 5701 Raymond Rd\, Madison\, WI\, 53711\, United States
END:VEVENT
BEGIN:VEVENT
DTSTART;TZID=America/Chicago:20250225T133000
DTEND;TZID=America/Chicago:20250225T150000
DTSTAMP:20260422T201900
CREATED:20250220T224842Z
LAST-MODIFIED:20250220T224842Z
UID:10022335-1740490200-1740495600@gslcwi.com
SUMMARY:Holy COW Planning Meeting
DESCRIPTION:Rick Thomas
URL:https://gslcwi.com/event/holy-cow-planning-meeting-2/
LOCATION:Madison Good Shepherd Room
END:VEVENT
BEGIN:VEVENT
DTSTART;TZID=America/Chicago:20250225T150000
DTEND;TZID=America/Chicago:20250226T103000
DTSTAMP:20260422T201900
CREATED:20250131T020242Z
LAST-MODIFIED:20250220T230224Z
UID:10022192-1740495600-1740565800@gslcwi.com
SUMMARY:Messenger
DESCRIPTION:Judy Hoard
URL:https://gslcwi.com/event/messenger-24/
LOCATION:Madison Good Shepherd Room
END:VEVENT
BEGIN:VEVENT
DTSTART;TZID=America/Chicago:20250225T173000
DTEND;TZID=America/Chicago:20250225T183000
DTSTAMP:20260422T201900
CREATED:20250131T020451Z
LAST-MODIFIED:20250220T224844Z
UID:10022193-1740504600-1740508200@gslcwi.com
SUMMARY:Bear Den Meeting
DESCRIPTION:Kyle Davis\, anthem1@gmail.com
URL:https://gslcwi.com/event/bear-den-meeting-9/
LOCATION:Verona Room 7
END:VEVENT
BEGIN:VEVENT
DTSTART;TZID=America/Chicago:20250225T180000
DTEND;TZID=America/Chicago:20250225T190000
DTSTAMP:20260422T201900
CREATED:20250131T020241Z
LAST-MODIFIED:20250220T230220Z
UID:10022191-1740506400-1740510000@gslcwi.com
SUMMARY:Den Meeting
DESCRIPTION:4650 County Rd D M\, Morrisonville\, WI
URL:https://gslcwi.com/event/den-meeting-78/
LOCATION:Verona Room 11; Verona Room 7
END:VEVENT
BEGIN:VEVENT
DTSTART;TZID=America/Chicago:20250225T183000
DTEND;TZID=America/Chicago:20250225T200000
DTSTAMP:20260422T201900
CREATED:20250220T204255Z
LAST-MODIFIED:20250220T204256Z
UID:10022334-1740508200-1740513600@gslcwi.com
SUMMARY:Bonhoeffer Class - Part Five
DESCRIPTION:
URL:https://gslcwi.com/event/bonhoeffer-class-part-five/
LOCATION:Madison Kitchen; Madison Peterson Hall
CATEGORIES:Adult Education
ATTACH;FMTTYPE=image/jpeg:https://gslcwi.com/wp-content/uploads/2025/01/Bonhoeffer-Classs.jpg
ORGANIZER;CN="Eric Holmer":MAILTO:eholmer@gslcwi.com
END:VEVENT
BEGIN:VEVENT
DTSTART;TZID=America/Chicago:20250225T183000
DTEND;TZID=America/Chicago:20250225T200000
DTSTAMP:20260422T201900
CREATED:20250220T230221Z
LAST-MODIFIED:20250220T230221Z
UID:10022336-1740508200-1740513600@gslcwi.com
SUMMARY:Bonhoeffer Study
DESCRIPTION:
URL:https://gslcwi.com/event/bonhoeffer-study/
LOCATION:Madison Peterson Hall
END:VEVENT
BEGIN:VEVENT
DTSTART;TZID=America/Chicago:20250225T183000
DTEND;TZID=America/Chicago:20250225T203000
DTSTAMP:20260422T201900
CREATED:20250131T020452Z
LAST-MODIFIED:20250220T224843Z
UID:10022195-1740508200-1740515400@gslcwi.com
SUMMARY:Boy Scouts
DESCRIPTION:Amy Byrnes – Scout Master ajmbyrnes@yahoo.com\nMatt Watrud – Scout Master watrud@uwalumni.com
URL:https://gslcwi.com/event/boy-scouts-215/
LOCATION:Verona Fellowship Hall
END:VEVENT
BEGIN:VEVENT
DTSTART;TZID=America/Chicago:20250225T190000
DTEND;TZID=America/Chicago:20250225T200000
DTSTAMP:20260422T201900
CREATED:20230921T142540Z
LAST-MODIFIED:20230921T152532Z
UID:10016710-1740510000-1740513600@gslcwi.com
SUMMARY:Wine and Word Women's Study
DESCRIPTION:
URL:https://gslcwi.com/event/wine-and-word-womens-study/2025-02-25/
LOCATION:RP Adler’s\, 8202 Watts Rd\, Madison\, WI\, 53711\, United States
CATEGORIES:Bible Study,Women's Ministry
ORGANIZER;CN="Liz Deterding":MAILTO:elizabeth.deterding@gmail.com
END:VEVENT
BEGIN:VEVENT
DTSTART;TZID=America/Chicago:20250225T193000
DTEND;TZID=America/Chicago:20250225T210000
DTSTAMP:20260422T201900
CREATED:20250131T020452Z
LAST-MODIFIED:20250220T230222Z
UID:10022194-1740511800-1740517200@gslcwi.com
SUMMARY:AA Meeting
DESCRIPTION:Jenni Nowak jenninowak25@gmail.com\nAlexander: 585.305.3414\nJennifer: 608.515.0697
URL:https://gslcwi.com/event/aa-meeting-153/
LOCATION:Verona Room 6
END:VEVENT
END:VCALENDAR