BEGIN:VCALENDAR
VERSION:2.0
PRODID:-//Good Shepherd Lutheran Church - ECPv6.15.20//NONSGML v1.0//EN
CALSCALE:GREGORIAN
METHOD:PUBLISH
X-WR-CALNAME:Good Shepherd Lutheran Church
X-ORIGINAL-URL:https://gslcwi.com
X-WR-CALDESC:Events for Good Shepherd Lutheran Church
REFRESH-INTERVAL;VALUE=DURATION:PT1H
X-Robots-Tag:noindex
X-PUBLISHED-TTL:PT1H
BEGIN:VTIMEZONE
TZID:America/Chicago
BEGIN:DAYLIGHT
TZOFFSETFROM:-0600
TZOFFSETTO:-0500
TZNAME:CDT
DTSTART:20240310T080000
END:DAYLIGHT
BEGIN:STANDARD
TZOFFSETFROM:-0500
TZOFFSETTO:-0600
TZNAME:CST
DTSTART:20241103T070000
END:STANDARD
BEGIN:DAYLIGHT
TZOFFSETFROM:-0600
TZOFFSETTO:-0500
TZNAME:CDT
DTSTART:20250309T080000
END:DAYLIGHT
BEGIN:STANDARD
TZOFFSETFROM:-0500
TZOFFSETTO:-0600
TZNAME:CST
DTSTART:20251102T070000
END:STANDARD
BEGIN:DAYLIGHT
TZOFFSETFROM:-0600
TZOFFSETTO:-0500
TZNAME:CDT
DTSTART:20260308T080000
END:DAYLIGHT
BEGIN:STANDARD
TZOFFSETFROM:-0500
TZOFFSETTO:-0600
TZNAME:CST
DTSTART:20261101T070000
END:STANDARD
END:VTIMEZONE
BEGIN:VEVENT
DTSTART;TZID=America/Chicago:20250305T070000
DTEND;TZID=America/Chicago:20250305T080000
DTSTAMP:20260419T162650
CREATED:20230228T160601Z
LAST-MODIFIED:20230921T134643Z
UID:10015735-1741158000-1741161600@gslcwi.com
SUMMARY:Wednesday Morning Men's Bible Study
DESCRIPTION:A Weekly Men’s Bible Study that gathers on Zoom.
URL:https://gslcwi.com/event/wednesday-morning-mens-bible-study/2025-03-05/
CATEGORIES:Adult Education,Bible Study,Men's Ministry
ATTACH;FMTTYPE=image/jpeg:https://gslcwi.com/wp-content/uploads/2023/02/fa-barboza-NWoaoMgMiVY-unsplash.jpg
ORGANIZER;CN="Dean Nelson":MAILTO:deanwnelson@gmail.com
END:VEVENT
BEGIN:VEVENT
DTSTART;TZID=America/Chicago:20250305T083000
DTEND;TZID=America/Chicago:20250305T100000
DTSTAMP:20260419T162650
CREATED:20230320T152258Z
LAST-MODIFIED:20230419T205304Z
UID:10013198-1741163400-1741168800@gslcwi.com
SUMMARY:Pickleball
DESCRIPTION:
URL:https://gslcwi.com/event/pickleball-166/2025-03-05/
LOCATION:Verona Gym
CATEGORIES:Sports,Verona Gym
ATTACH;FMTTYPE=image/jpeg:https://gslcwi.com/wp-content/uploads/2023/02/pickleball2-1.jpg
END:VEVENT
BEGIN:VEVENT
DTSTART;TZID=America/Chicago:20250305T093000
DTEND;TZID=America/Chicago:20250305T110000
DTSTAMP:20260419T162650
CREATED:20250214T021357Z
LAST-MODIFIED:20250304T202639Z
UID:10022290-1741167000-1741172400@gslcwi.com
SUMMARY:MOM's Club
DESCRIPTION:Allison Grigg ajgrigg9@gmail.com\nDiane MOMS Club Southwest Madison\, Verona\, & Fitchburg swmadisonmomsclub@gmail.com
URL:https://gslcwi.com/event/moms-club-31/
LOCATION:Madison Peterson Hall
END:VEVENT
BEGIN:VEVENT
DTSTART;TZID=America/Chicago:20250305T100000
DTEND;TZID=America/Chicago:20250305T120000
DTSTAMP:20260419T162650
CREATED:20250207T021742Z
LAST-MODIFIED:20250304T202639Z
UID:10022243-1741168800-1741176000@gslcwi.com
SUMMARY:Quilters
DESCRIPTION:Brent / Donna Hintze<teddyb55@icloud.com
URL:https://gslcwi.com/event/quilters-125/
LOCATION:Verona Fellowship Hall
END:VEVENT
BEGIN:VEVENT
DTSTART;TZID=America/Chicago:20250305T100000
DTEND;TZID=America/Chicago:20250305T123000
DTSTAMP:20260419T162650
CREATED:20250207T021740Z
LAST-MODIFIED:20250304T202638Z
UID:10022241-1741168800-1741177800@gslcwi.com
SUMMARY:The Gathering
DESCRIPTION:Pastor Sheryl
URL:https://gslcwi.com/event/the-gathering-13/
LOCATION:Madison Peterson Hall
END:VEVENT
BEGIN:VEVENT
DTSTART;TZID=America/Chicago:20250305T120000
DTEND;TZID=America/Chicago:20250305T130000
DTSTAMP:20260419T162650
CREATED:20250207T021738Z
LAST-MODIFIED:20250304T202553Z
UID:10022240-1741176000-1741179600@gslcwi.com
SUMMARY:Bible study
DESCRIPTION:Brent / Robin godsinspirations@icloud.com\n________________________________________________________________________________\nMicrosoft Teams Need help?\nJoin the meeting now\nMeeting ID: 261 902 178 874\nPasscode: cqxmem\n________________________________\nFor organizers: Meeting options\n________________________________________________________________________________
URL:https://gslcwi.com/event/bible-study-106/
LOCATION:Madison Good Shepherd Room
END:VEVENT
BEGIN:VEVENT
DTSTART;TZID=America/Chicago:20250305T120000
DTEND;TZID=America/Chicago:20250305T130000
DTSTAMP:20260419T162650
CREATED:20250221T002153Z
LAST-MODIFIED:20250304T202554Z
UID:10022340-1741176000-1741179600@gslcwi.com
SUMMARY:Ash Wednesday Service
DESCRIPTION:Ash Wednesday is March 5\nService Times: \n12:00 p.m. | Madison\n6:30 p.m. | Madison & Verona \nJoin us for worship on Ash Wednesday as we begin our forty-day journey toward Easter with a day of fasting and repentance. Marking our foreheads with dust\, we acknowledge that we die and return to the earth. At the same time\, the dust traces the life-giving cross indelibly marked on our foreheads at baptism.
URL:https://gslcwi.com/event/ash-wednesday-service-3/
LOCATION:Madison Sanctuary
ATTACH;FMTTYPE=image/jpeg:https://gslcwi.com/wp-content/uploads/2025/02/ash-wednesday-is-the-beginning-of-lent-for-christi-2025-01-16-11-16-42-utc-scaled.jpg
END:VEVENT
BEGIN:VEVENT
DTSTART;TZID=America/Chicago:20250305T160000
DTEND;TZID=America/Chicago:20250305T173000
DTSTAMP:20260419T162650
CREATED:20250207T021856Z
LAST-MODIFIED:20250304T202640Z
UID:10022244-1741190400-1741195800@gslcwi.com
SUMMARY:Literacy Network
DESCRIPTION:Bex Fabrizio Bex@litnetwork.org
URL:https://gslcwi.com/event/literacy-network-232/
LOCATION:Madison Good Shepherd Room
END:VEVENT
BEGIN:VEVENT
DTSTART;TZID=America/Chicago:20250305T180000
DTEND;TZID=America/Chicago:20250305T190000
DTSTAMP:20260419T162650
CREATED:20250207T021900Z
LAST-MODIFIED:20250221T002339Z
UID:10022246-1741197600-1741201200@gslcwi.com
SUMMARY:Hand Bells
DESCRIPTION:Brent / Jared
URL:https://gslcwi.com/event/hand-bells-24/
LOCATION:Madison Sanctuary
END:VEVENT
BEGIN:VEVENT
DTSTART;TZID=America/Chicago:20250305T180000
DTEND;TZID=America/Chicago:20250305T200000
DTSTAMP:20260419T162650
CREATED:20250207T021859Z
LAST-MODIFIED:20250221T002338Z
UID:10022245-1741197600-1741204800@gslcwi.com
SUMMARY:Amped
DESCRIPTION:
URL:https://gslcwi.com/event/amped-120/
LOCATION:Verona Campus\, 7291 County Rd PD\, Verona\, WI\, 53593\, United States
END:VEVENT
BEGIN:VEVENT
DTSTART;TZID=America/Chicago:20250305T183000
DTEND;TZID=America/Chicago:20250305T193000
DTSTAMP:20260419T162650
CREATED:20250221T002337Z
LAST-MODIFIED:20250304T202641Z
UID:10022341-1741199400-1741203000@gslcwi.com
SUMMARY:Ash Wednesday Service
DESCRIPTION:
URL:https://gslcwi.com/event/ash-wednesday-service-4/
LOCATION:Verona Sanctuary; Madison Sanctuary
END:VEVENT
BEGIN:VEVENT
DTSTART;TZID=America/Chicago:20250305T183000
DTEND;TZID=America/Chicago:20250305T200000
DTSTAMP:20260419T162650
CREATED:20250207T021902Z
LAST-MODIFIED:20250304T202804Z
UID:10022247-1741199400-1741204800@gslcwi.com
SUMMARY:Madison Achiever's Toastmaster Club
DESCRIPTION:Mark Robinson\, markrobinson@ge.com\nSean Bode 608-335-0435\nPut TV in room
URL:https://gslcwi.com/event/madison-achievers-toastmaster-club-47/
LOCATION:Madison Room 11/The Sheep Fold
END:VEVENT
BEGIN:VEVENT
DTSTART;TZID=America/Chicago:20250305T190000
DTEND;TZID=America/Chicago:20250305T200000
DTSTAMP:20260419T162650
CREATED:20250207T021903Z
LAST-MODIFIED:20250304T202804Z
UID:10022248-1741201200-1741204800@gslcwi.com
SUMMARY:Boy Scouts
DESCRIPTION:mitchell.russ45@scouting.org
URL:https://gslcwi.com/event/boy-scouts-217/
LOCATION:Madison Good Shepherd Room
END:VEVENT
BEGIN:VEVENT
DTSTART;TZID=America/Chicago:20250305T190000
DTEND;TZID=America/Chicago:20250305T210000
DTSTAMP:20260419T162650
CREATED:20250207T023525Z
LAST-MODIFIED:20250304T202803Z
UID:10022249-1741201200-1741208400@gslcwi.com
SUMMARY:Faith of Christ Church
DESCRIPTION:Gorge Garcia\, gorgegarcia613@yahoo.com\n818-264-6914
URL:https://gslcwi.com/event/faith-of-christ-church-198/
LOCATION:Madison Music Room
END:VEVENT
BEGIN:VEVENT
DTSTART;TZID=America/Chicago:20250305T190000
DTEND;TZID=America/Chicago:20250305T213000
DTSTAMP:20260419T162650
CREATED:20250207T023526Z
LAST-MODIFIED:20250221T003725Z
UID:10022250-1741201200-1741210200@gslcwi.com
SUMMARY:Choir
DESCRIPTION:
URL:https://gslcwi.com/event/choir-24/
LOCATION:Madison Sanctuary
END:VEVENT
END:VCALENDAR