BEGIN:VCALENDAR
VERSION:2.0
PRODID:-//Good Shepherd Lutheran Church - ECPv6.15.20//NONSGML v1.0//EN
CALSCALE:GREGORIAN
METHOD:PUBLISH
X-ORIGINAL-URL:https://gslcwi.com
X-WR-CALDESC:Events for Good Shepherd Lutheran Church
REFRESH-INTERVAL;VALUE=DURATION:PT1H
X-Robots-Tag:noindex
X-PUBLISHED-TTL:PT1H
BEGIN:VTIMEZONE
TZID:America/Chicago
BEGIN:DAYLIGHT
TZOFFSETFROM:-0600
TZOFFSETTO:-0500
TZNAME:CDT
DTSTART:20240310T080000
END:DAYLIGHT
BEGIN:STANDARD
TZOFFSETFROM:-0500
TZOFFSETTO:-0600
TZNAME:CST
DTSTART:20241103T070000
END:STANDARD
BEGIN:DAYLIGHT
TZOFFSETFROM:-0600
TZOFFSETTO:-0500
TZNAME:CDT
DTSTART:20250309T080000
END:DAYLIGHT
BEGIN:STANDARD
TZOFFSETFROM:-0500
TZOFFSETTO:-0600
TZNAME:CST
DTSTART:20251102T070000
END:STANDARD
BEGIN:DAYLIGHT
TZOFFSETFROM:-0600
TZOFFSETTO:-0500
TZNAME:CDT
DTSTART:20260308T080000
END:DAYLIGHT
BEGIN:STANDARD
TZOFFSETFROM:-0500
TZOFFSETTO:-0600
TZNAME:CST
DTSTART:20261101T070000
END:STANDARD
END:VTIMEZONE
BEGIN:VEVENT
DTSTART;TZID=America/Chicago:20250310T083000
DTEND;TZID=America/Chicago:20250310T103000
DTSTAMP:20260423T070718
CREATED:20250207T025507Z
LAST-MODIFIED:20250304T203443Z
UID:10022268-1741595400-1741602600@gslcwi.com
SUMMARY:Clothes Closet Sorters
DESCRIPTION:
URL:https://gslcwi.com/event/clothes-closet-sorters-8/
LOCATION:Madison Peterson Hall
END:VEVENT
BEGIN:VEVENT
DTSTART;TZID=America/Chicago:20250310T090000
DTEND;TZID=America/Chicago:20250310T110000
DTSTAMP:20260423T070718
CREATED:20250207T030924Z
LAST-MODIFIED:20250304T203444Z
UID:10022269-1741597200-1741604400@gslcwi.com
SUMMARY:Ruth Circle
DESCRIPTION:Brent / Polly\n________________________________________________________________________________\nMicrosoft Teams Need help?\nJoin the meeting now\nMeeting ID: 231 318 037 012\nPasscode: zkWPHb\n________________________________\nFor organizers: Meeting options\n________________________________________________________________________________
URL:https://gslcwi.com/event/ruth-circle-39/
LOCATION:Madison Good Shepherd Room
END:VEVENT
BEGIN:VEVENT
DTSTART;TZID=America/Chicago:20250310T160000
DTEND;TZID=America/Chicago:20250310T170000
DTSTAMP:20260423T070718
CREATED:20250207T030926Z
LAST-MODIFIED:20250304T203445Z
UID:10022272-1741622400-1741626000@gslcwi.com
SUMMARY:Wissen Gym Time
DESCRIPTION:Stephanie Wissen wissen@uwalumni.com
URL:https://gslcwi.com/event/wissen-gym-time-13/
LOCATION:Verona Gym
END:VEVENT
BEGIN:VEVENT
DTSTART;TZID=America/Chicago:20250310T160000
DTEND;TZID=America/Chicago:20250310T173000
DTSTAMP:20260423T070718
CREATED:20220923T135855Z
LAST-MODIFIED:20230913T194729Z
UID:10015551-1741622400-1741627800@gslcwi.com
SUMMARY:Literacy Network
DESCRIPTION:
URL:https://gslcwi.com/event/literacy-network-40/2025-03-10/
LOCATION:Madison Room 11/The Sheep Fold; Madison Room 9
CATEGORIES:Community Event
END:VEVENT
BEGIN:VEVENT
DTSTART;TZID=America/Chicago:20250310T160000
DTEND;TZID=America/Chicago:20250310T173000
DTSTAMP:20260423T070718
CREATED:20250207T030925Z
LAST-MODIFIED:20250304T203444Z
UID:10022271-1741622400-1741627800@gslcwi.com
SUMMARY:Literacy Network
DESCRIPTION:Bex Fabrizio Bex@litnetwork.org
URL:https://gslcwi.com/event/literacy-network-233/
LOCATION:Madison Good Shepherd Room
END:VEVENT
BEGIN:VEVENT
DTSTART;TZID=America/Chicago:20250310T173000
DTEND;TZID=America/Chicago:20250310T200000
DTSTAMP:20260423T070718
CREATED:20250207T030925Z
LAST-MODIFIED:20250304T203643Z
UID:10022270-1741627800-1741636800@gslcwi.com
SUMMARY:HR Committee
DESCRIPTION:Deni Naumann deninaumann@gmail.com
URL:https://gslcwi.com/event/hr-committee-5/
LOCATION:Madison Room 6
END:VEVENT
BEGIN:VEVENT
DTSTART;TZID=America/Chicago:20250310T190000
DTEND;TZID=America/Chicago:20250310T200000
DTSTAMP:20260423T070718
CREATED:20250207T030926Z
LAST-MODIFIED:20250304T203644Z
UID:10022273-1741633200-1741636800@gslcwi.com
SUMMARY:McCarty Gym Time
DESCRIPTION:Phillip Mattsson-Boze pmattsso@gmail.com
URL:https://gslcwi.com/event/mccarty-gym-time-10/
LOCATION:Verona Gym
END:VEVENT
END:VCALENDAR