BEGIN:VCALENDAR
VERSION:2.0
PRODID:-//Good Shepherd Lutheran Church - ECPv6.15.20//NONSGML v1.0//EN
CALSCALE:GREGORIAN
METHOD:PUBLISH
X-ORIGINAL-URL:https://gslcwi.com
X-WR-CALDESC:Events for Good Shepherd Lutheran Church
REFRESH-INTERVAL;VALUE=DURATION:PT1H
X-Robots-Tag:noindex
X-PUBLISHED-TTL:PT1H
BEGIN:VTIMEZONE
TZID:America/Chicago
BEGIN:DAYLIGHT
TZOFFSETFROM:-0600
TZOFFSETTO:-0500
TZNAME:CDT
DTSTART:20240310T080000
END:DAYLIGHT
BEGIN:STANDARD
TZOFFSETFROM:-0500
TZOFFSETTO:-0600
TZNAME:CST
DTSTART:20241103T070000
END:STANDARD
BEGIN:DAYLIGHT
TZOFFSETFROM:-0600
TZOFFSETTO:-0500
TZNAME:CDT
DTSTART:20250309T080000
END:DAYLIGHT
BEGIN:STANDARD
TZOFFSETFROM:-0500
TZOFFSETTO:-0600
TZNAME:CST
DTSTART:20251102T070000
END:STANDARD
BEGIN:DAYLIGHT
TZOFFSETFROM:-0600
TZOFFSETTO:-0500
TZNAME:CDT
DTSTART:20260308T080000
END:DAYLIGHT
BEGIN:STANDARD
TZOFFSETFROM:-0500
TZOFFSETTO:-0600
TZNAME:CST
DTSTART:20261101T070000
END:STANDARD
END:VTIMEZONE
BEGIN:VEVENT
DTSTART;TZID=America/Chicago:20250304T170000
DTEND;TZID=America/Chicago:20250304T190000
DTSTAMP:20260423T090702
CREATED:20250207T020449Z
LAST-MODIFIED:20250304T202440Z
UID:10022234-1741107600-1741114800@gslcwi.com
SUMMARY:Shrove Tuesday Pancake Dinner
DESCRIPTION:Join us in Madison on Tuesday\, March 4 at 5:00 p.m. for a fun and delicious Shrove Tuesday Pancake dinner! Enjoy a hearty meal and great fellowship as we prepare for the season of Lent. All are welcome!
URL:https://gslcwi.com/event/shrove-tuesday-pancake-dinner-2/
LOCATION:Madison Peterson Hall
ATTACH;FMTTYPE=image/jpeg:https://gslcwi.com/wp-content/uploads/2025/02/golden-pancakes-with-butter-and-warm-maple-syrup-2023-11-27-04-53-35-utc-scaled.jpg
END:VEVENT
BEGIN:VEVENT
DTSTART;TZID=America/Chicago:20250306T183000
DTEND;TZID=America/Chicago:20250306T193000
DTSTAMP:20260423T090702
CREATED:20250220T044752Z
LAST-MODIFIED:20250220T045346Z
UID:10022327-1741285800-1741289400@gslcwi.com
SUMMARY:Women's Book Study | Lent in Plain Sight
DESCRIPTION:Join us beginning on Thursday\, March 6th in the Verona chapel at 6:30 p.m. as we gather to ground ourselves in the season of lent by gathering together around Lent in Plain Sight by Jill J. Duffield. This is a devotional book with short daily devotionals and the readings begin on Ash Wednesday. You’ll need to purchase your own copy of the book. Please join us when you can. If you have to miss a week\, no problem. We’ll meet on Thursdays in Lent for 6 weeks\, 3/6/25-4/10/25. Reach out to Ronda Beggs with any questions at rbeggs@gslcwi.com
URL:https://gslcwi.com/event/book-study-lent-in-plain-sight/2025-03-06/
LOCATION:Verona Chapel
ATTACH;FMTTYPE=image/jpeg:https://gslcwi.com/wp-content/uploads/2025/02/Lent-in-Plain-Sight.jpg
END:VEVENT
BEGIN:VEVENT
DTSTART;TZID=America/Chicago:20250311T183000
DTEND;TZID=America/Chicago:20250311T200000
DTSTAMP:20260423T090702
CREATED:20250304T204128Z
LAST-MODIFIED:20250311T203857Z
UID:10022436-1741717800-1741723200@gslcwi.com
SUMMARY:Exploring Forgiveness
DESCRIPTION:What does it mean to forgive? How do we do it? \nIn this weekly conversation we will look at themes in scripture and in society that point to our existing understandings of forgiveness and reconciliation. \nWe will also work through concrete ways to put forgiveness and reconciliation into practice. \nZoom Meeting Details\nClick here to join the meeting \nMeeting ID: 977 6358 7714\nPasscode: 178265 \n  \n 
URL:https://gslcwi.com/event/exploring-forgiveness/
LOCATION:Madison Peterson Hall
CATEGORIES:Adult Education
ATTACH;FMTTYPE=image/jpeg:https://gslcwi.com/wp-content/uploads/2025/03/ExploringForgivenessMarch11.jpg
ORGANIZER;CN="Eric Holmer":MAILTO:eholmer@gslcwi.com
END:VEVENT
BEGIN:VEVENT
DTSTART;TZID=America/Chicago:20250312T110000
DTEND;TZID=America/Chicago:20250312T130000
DTSTAMP:20260423T090702
CREATED:20250226T215451Z
LAST-MODIFIED:20250226T215454Z
UID:10022382-1741777200-1741784400@gslcwi.com
SUMMARY:Lenten Soup Lunch & Worship
DESCRIPTION:This contemplative worship service will feature Marty Haugen’s “Holden Evening Prayer” while we explore our theme: “Forgive\, as we have been Forgiven” through music\, psalms\, reflections and prayer. Lunch is served at 11:00 a.m. – 11:45 a.m.\, Worship at noon. Stream available at gslcwi.com. Join us March 12\, 19\, 26\, April 2 and 9.
URL:https://gslcwi.com/event/lenten-soup-lunch-worship/2025-03-12/
ATTACH;FMTTYPE=image/jpeg:https://gslcwi.com/wp-content/uploads/2025/02/goulash-soup-with-crispy-garlic-toast-2024-09-23-11-54-17-utc-scaled.jpg
END:VEVENT
BEGIN:VEVENT
DTSTART;TZID=America/Chicago:20250313T183000
DTEND;TZID=America/Chicago:20250313T193000
DTSTAMP:20260423T090702
CREATED:20250220T044752Z
LAST-MODIFIED:20250220T045346Z
UID:10022328-1741890600-1741894200@gslcwi.com
SUMMARY:Women's Book Study | Lent in Plain Sight
DESCRIPTION:Join us beginning on Thursday\, March 6th in the Verona chapel at 6:30 p.m. as we gather to ground ourselves in the season of lent by gathering together around Lent in Plain Sight by Jill J. Duffield. This is a devotional book with short daily devotionals and the readings begin on Ash Wednesday. You’ll need to purchase your own copy of the book. Please join us when you can. If you have to miss a week\, no problem. We’ll meet on Thursdays in Lent for 6 weeks\, 3/6/25-4/10/25. Reach out to Ronda Beggs with any questions at rbeggs@gslcwi.com
URL:https://gslcwi.com/event/book-study-lent-in-plain-sight/2025-03-13/
LOCATION:Verona Chapel
ATTACH;FMTTYPE=image/jpeg:https://gslcwi.com/wp-content/uploads/2025/02/Lent-in-Plain-Sight.jpg
END:VEVENT
BEGIN:VEVENT
DTSTART;TZID=America/Chicago:20250318T183000
DTEND;TZID=America/Chicago:20250318T200000
DTSTAMP:20260423T090702
CREATED:20250304T205140Z
LAST-MODIFIED:20250318T203429Z
UID:10022438-1742322600-1742328000@gslcwi.com
SUMMARY:Exploring Forgiveness
DESCRIPTION:Zoom Link\nClick here to join the Zoom meeting for session two \n 
URL:https://gslcwi.com/event/exploring-forgiveness-2/
LOCATION:Madison Peterson Hall
CATEGORIES:Adult Education
ATTACH;FMTTYPE=image/jpeg:https://gslcwi.com/wp-content/uploads/2025/03/ExploringForgivenessMarch11.jpg
END:VEVENT
BEGIN:VEVENT
DTSTART;TZID=America/Chicago:20250319T110000
DTEND;TZID=America/Chicago:20250319T130000
DTSTAMP:20260423T090702
CREATED:20250226T215451Z
LAST-MODIFIED:20250226T215454Z
UID:10022383-1742382000-1742389200@gslcwi.com
SUMMARY:Lenten Soup Lunch & Worship
DESCRIPTION:This contemplative worship service will feature Marty Haugen’s “Holden Evening Prayer” while we explore our theme: “Forgive\, as we have been Forgiven” through music\, psalms\, reflections and prayer. Lunch is served at 11:00 a.m. – 11:45 a.m.\, Worship at noon. Stream available at gslcwi.com. Join us March 12\, 19\, 26\, April 2 and 9.
URL:https://gslcwi.com/event/lenten-soup-lunch-worship/2025-03-19/
ATTACH;FMTTYPE=image/jpeg:https://gslcwi.com/wp-content/uploads/2025/02/goulash-soup-with-crispy-garlic-toast-2024-09-23-11-54-17-utc-scaled.jpg
END:VEVENT
BEGIN:VEVENT
DTSTART;TZID=America/Chicago:20250320T183000
DTEND;TZID=America/Chicago:20250320T193000
DTSTAMP:20260423T090702
CREATED:20250220T044752Z
LAST-MODIFIED:20250220T045346Z
UID:10022329-1742495400-1742499000@gslcwi.com
SUMMARY:Women's Book Study | Lent in Plain Sight
DESCRIPTION:Join us beginning on Thursday\, March 6th in the Verona chapel at 6:30 p.m. as we gather to ground ourselves in the season of lent by gathering together around Lent in Plain Sight by Jill J. Duffield. This is a devotional book with short daily devotionals and the readings begin on Ash Wednesday. You’ll need to purchase your own copy of the book. Please join us when you can. If you have to miss a week\, no problem. We’ll meet on Thursdays in Lent for 6 weeks\, 3/6/25-4/10/25. Reach out to Ronda Beggs with any questions at rbeggs@gslcwi.com
URL:https://gslcwi.com/event/book-study-lent-in-plain-sight/2025-03-20/
LOCATION:Verona Chapel
ATTACH;FMTTYPE=image/jpeg:https://gslcwi.com/wp-content/uploads/2025/02/Lent-in-Plain-Sight.jpg
END:VEVENT
BEGIN:VEVENT
DTSTART;TZID=America/Chicago:20250326T110000
DTEND;TZID=America/Chicago:20250326T130000
DTSTAMP:20260423T090702
CREATED:20250226T215451Z
LAST-MODIFIED:20250226T215454Z
UID:10022384-1742986800-1742994000@gslcwi.com
SUMMARY:Lenten Soup Lunch & Worship
DESCRIPTION:This contemplative worship service will feature Marty Haugen’s “Holden Evening Prayer” while we explore our theme: “Forgive\, as we have been Forgiven” through music\, psalms\, reflections and prayer. Lunch is served at 11:00 a.m. – 11:45 a.m.\, Worship at noon. Stream available at gslcwi.com. Join us March 12\, 19\, 26\, April 2 and 9.
URL:https://gslcwi.com/event/lenten-soup-lunch-worship/2025-03-26/
ATTACH;FMTTYPE=image/jpeg:https://gslcwi.com/wp-content/uploads/2025/02/goulash-soup-with-crispy-garlic-toast-2024-09-23-11-54-17-utc-scaled.jpg
END:VEVENT
BEGIN:VEVENT
DTSTART;TZID=America/Chicago:20250327T183000
DTEND;TZID=America/Chicago:20250327T193000
DTSTAMP:20260423T090702
CREATED:20250220T044752Z
LAST-MODIFIED:20250220T045346Z
UID:10022330-1743100200-1743103800@gslcwi.com
SUMMARY:Women's Book Study | Lent in Plain Sight
DESCRIPTION:Join us beginning on Thursday\, March 6th in the Verona chapel at 6:30 p.m. as we gather to ground ourselves in the season of lent by gathering together around Lent in Plain Sight by Jill J. Duffield. This is a devotional book with short daily devotionals and the readings begin on Ash Wednesday. You’ll need to purchase your own copy of the book. Please join us when you can. If you have to miss a week\, no problem. We’ll meet on Thursdays in Lent for 6 weeks\, 3/6/25-4/10/25. Reach out to Ronda Beggs with any questions at rbeggs@gslcwi.com
URL:https://gslcwi.com/event/book-study-lent-in-plain-sight/2025-03-27/
LOCATION:Verona Chapel
ATTACH;FMTTYPE=image/jpeg:https://gslcwi.com/wp-content/uploads/2025/02/Lent-in-Plain-Sight.jpg
END:VEVENT
BEGIN:VEVENT
DTSTART;TZID=America/Chicago:20250331T180000
DTEND;TZID=America/Chicago:20250331T193000
DTSTAMP:20260423T090702
CREATED:20250228T030219Z
LAST-MODIFIED:20250325T212345Z
UID:10022409-1743444000-1743449400@gslcwi.com
SUMMARY:First Communion Class
DESCRIPTION:First Communion instruction is offered for kids Kindergarten-5th grade. Choose from a group class\, March 31\, 6:00pm Verona campus or family-led at-home instruction with materials provided by Good Shepherd. First Communions will be recognized within worship April 6\, April 13 and April 17 (Maundy Thursday). \nRegister at: https://goodshep.breezechms.com/form/firstcommunion2025 \n  \negold@gslcwi.com
URL:https://gslcwi.com/event/first-communion-class-5/
LOCATION:Verona Sanctuary
ATTACH;FMTTYPE=image/jpeg:https://gslcwi.com/wp-content/uploads/2025/02/First-Communion-for-website.jpg
END:VEVENT
END:VCALENDAR