BEGIN:VCALENDAR
VERSION:2.0
PRODID:-//Good Shepherd Lutheran Church - ECPv6.15.20//NONSGML v1.0//EN
CALSCALE:GREGORIAN
METHOD:PUBLISH
X-WR-CALNAME:Good Shepherd Lutheran Church
X-ORIGINAL-URL:https://gslcwi.com
X-WR-CALDESC:Events for Good Shepherd Lutheran Church
REFRESH-INTERVAL;VALUE=DURATION:PT1H
X-Robots-Tag:noindex
X-PUBLISHED-TTL:PT1H
BEGIN:VTIMEZONE
TZID:America/Chicago
BEGIN:DAYLIGHT
TZOFFSETFROM:-0600
TZOFFSETTO:-0500
TZNAME:CDT
DTSTART:20240310T080000
END:DAYLIGHT
BEGIN:STANDARD
TZOFFSETFROM:-0500
TZOFFSETTO:-0600
TZNAME:CST
DTSTART:20241103T070000
END:STANDARD
BEGIN:DAYLIGHT
TZOFFSETFROM:-0600
TZOFFSETTO:-0500
TZNAME:CDT
DTSTART:20250309T080000
END:DAYLIGHT
BEGIN:STANDARD
TZOFFSETFROM:-0500
TZOFFSETTO:-0600
TZNAME:CST
DTSTART:20251102T070000
END:STANDARD
BEGIN:DAYLIGHT
TZOFFSETFROM:-0600
TZOFFSETTO:-0500
TZNAME:CDT
DTSTART:20260308T080000
END:DAYLIGHT
BEGIN:STANDARD
TZOFFSETFROM:-0500
TZOFFSETTO:-0600
TZNAME:CST
DTSTART:20261101T070000
END:STANDARD
END:VTIMEZONE
BEGIN:VEVENT
DTSTART;TZID=America/Chicago:20250401T070000
DTEND;TZID=America/Chicago:20250401T183000
DTSTAMP:20260421T161443
CREATED:20250228T030409Z
LAST-MODIFIED:20250325T213919Z
UID:10022412-1743490800-1743532200@gslcwi.com
SUMMARY:Spring Election
DESCRIPTION:
URL:https://gslcwi.com/event/spring-election/
LOCATION:Madison Peterson Hall
END:VEVENT
BEGIN:VEVENT
DTSTART;TZID=America/Chicago:20250401T083000
DTEND;TZID=America/Chicago:20250401T093000
DTSTAMP:20260421T161443
CREATED:20250228T030408Z
LAST-MODIFIED:20250318T221458Z
UID:10022410-1743496200-1743499800@gslcwi.com
SUMMARY:Playgroup - Emily
DESCRIPTION:Brent / Emily G\n-Having the  table in front of window\n-table and 4 chairs set up on that perpendicular wall\n-the 2 playgroup rugs set up similar to last year on the opposite wall\n________________________________________________________________________________\nMicrosoft Teams Need help?\nJoin the meeting now\nMeeting ID: 220 897 479 041\nPasscode: c6TL2D\n________________________________\nFor organizers: Meeting options\n________________________________________________________________________________
URL:https://gslcwi.com/event/playgroup-emily-41/
LOCATION:Verona Gym
END:VEVENT
BEGIN:VEVENT
DTSTART;TZID=America/Chicago:20250401T083000
DTEND;TZID=America/Chicago:20250401T093000
DTSTAMP:20260421T161443
CREATED:20250325T212348Z
LAST-MODIFIED:20250325T212348Z
UID:10022582-1743496200-1743499800@gslcwi.com
SUMMARY:Playgroup - Emily
DESCRIPTION:Jeff / Emily G\n-Having the  table in front of window\n-table and 4 chairs set up on that perpendicular wall\n-the 2 playgroup rugs set up similar to last year on the opposite wall\n________________________________________________________________________________\nMicrosoft Teams Need help?\nJoin the meeting now\nMeeting ID: 220 897 479 041\nPasscode: c6TL2D\n________________________________\nFor organizers: Meeting options\n________________________________________________________________________________
URL:https://gslcwi.com/event/playgroup-emily-45/
LOCATION:Verona Gym
END:VEVENT
BEGIN:VEVENT
DTSTART;TZID=America/Chicago:20250401T090000
DTEND;TZID=America/Chicago:20250401T110000
DTSTAMP:20260421T161443
CREATED:20230320T152255Z
LAST-MODIFIED:20230921T134352Z
UID:10013410-1743498000-1743505200@gslcwi.com
SUMMARY:Tuesday Trekkers
DESCRIPTION:Join other GS folks for an hour-long hike\, Tuesdays at 9am.  Meets at different locations around the area\, enjoying fresh air and fellowship.
URL:https://gslcwi.com/event/tuesday-trekkers-8/2025-04-01/
LOCATION:Offsite
CATEGORIES:Adult Education,Fellowship,Sports
ATTACH;FMTTYPE=image/jpeg:https://gslcwi.com/wp-content/uploads/2023/03/trekers720.jpg
ORGANIZER;CN="Diane Hughes":MAILTO:dhhands@sbcglobal.net
END:VEVENT
BEGIN:VEVENT
DTSTART;TZID=America/Chicago:20250401T100000
DTEND;TZID=America/Chicago:20250401T123000
DTSTAMP:20260421T161443
CREATED:20250228T030410Z
LAST-MODIFIED:20250304T211329Z
UID:10022413-1743501600-1743510600@gslcwi.com
SUMMARY:The Gathering
DESCRIPTION:Pastor Sheryl
URL:https://gslcwi.com/event/the-gathering-14/
LOCATION:Madison Lobby
END:VEVENT
BEGIN:VEVENT
DTSTART;TZID=America/Chicago:20250401T110000
DTEND;TZID=America/Chicago:20250401T120000
DTSTAMP:20260421T161443
CREATED:20250228T030408Z
LAST-MODIFIED:20250325T212350Z
UID:10022411-1743505200-1743508800@gslcwi.com
SUMMARY:Staff Meeting
DESCRIPTION:Pr. Craig
URL:https://gslcwi.com/event/staff-meeting-36/
LOCATION:Madison Good Shepherd Room
END:VEVENT
BEGIN:VEVENT
DTSTART;TZID=America/Chicago:20250401T150000
DTEND;TZID=America/Chicago:20250402T103000
DTSTAMP:20260421T161443
CREATED:20250228T032221Z
LAST-MODIFIED:20250401T205258Z
UID:10022422-1743519600-1743589800@gslcwi.com
SUMMARY:Messenger
DESCRIPTION:Judy Hoard
URL:https://gslcwi.com/event/messenger-25/
LOCATION:Madison Good Shepherd Room
END:VEVENT
BEGIN:VEVENT
DTSTART;TZID=America/Chicago:20250401T180000
DTEND;TZID=America/Chicago:20250401T190000
DTSTAMP:20260421T161443
CREATED:20250228T032000Z
LAST-MODIFIED:20250401T205258Z
UID:10022417-1743530400-1743534000@gslcwi.com
SUMMARY:Den Meeting
DESCRIPTION:4650 County Rd D M\, Morrisonville\, WI
URL:https://gslcwi.com/event/den-meeting-83/
LOCATION:Verona Room 11; Verona Room 7
END:VEVENT
BEGIN:VEVENT
DTSTART;TZID=America/Chicago:20250401T180000
DTEND;TZID=America/Chicago:20250401T193000
DTSTAMP:20260421T161443
CREATED:20250228T032000Z
LAST-MODIFIED:20250401T205525Z
UID:10022416-1743530400-1743535800@gslcwi.com
SUMMARY:McCarty Den Meeting
DESCRIPTION:Derek McCarty djcarty@gmail.com
URL:https://gslcwi.com/event/mccarty-den-meeting-14/
LOCATION:Verona Room 6
END:VEVENT
BEGIN:VEVENT
DTSTART;TZID=America/Chicago:20250401T183000
DTEND;TZID=America/Chicago:20250401T200000
DTSTAMP:20260421T161443
CREATED:20250228T032002Z
LAST-MODIFIED:20250401T205525Z
UID:10022418-1743532200-1743537600@gslcwi.com
SUMMARY:Stephen Ministry Supervision
DESCRIPTION:Pr. Sheryl\, serickson@gslcwi.com
URL:https://gslcwi.com/event/stephen-ministry-supervision-16/
LOCATION:Verona Family Lounge; Verona Library; Verona Sanctuary
END:VEVENT
BEGIN:VEVENT
DTSTART;TZID=America/Chicago:20250401T183000
DTEND;TZID=America/Chicago:20250401T200000
DTSTAMP:20260421T161443
CREATED:20250304T211343Z
LAST-MODIFIED:20250401T205300Z
UID:10022444-1743532200-1743537600@gslcwi.com
SUMMARY:Exploring Forgiveness
DESCRIPTION:Zoom Information \nTopic: Forgiveness Class\nTime: Apr 1\, 2025 06:30 PM Central Time (US and Canada)\nJoin Zoom Meeting\nhttps://duke.zoom.us/j/98206009246?pwd=qaPGSo8t5ibmaHh4bNNUqCGgrNKQHT.1 \nMeeting ID: 982 0600 9246\nPasscode: 544472 \n 
URL:https://gslcwi.com/event/exploring-forgiveness-4/
LOCATION:Madison Peterson Hall
CATEGORIES:Adult Education
ATTACH;FMTTYPE=image/jpeg:https://gslcwi.com/wp-content/uploads/2025/03/ExploringForgivenessMarch11.jpg
END:VEVENT
BEGIN:VEVENT
DTSTART;TZID=America/Chicago:20250401T183000
DTEND;TZID=America/Chicago:20250401T203000
DTSTAMP:20260421T161443
CREATED:20250228T030411Z
LAST-MODIFIED:20250401T205259Z
UID:10022414-1743532200-1743539400@gslcwi.com
SUMMARY:Boy Scouts
DESCRIPTION:Amy Byrnes – Scout Master ajmbyrnes@yahoo.com\nMatt Watrud – Scout Master watrud@uwalumni.com
URL:https://gslcwi.com/event/boy-scouts-221/
LOCATION:Verona Fellowship Hall
END:VEVENT
BEGIN:VEVENT
DTSTART;TZID=America/Chicago:20250401T190000
DTEND;TZID=America/Chicago:20250401T200000
DTSTAMP:20260421T161443
CREATED:20230921T142540Z
LAST-MODIFIED:20230921T152532Z
UID:10016715-1743534000-1743537600@gslcwi.com
SUMMARY:Wine and Word Women's Study
DESCRIPTION:
URL:https://gslcwi.com/event/wine-and-word-womens-study/2025-04-01/
LOCATION:RP Adler’s\, 8202 Watts Rd\, Madison\, WI\, 53711\, United States
CATEGORIES:Bible Study,Women's Ministry
ORGANIZER;CN="Liz Deterding":MAILTO:elizabeth.deterding@gmail.com
END:VEVENT
BEGIN:VEVENT
DTSTART;TZID=America/Chicago:20250401T193000
DTEND;TZID=America/Chicago:20250401T210000
DTSTAMP:20260421T161443
CREATED:20250228T031959Z
LAST-MODIFIED:20250401T205301Z
UID:10022415-1743535800-1743541200@gslcwi.com
SUMMARY:AA Meeting
DESCRIPTION:Jenni Nowak jenninowak25@gmail.com\nAlexander: 585.305.3414\nJennifer: 608.515.0697
URL:https://gslcwi.com/event/aa-meeting-158/
LOCATION:Verona Room 6
END:VEVENT
END:VCALENDAR