BEGIN:VCALENDAR
VERSION:2.0
PRODID:-//Good Shepherd Lutheran Church - ECPv6.15.20//NONSGML v1.0//EN
CALSCALE:GREGORIAN
METHOD:PUBLISH
X-WR-CALNAME:Good Shepherd Lutheran Church
X-ORIGINAL-URL:https://gslcwi.com
X-WR-CALDESC:Events for Good Shepherd Lutheran Church
REFRESH-INTERVAL;VALUE=DURATION:PT1H
X-Robots-Tag:noindex
X-PUBLISHED-TTL:PT1H
BEGIN:VTIMEZONE
TZID:America/Chicago
BEGIN:DAYLIGHT
TZOFFSETFROM:-0600
TZOFFSETTO:-0500
TZNAME:CDT
DTSTART:20240310T080000
END:DAYLIGHT
BEGIN:STANDARD
TZOFFSETFROM:-0500
TZOFFSETTO:-0600
TZNAME:CST
DTSTART:20241103T070000
END:STANDARD
BEGIN:DAYLIGHT
TZOFFSETFROM:-0600
TZOFFSETTO:-0500
TZNAME:CDT
DTSTART:20250309T080000
END:DAYLIGHT
BEGIN:STANDARD
TZOFFSETFROM:-0500
TZOFFSETTO:-0600
TZNAME:CST
DTSTART:20251102T070000
END:STANDARD
BEGIN:DAYLIGHT
TZOFFSETFROM:-0600
TZOFFSETTO:-0500
TZNAME:CDT
DTSTART:20260308T080000
END:DAYLIGHT
BEGIN:STANDARD
TZOFFSETFROM:-0500
TZOFFSETTO:-0600
TZNAME:CST
DTSTART:20261101T070000
END:STANDARD
END:VTIMEZONE
BEGIN:VEVENT
DTSTART;TZID=America/Chicago:20250407T083000
DTEND;TZID=America/Chicago:20250407T103000
DTSTAMP:20260422T144205
CREATED:20250304T212949Z
LAST-MODIFIED:20250401T214022Z
UID:10022453-1744014600-1744021800@gslcwi.com
SUMMARY:Clothes Closet Sorters
DESCRIPTION:
URL:https://gslcwi.com/event/clothes-closet-sorters-12/
LOCATION:Madison Peterson Hall
END:VEVENT
BEGIN:VEVENT
DTSTART;TZID=America/Chicago:20250407T130000
DTEND;TZID=America/Chicago:20250407T140000
DTSTAMP:20260422T144205
CREATED:20250325T222649Z
LAST-MODIFIED:20250401T214022Z
UID:10022586-1744030800-1744034400@gslcwi.com
SUMMARY:Adopt A School
DESCRIPTION:Beth Ringgenberg jbhoberg@charter.net
URL:https://gslcwi.com/event/adopt-a-school-3/
LOCATION:Madison Good Shepherd Room
END:VEVENT
BEGIN:VEVENT
DTSTART;TZID=America/Chicago:20250407T160000
DTEND;TZID=America/Chicago:20250407T173000
DTSTAMP:20260422T144205
CREATED:20220923T135855Z
LAST-MODIFIED:20230913T194729Z
UID:10015555-1744041600-1744047000@gslcwi.com
SUMMARY:Literacy Network
DESCRIPTION:
URL:https://gslcwi.com/event/literacy-network-40/2025-04-07/
LOCATION:Madison Room 11/The Sheep Fold; Madison Room 9
CATEGORIES:Community Event
END:VEVENT
BEGIN:VEVENT
DTSTART;TZID=America/Chicago:20250407T160000
DTEND;TZID=America/Chicago:20250407T173000
DTSTAMP:20260422T144205
CREATED:20250304T212952Z
LAST-MODIFIED:20250401T214023Z
UID:10022456-1744041600-1744047000@gslcwi.com
SUMMARY:Literacy Network
DESCRIPTION:Bex Fabrizio Bex@litnetwork.org
URL:https://gslcwi.com/event/literacy-network-241/
LOCATION:Madison Good Shepherd Room
END:VEVENT
BEGIN:VEVENT
DTSTART;TZID=America/Chicago:20250407T173000
DTEND;TZID=America/Chicago:20250407T183000
DTSTAMP:20260422T144205
CREATED:20250304T212951Z
LAST-MODIFIED:20250401T214329Z
UID:10022455-1744047000-1744050600@gslcwi.com
SUMMARY:Cub Scouts
DESCRIPTION:jjbasken@gmail.com
URL:https://gslcwi.com/event/cub-scouts-111/
LOCATION:Verona Room 7
END:VEVENT
BEGIN:VEVENT
DTSTART;TZID=America/Chicago:20250407T180000
DTEND;TZID=America/Chicago:20250407T200000
DTSTAMP:20260422T144205
CREATED:20250304T213134Z
LAST-MODIFIED:20250401T215720Z
UID:10022458-1744048800-1744056000@gslcwi.com
SUMMARY:Girl Scouts
DESCRIPTION:Katy Kosobucki kbreidenbach@uwalumni.com
URL:https://gslcwi.com/event/girl-scouts-168/
LOCATION:Verona Room 6
END:VEVENT
BEGIN:VEVENT
DTSTART;TZID=America/Chicago:20250407T180000
DTEND;TZID=America/Chicago:20250407T200000
DTSTAMP:20260422T144205
CREATED:20250304T213135Z
LAST-MODIFIED:20250401T214024Z
UID:10022459-1744048800-1744056000@gslcwi.com
SUMMARY:Webelos Meeting
DESCRIPTION:Nicole Dederich ndederich83@gmail.com
URL:https://gslcwi.com/event/webelos-meeting-14/
LOCATION:Verona Fellowship Hall
END:VEVENT
BEGIN:VEVENT
DTSTART;TZID=America/Chicago:20250407T183000
DTEND;TZID=America/Chicago:20250407T193000
DTSTAMP:20260422T144205
CREATED:20250304T212950Z
LAST-MODIFIED:20250401T214328Z
UID:10022454-1744050600-1744054200@gslcwi.com
SUMMARY:Cub Scouts
DESCRIPTION:Jon Bach\, drjonnyb@yahoo.com
URL:https://gslcwi.com/event/cub-scouts-110/
LOCATION:Verona Room 7
END:VEVENT
BEGIN:VEVENT
DTSTART;TZID=America/Chicago:20250407T183000
DTEND;TZID=America/Chicago:20250407T193000
DTSTAMP:20260422T144205
CREATED:20250318T231858Z
LAST-MODIFIED:20250401T214328Z
UID:10022541-1744050600-1744054200@gslcwi.com
SUMMARY:Creation Keepers Meeting
DESCRIPTION:rthomas@gslcwi.com
URL:https://gslcwi.com/event/creation-keepers-meeting/
LOCATION:Zoom Meeting
END:VEVENT
BEGIN:VEVENT
DTSTART;TZID=America/Chicago:20250407T183000
DTEND;TZID=America/Chicago:20250407T200000
DTSTAMP:20260422T144205
CREATED:20250304T212953Z
LAST-MODIFIED:20250401T214329Z
UID:10022457-1744050600-1744056000@gslcwi.com
SUMMARY:Bible study group
DESCRIPTION:Brent / Nancy erinan@chorus.net\n________________________________________________________________________________\nMicrosoft Teams Need help?\nJoin the meeting now\nMeeting ID: 233 109 452 08\nPasscode: hm72cX\n________________________________\nFor organizers: Meeting options\n________________________________________________________________________________
URL:https://gslcwi.com/event/bible-study-group-46/
LOCATION:Verona Family Lounge
END:VEVENT
END:VCALENDAR